Workbook

Sheet Sheet1
A1: สรุปผลการดำเนินการจัดซื้อจัดจ้างในรอบเดือนกุมภาพันธ์ 2566
A2: องค์การบริหารส่วนตำบลฉลอง อำเภอสิชล จังหวัดนครศรีธรรมราช
A3: วันที่ 2 เดือน มีนาคม พ.ศ. 2566
A4: ลำดับ | B4: งานที่จัดซื้อหรือจัดจ้าง | C4: วงเงินที่จะซื้อ | D4: ราคากลาง | E4: วิธีซื้อหรือจ้าง | F4: รายชื่อผู้เสนอราคา | G4: ผู้ได้รับการคัดเลือกและราคาที่ | H4: เหตุผลที่คัดเลือกโดยสรุป | I4: เลขที่และวันที่ของสัญญา
A5: ที่ | F5: และราคาที่เสนอ | G5: ตกลงซื้อหรือจ้าง | I5: หรือข้อตกลงในการซื้อ
C6: หรือจ้าง | I6: หรือจ้าง
A7: 1 | B7: ซื้อวัสดุเชื้อเพลิงและหล่อลื่น สำหรับรถบรรทุก 6 ล้อ หมายเลข | C7: 1800 | D7: 1800 | E7: เฉพาะเจาะจง | F7: อนันชัยสิชลกลการ | G7: =+F7 -> อนันชัยสิชลกลการ | H7: - คุณสมบัติครบถ้วน | I7: ใบสั่งซื้อ เลขที่ CNTR-00056/66
B8: ทะเบียน 82-0578 นศ | F8: 1800 | G8: =+F8 -> 1800 | H8: - เสนอราคาไม่เกินวงเงิน | I8: ลว. 8 ก.พ. 66
H9: และงบประมาณ
A10: 2 | B10: ซื้อวัสดุก่อสร้าง | C10: 342094.09 | D10: 342094.09 | E10: =+E7 -> เฉพาะเจาะจง | F10: ร้านสองพี่น้องซีแพ็ต | G10: =+F10 -> ร้านสองพี่น้องซีแพ็ต | H10: - คุณสมบัติครบถ้วน | I10: ใบสั่งซื้อ เลขที่ CNTR-00059/66
F11: 342094.09 | G11: =+F11 -> 342094.09 | H11: - เสนอราคาไม่เกินวงเงิน | I11: ลว. 9 ก.พ. 66
H12: และงบประมาณ
A13: 3 | B13: ซื้อวัสดุเชื้อเพลิงและหล่อลื่น สำหรับรถตักหน้า-ขุดหลัง | C13: 3600 | D13: 3600 | E13: เฉพาะเจาะจง | F13: อนันชัยสิชลกลการ | G13: =+F13 -> อนันชัยสิชลกลการ | H13: - คุณสมบัติครบถ้วน | I13: ใบสั่งซื้อ เลขที่ CNTR-00062/66
F14: 3600 | G14: =+F14 -> 3600 | H14: - เสนอราคาไม่เกินวงเงิน | I14: ลว. 21 ก.พ. 66
H15: และงบประมาณ
A16: 4 | B16: ซื้อวัสดุคอมพิวเตอร์ สำนักปลัด จำนวน 4 รายการ | C16: 38000 | D16: 37038 | E16: เฉพาะเจาะจง | F16: ร้านสิชลคอมพิวเตอร์แอนด์เซอร์วิส | G16: =+F16 -> ร้านสิชลคอมพิวเตอร์แอนด์เซอร์วิส | H16: - คุณสมบัติครบถ้วน | I16: ใบสั่งซื้อ เลขที่ CNTR-00071/66
F17: 37038 | G17: =+F17 -> 37038 | H17: - เสนอราคาไม่เกินวงเงิน | I17: ลว. 24 ก.พ. 66
H18: และงบประมาณ
A19: 5 | B19: จ้างตรวจเช็คและซ่อมแซมรถบรรทุกหกล้อ หมายเลขทะเบียน | C19: 2900 | D19: 2900 | E19: เฉพาะเจาะจง | F19: อนันชัยสิชลกลการ | G19: =+F19 -> อนันชัยสิชลกลการ | H19: - คุณสมบัติครบถ้วน | I19: ใบสั่งจ้าง เลขที่ CNTR-00057/66
B20: 82-0578 นครศรีธรรมราช | F20: 2900 | G20: =+F20 -> 2900 | H20: - เสนอราคาไม่เกินวงเงิน | I20: ลว. 8 ก.พ. 66
H21: และงบประมาณ
A22: 6 | B22: จ้างขุดรื้อฝายน้ำล้นและขุดลอกคูระบายน้ำ หมู่ที่ 1 ต.ฉลอง | C22: 89000 | D22: 83300 | E22: เฉพาะเจาะจง | F22: นายธณัฐพงค์ เขียวกุ้ง | G22: =+F22 -> นายธณัฐพงค์ เขียวกุ้ง | H22: - คุณสมบัติครบถ้วน | I22: ใบสั่งจ้าง เลขที่ CNTR-00058/66
F23: 83300 | G23: =+F23 -> 83300 | H23: - เสนอราคาไม่เกินวงเงิน | I23: ลว. 9 ก.พ. 66
H24: และงบประมาณ
A25: 7 | B25: จ้างจัดทำป้ายไวนิลรณรงค์ประชาสัมพันธ์การป้องกันและแก้ไขปัญหา | C25: 500 | D25: 432 | E25: เฉพาะเจาะจง | F25: สิชลโฆษณา | G25: =+F25 -> สิชลโฆษณา | H25: - คุณสมบัติครบถ้วน | I25: ใบสั่งจ้าง เลขที่ CNTR-00061/66
B26: ยาเสพติดและประชาสัมพันธ์ช่องทางการแจ้งเบาะแสเกี่ยวกับปัญหา | F26: 500 | G26: 432 | H26: - เสนอราคาไม่เกินวงเงิน | I26: ลว. 24 ม.ค. 66
B27: ยาเสพติดในพื้นที่ | H27: และงบประมาณ
A28: 8 | B28: จ้างตรวจเช็คและซ่อมแซมรถตักหน้า-ขุดหลัง | C28: 13480 | D28: 13480 | E28: เฉพาะเจาะจง | F28: อนันชัยสิชลกลการ | G28: =+F28 -> อนันชัยสิชลกลการ | H28: - คุณสมบัติครบถ้วน | I28: ใบสั่งจ้าง เลขที่ CNTR-00065/66
F29: 13480 | G29: =+F29 -> 13480 | H29: - เสนอราคาไม่เกินวงเงิน | I29: ลว. 22 ก.พ. 66
H30: และงบประมาณ
A31: 9 | B31: จ้างตรวจเช็ครถยนต์ส่วนกลาง กรณีครบรยะทาง 100,000 กม. | C31: 6000 | D31: 5670 | E31: เฉพาะเจาะจง | F31: ร้านท่าหินการยางและรถยก | G31: =+F31 -> ร้านท่าหินการยางและรถยก | H31: - คุณสมบัติครบถ้วน | I31: ใบสั่งจ้าง เลขที่ CNTR-00070/66
B32: (รหัสครุภัณฑ์ 001-61-0002) | F32: 5670 | G32: =+F32 -> 5670 | H32: - เสนอราคาไม่เกินวงเงิน | I32: ลว. 23 ก.พ. 66
H33: และงบประมาณ
A34: 10 | B34: จ้างตรวจเช็คและซ่อมแซมเครื่องคอมพิวเตอร์ | C34: 2500 | D34: 2500 | E34: เฉพาะเจาะจง | F34: ร้านสิชลคอมพิวเตอร์แอนด์เซอร์วิส | G34: =+F34 -> ร้านสิชลคอมพิวเตอร์แอนด์เซอร์วิส | H34: - คุณสมบัติครบถ้วน | I34: ใบสั่งจ้าง เลขที่ CNTR-00072/66
F35: 2500 | G35: =+F35 -> 2500 | H35: - เสนอราคาไม่เกินวงเงิน | I35: ลว. 24 ก.พ. 66
H36: และงบประมาณ
A37: 11 | B37: จ้างตรวจเช็คและซ่อมแซมเครื่องคอมพิวเตอร์ | C37: 1200 | D37: 1190 | E37: เฉพาะเจาะจง | F37: ร้านสิชลคอมพิวเตอร์แอนด์เซอร์วิส | G37: =+F37 -> ร้านสิชลคอมพิวเตอร์แอนด์เซอร์วิส | H37: - คุณสมบัติครบถ้วน | I37: ใบสั่งจ้าง เลขที่ CNTR-00073/66
F38: 1190 | G38: =+F38 -> 1190 | H38: - เสนอราคาไม่เกินวงเงิน | I38: ลว. 24 ก.พ. 66
H39: และงบประมาณ
A40: 12 | B40: จ้างก่อสร้างโครงการพัฒนาแหล่งท่องเที่ยวน้ำตกในหนานโดย ก่อ | C40: 1990000 | D40: 1508449.8 | E40: ประกวดราคา | F40: หจก.พิเชษฐ์พรพงศ์ก่อสร้าง | G40: =+F40 -> หจก.พิเชษฐ์พรพงศ์ก่อสร้าง | H40: - คุณสมบัติครบถ้วน | I40: สัญญาจ้าง เลขที่ CNTR-00055/66
B41: สร้างถนนคอนกรีตเสริมเหล็กสายนายภักดี-ควนไม้ไผ่ หมู่ที่ 2 | E41: อิเล็กทรอนิกส์ | F41: 1101200 | G41: =+F41 -> 1101200 | H41: - เสนอราคาไม่เกินวงเงิน | I41: ลว. 3 ก.พ. 66
E42: (e-bidding) | H42: และงบประมาณ
F43: หจก.เพชรรุ่งโรจน์โยธการ | G43: =+F43 -> หจก.เพชรรุ่งโรจน์โยธการ
F44: 1740000 | G44: =+F44 -> 1740000
F46: หจก.อภิชัจจ์บริการ | G46: =+F46 -> หจก.อภิชัจจ์บริการ
F47: 1691500 | G47: =+F47 -> 1691500
F49: หจก.ทรัพย์พัฒนาก่อสร้าง | G49: =+F49 -> หจก.ทรัพย์พัฒนาก่อสร้าง
F50: 1790000 | G50: =+F50 -> 1790000
F52: หจก.นครพงษ์ภัณฑ์การโยธา | G52: =+F52 -> หจก.นครพงษ์ภัณฑ์การโยธา
F53: 1450000 | G53: =+F53 -> 1450000
F55: หจก. ณ นครเซอร์วิส 2016 | G55: =+F55 -> หจก. ณ นครเซอร์วิส 2016
F56: 1505000 | G56: =+F56 -> 1505000
F58: หจก. จิตติภัณฑ์ก่อสร้าง | G58: =+F58 -> หจก. จิตติภัณฑ์ก่อสร้าง
F59: 1399999 | G59: =+F59 -> 1399999
F61: บ.วรรณกร ร่วมค้า จำกัด | G61: =+F61 -> บ.วรรณกร ร่วมค้า จำกัด
F62: 1791000 | G62: =+F62 -> 1791000
A64: 13 | B64: จ้างก่อสร้างถนนคอนกรีตเสริมเหล็ก สายซอยสุภาพ ม.4 | C64: 457000 | D64: 458354.96 | E64: เฉพาะเจาะจง | F64: หจก.ซี ดับบลิว เจริญ คอนสทรัคชั่น | G64: =+F64 -> หจก.ซี ดับบลิว เจริญ คอนสทรัคชั่น | H64: - คุณสมบัติครบถ้วน | I64: สัญญาจ้าง เลขที่ CNTR-00063/66
F65: 456000 | G65: =+F65 -> 456000 | H65: - เสนอราคาไม่เกินวงเงิน | I65: ลว. 22 ก.พ. 66
H66: และงบประมาณ
A67: 14 | B67: จ้างก่อสร้างโครงการก่อสร้างถนนคอนกรีตเสริมเหล็ก สายหน้าสนาม | C67: 490000 | D67: 489985 | E67: เฉพาะเจาะจง | F67: หจก.ซี ดับบลิว เจริญ คอนสทรัคชั่น | G67: =+F67 -> หจก.ซี ดับบลิว เจริญ คอนสทรัคชั่น | H67: - คุณสมบัติครบถ้วน | I67: สัญญาจ้าง เลขที่ CNTR-00066/66
B68: วัดพระโอน-บ้านนางสาลีรัตน์ ม.7 | F68: 489000 | G68: =+F68 -> 489000 | H68: - เสนอราคาไม่เกินวงเงิน | I68: ลว. 22 ก.พ. 66
H69: และงบประมาณ
A70: 15 | B70: จ้างก่อสร้างโครงการก่อสร้างถนนคอนกรีตเสริมเหล็ก สายราชปรา | C70: 497000 | D70: 496627.76 | E70: เฉพาะเจาะจง | F70: หจก.ซี ดับบลิว เจริญ คอนสทรัคชั่น | G70: =+F70 -> หจก.ซี ดับบลิว เจริญ คอนสทรัคชั่น | H70: - คุณสมบัติครบถ้วน | I70: สัญญาจ้าง เลขที่ CNTR-00067/66
B71: ศรัย ม.9 | F71: 496000 | G71: =+F71 -> 496000 | H71: - เสนอราคาไม่เกินวงเงิน | I71: ลว. 22 ก.พ. 66
H72: และงบประมาณ
A73: 16 | B73: จ้างก่อสร้างโครงการก่อสร้างถนนคอนกรีตเสริมเหล็ก สายซอยสมใจ - | C73: 467000 | D73: 468376.39 | E73: เฉพาะเจาะจง | F73: หจก.คงแก้ว ธุรกิจ | G73: =+F73 -> หจก.คงแก้ว ธุรกิจ | H73: - คุณสมบัติครบถ้วน | I73: สัญญาจ้าง เลขที่ CNTR-00068/66
B74: ต่อเขต หมู่ 15 ต.ทุ่งปรัง หมู่3 | F74: 466000 | G74: =+F74 -> 466000 | H74: - เสนอราคาไม่เกินวงเงิน | I74: ลว. 23 ก.พ. 66
H75: และงบประมาณ
A76: 17 | B76: จ้างก่อสร้างโครงการก่อสร้างถนนคอนกรีตเสริมเหล็ก สายบ้านนาย | C76: 457000 | D76: 458354.96 | E76: เฉพาะเจาะจง | F76: หจก.คงแก้ว ธุรกิจ | G76: =+F76 -> หจก.คงแก้ว ธุรกิจ | H76: - คุณสมบัติครบถ้วน | I76: สัญญาจ้าง เลขที่ CNTR-00069/66
B77: สถิต-นายหนูเชียร ม.3 | F77: 456000 | G77: =+F77 -> 456000 | H77: - เสนอราคาไม่เกินวงเงิน | I77: ลว. 23 ก.พ. 66
H78: และงบประมาณ
F83: 1595272.1
F84: 2363000

Sheet Sheet2
A1: งบหน้าสรุปผลการพิจารณาการจัดซื้อจัดจ้างขององค์การบริหารส่วนตำบลฉลอง
A2: ประจำเดือนกุมภาพันธ์ 2566
F4: รวมราคาที่พิจารณา | G4: วงเงินต่ำหรือสูง
A5: ลำดับที่ | B5: วิธีการจัดซื้อจัดจ้าง | C5: จำนวนโครงการ | D5: รวมวงเงินที่จัดซื้อจัดจ้าง | E5: รวมราคากลาง | F5: คัดเลือก | G5: กว่าราคากลาง | H5: หมายเหตุ
G6: (+ สูง) (-ต่ำกว่า)
A7: 1 | B7: จัดซื้อโดยวิธีประกาศเชิญชวนทั่วไป | C7: - | D7: - | E7: =+D7 -> - | F7: =+D7 -> - | G7: -
A8: 2 | B8: จัดจ้างโดยวิธีประกาศเชิญชวนทั่วไป | C8: - | D8: - | E8: =+D8 -> - | F8: =+D8 -> - | G8: -
A9: 3 | B9: จัดซื้อโดยวิธีการคัดเลือก | C9: - | D9: - | E9: - | F9: - | G9: -
A10: 4 | B10: จัดจ้างโดยวิธีการคัดเลือก | C10: - | D10: - | E10: - | F10: - | G10: -
A11: 5 | B11: จัดซื้อโดยวิธีเฉพาะเจาะจง | C11: 4 | D11: =+Sheet1!C7+Sheet1!C10+Sheet1!C13+Sheet1!C16 -> 385494.09 | E11: =+Sheet1!D7+Sheet1!D10+Sheet1!D13+Sheet1!D16 -> 384532.09 | F11: =+Sheet1!F8+Sheet1!F11+Sheet1!F14+Sheet1!F17 -> 384532.09 | G11: =+D11-E11 -> 962
A12: 6 | B12: จัดจ้างโดยวิธีเฉพาะเจาะจง | C12: 12 | D12: =+Sheet1!C19+Sheet1!C22+Sheet1!C25+Sheet1!C28+Sheet1!C31+Sheet1!C34+Sheet1!C37+Sheet1!C64+Sheet1!C67+Sheet1!C70+Sheet1!C73+Sheet1!C76 -> 2483580 | E12: =+Sheet1!D19+Sheet1!D22+Sheet1!D25+Sheet1!D28+Sheet1!D31+Sheet1!D34+Sheet1!D37+Sheet1!D64+Sheet1!D67+Sheet1!D70+Sheet1!D73+Sheet1!D76 -> 2481171.1 | F12: =+Sheet1!F20+Sheet1!F23+Sheet1!F26+Sheet1!F29+Sheet1!F32+Sheet1!F35+Sheet1!F38+Sheet1!F65+Sheet1!F68+Sheet1!F71+Sheet1!F74+Sheet1!F77 -> 2472540 | G12: =+D12-E12 -> 2408.93
A13: 7 | B13: จัดซื้อโดยวิธีตลาดอิเล็กทรอนิกส์ | C13: - | D13: - | E13: =+D13 -> - | F13: =+E13 -> - | G13: -
A14: 8 | B14: จัดจ้างโดยวิธีตลาดอิเล็กทรอนิกส์ | C14: - | D14: - | E14: =+D14 -> - | F14: =+E14 -> - | G14: -
A15: 9 | B15: จัดซื้อโดยวิธีประกวดราคาอิเล็กทรอนิกส์ | C15: - | D15: - | E15: - | F15: - | G15: -
A16: 10 | B16: จัดจ้างโดยวิธีประกวดราคาอิเล็กทรอนิกส์ | C16: 1 | D16: =+Sheet1!C40 -> 1990000 | E16: =+Sheet1!D40 -> 1508449.8 | F16: =+Sheet1!F41 -> 1101200 | G16: =+D16-E16 -> 481550.19
B17: ได้นำข้อมูลเกี่ยวกับการจัดซื้อจัดจ้างตามแบบ สขร.๑ ( ประจำเดือนกุมภาพันธ์ 2566)
B18: เผยแพร่ เมื่อวันที่ 2 มีนาคม 2566 โดยวิธีปิดประกาศ และที่เว็บไซต์ www.chalong.go.th
B19: ไม่ได้นำข้อมูลเกี่ยวกับการจัดซื้อจัดจ้างตามแบบ สขร.๑ เผยแพร่ เหตุเพราะ ..........................................................................................
E21: (ลงชื่อ)..................................................ผู้รายงาน
E22: (นางสุมิตรา รักบำรุง)
E23: ปลัดองค์การบริหารส่วนตำบลฉลอง
