Workbook

Sheet Sheet1
A1: สรุปผลการดำเนินการจัดซื้อจัดจ้างในรอบเดือนกันยายน 2568
A2: องค์การบริหารส่วนตำบลฉลอง อำเภอสิชล จังหวัดนครศรีธรรมราช
A3: วันที่ 2 เดือน ตุลาคม พ.ศ. 2568
A4: ลำดับ | B4: งานที่จัดซื้อหรือจัดจ้าง | C4: วงเงินที่จะซื้อ | D4: ราคากลาง | E4: วิธีซื้อหรือจ้าง | F4: รายชื่อผู้เสนอราคา | G4: ผู้ได้รับการคัดเลือกและราคาที่ | H4: เหตุผลที่คัดเลือกโดยสรุป | I4: เลขที่และวันที่ของสัญญา
A5: ที่ | F5: และราคาที่เสนอ | G5: ตกลงซื้อหรือจ้าง | I5: หรือข้อตกลงในการซื้อ
C6: หรือจ้าง | I6: หรือจ้าง
A7: 1 | B7: ซื้อวัสดุสำนักงาน กองช่าง จำนวน 17 รายการ | C7: 11743 | D7: 11743 | E7: เฉพาะเจาะจง | F7: ร้านบูรพาเครื่องเขียน | G7: =+F7 -> ร้านบูรพาเครื่องเขียน | H7: - คุณสมบัติครบถ้วน | I7: ใบสั่งซื้อ เลขที่ CNTR-00157/68
F8: 11743 | G8: =+F8 -> 11743 | H8: - เสนอราคาไม่เกินวงเงิน | I8: ลว. 1 ก.ย.68
H9: และงบประมาณ
A10: 2 | B10: ซื้อวัสดุไฟฟ้า กองช่าง จำนวน 4 รายการ | C10: 24700 | D10: 24700 | E10: =+E7 -> เฉพาะเจาะจง | F10: สิชลการไฟฟ้า | G10: =+F10 -> สิชลการไฟฟ้า | H10: - คุณสมบัติครบถ้วน | I10: ใบสั่งซื้อ เลขที่ CNTR-00158/68
F11: 24700 | G11: =+F11 -> 24700 | H11: - เสนอราคาไม่เกินวงเงิน | I11: ลว. 8 ก.ย. 68
H12: และงบประมาณ
A13: 3 | B13: ซื้อวัสดุไฟฟ้าและวิทยุ สำนักปลัด จำนวน 6 รายการ | C13: 15620 | D13: 15620 | E13: เฉพาะเจาะจง | F13: ร้านบูรพาเครื่องเขียน | G13: =+F13 -> ร้านบูรพาเครื่องเขียน | H13: - คุณสมบัติครบถ้วน | I13: ใบสั๋งซื้อ เลขที่ CNTR-00159/68
F14: 15620 | G14: =+F14 -> 15620 | H14: - เสนอราคาไม่เกินวงเงิน | I14: ลว. 8 ก.ย.68
H15: และงบประมาณ
A16: 4 | B16: ซื้อวัสดุก่อสร้าง กองช่าง จำนวน 2 รายการ | C16: 2295 | D16: 2295 | E16: เฉพาะเจาะจง | F16: สิชลการไฟฟ้า | G16: =+F16 -> สิชลการไฟฟ้า | H16: - คุณสมบัติครบถ้วน | I16: ใบสั่งซื้อ เลขที่ CNTR-00160/68
F17: 2295 | G17: =+F17 -> 2295 | H17: - เสนอราคาไม่เกินวงเงิน | I17: ลว. 9 ก.ย.68
H18: และงบประมาณ
A19: 5 | B19: จ้างซ่อมแซมครุภัณฑ์คอมพิวเตอร์หรืออิเล็กทรอนิกส์ เครื่องคอม | C19: 2080 | D19: 2080 | E19: เฉพาะเจาะจง | F19: ซีคอมแอนด์เซอร์วิส | G19: =+F19 -> ซีคอมแอนด์เซอร์วิส | H19: - คุณสมบัติครบถ้วน | I19: ใบสั่งจ้าง เลขที่ CNTR-00161/68
B20: พิวเตอร์ กองคลัง จำนวน 1 เครื่อง | F20: 2080 | G20: =+F20 -> 2080 | H20: - เสนอราคาไม่เกินวงเงิน | I20: ลว 10 ก.ย. 68
H21: และงบประมาณ
A22: 6 | B22: จ้างรถโดยสารปรับอากาศไม่ประจำทาง จำนวน 1 คัน สำหรับโครง | C22: 45000 | D22: 45000 | E22: เฉพาะเจาะจง | F22: ห้างหุ้นส่วนจำกัด โจ สีนวล กรุ๊ป | G22: =+F22 -> ห้างหุ้นส่วนจำกัด โจ สีนวล กรุ๊ป | H22: - คุณสมบัติครบถ้วน | I22: ใบสั่งจ้าง เลขที่ CNTR-00162/68
B23: การเพิ่มประสิทธิภาพบุคลากรของ อบต.ฉลอง ประจำปีงบประมาณ | F23: 45000 | G23: =+F23 -> 45000 | H23: - เสนอราคาไม่เกินวงเงิน | I23: ลว 10 ก.ย.68
B24: พ.ศ.2568 | H24: และงบประมาณ
A25: 7 | B25: ซื้อวัสดุสำนักงาน สำนักปลัด จำนวน 9 รายการ | C25: 13630 | D25: 13630 | E25: เฉพาะเจาะจง | F25: ร้านบูรพาเครื่องเขียน | G25: =+F25 -> ร้านบูรพาเครื่องเขียน | H25: - คุณสมบัติครบถ้วน | I25: ใบสั่งซื้อ เลขที่ CNTR-00163/68
F26: 13630 | G26: =+F26 -> 13630 | H26: - เสนอราคาไม่เกินวงเงิน | I26: ลว 16 ก.ย.68
H27: และงบประมาณ
A28: 8 | B28: ซื้อวัสดุงานบ้านงานครัว สำนักปลัด จำนวน 7 รายการ | C28: 5660 | D28: 5660 | E28: เฉพาะเจาะจง | F28: ร้านบูรพาเครื่องเขียน | G28: =+F28 -> ร้านบูรพาเครื่องเขียน | H28: - คุณสมบัติครบถ้วน | I28: ใบสั่งซื้อ เลขที่ CNTR-00164/68
F29: 5660 | G29: =+F29 -> 5660 | H29: - เสนอราคาไม่เกินวงเงิน | I29: ลว 16 ก.ย.68
H30: และงบประมาณ
A31: 9 | B31: ซื้อวัสดุสำนักงาน กองช่าง จำนวน 1 รายการ | C31: 2160 | D31: 2160 | E31: เฉพาะเจาะจง | F31: ร้านบูรพาเครื่องเขียน | G31: =+F31 -> ร้านบูรพาเครื่องเขียน | H31: - คุณสมบัติครบถ้วน | I31: ใบสั่งซื้อ เลขที่ CNTR-00165/68
F32: 2160 | G32: =+F32 -> 2160 | H32: - เสนอราคาไม่เกินวงเงิน | I32: ลว 16 ก.ย.68
H33: และงบประมาณ
A34: 10 | B34: จ้างซ่อมแซมเก้าอี้สำนักงาน กองคลัง | C34: 1400 | D34: 1400 | E34: เฉพาะเจาะจง | F34: บริษัท เมเจอร์ เฟอร์นิเจอร์ มอลล์ (2012) จำกัด | G34: =+F34 -> บริษัท เมเจอร์ เฟอร์นิเจอร์ มอลล์ (2012) จำกัด | H34: - คุณสมบัติครบถ้วน | I34: ใบสั่งจ้าง เลขที่ CNTR-00166/68
F35: 1400 | G35: =+F35 -> 1400 | H35: - เสนอราคาไม่เกินวงเงิน | I35: ลว 16 ก.ย.68
H36: และงบประมาณ
A37: 11 | B37: จ้างตรวจเช็คและซ่อมแซม/บำรุงรักษา รถตักหน้า - ขุดหลัง | C37: 3800 | D37: 3800 | E37: เฉพาะเจาะจง | F37: นายสำเริง เต็งทอง | G37: =+F37 -> นายสำเริง เต็งทอง | H37: - คุณสมบัติครบถ้วน | I37: ใบสั่งจ้าง เลขที่ CNTR-00167/68
B38: หมายเลขทะเบียน ตค 1867 นครศรีธรรมราช | F38: 3800 | G38: =+F38 -> 3800 | H38: - เสนอราคาไม่เกินวงเงิน | I38: ลว 17 ก.ย.68
H39: และงบประมาณ
A40: 12 | B40: จ้างโครงการก่อสร้างถนนคอนกรีตเสริมเหล็กสาสยนายเนื่อง | C40: 80000 | D40: 80401.78 | E40: เฉพาะเจาะจง | F40: ห้างหุ้นส่วนจำกัด คงแก้ว ธุรกิจ | G40: =+F40 -> ห้างหุ้นส่วนจำกัด คงแก้ว ธุรกิจ | H40: - คุณสมบัติครบถ้วน | I40: สัญญาจ้าง เลขที่ CNTR-00168/68
...

Sheet Sheet2
A1: งบหน้าสรุปผลการพิจารณาการจัดซื้อจัดจ้างขององค์การบริหารส่วนตำบลฉลอง
A2: ประจำเดือนกันยายน 2568
F4: รวมราคาที่พิจารณา | G4: วงเงินต่ำหรือสูง
A5: ลำดับที่ | B5: วิธีการจัดซื้อจัดจ้าง | C5: จำนวนโครงการ | D5: รวมวงเงินที่จัดซื้อจัดจ้าง | E5: รวมราคากลาง | F5: คัดเลือก | G5: กว่าราคากลาง | H5: หมายเหตุ
G6: (+ สูง) (-ต่ำกว่า)
A7: 1 | B7: จัดซื้อโดยวิธีประกาศเชิญชวนทั่วไป | C7: - | D7: - | E7: =+D7 -> - | F7: =+D7 -> - | G7: -
A8: 2 | B8: จัดจ้างโดยวิธีประกาศเชิญชวนทั่วไป | C8: - | D8: - | E8: =+D8 -> - | F8: =+D8 -> - | G8: -
A9: 3 | B9: จัดซื้อโดยวิธีการคัดเลือก | C9: - | D9: - | E9: - | F9: - | G9: -
A10: 4 | B10: จัดจ้างโดยวิธีการคัดเลือก | C10: - | D10: - | E10: - | F10: - | G10: -
A11: 5 | B11: จัดซื้อโดยวิธีเฉพาะเจาะจง | C11: 9 | D11: =+Sheet1!C7+Sheet1!C10+Sheet1!C13+Sheet1!C16+Sheet1!C25+Sheet1!C28+Sheet1!C31+Sheet1!C46+Sheet1!C49 -> 188341.55 | E11: =+Sheet1!D7+Sheet1!D10+Sheet1!D13+Sheet1!D16+Sheet1!D25+Sheet1!D28+Sheet1!D31+Sheet1!D46+Sheet1!D49 -> 188341.55 | F11: =+Sheet1!G8+Sheet1!G11+Sheet1!G14+Sheet1!G17+Sheet1!G26+Sheet1!G29+Sheet1!G32+Sheet1!G47+Sheet1!G50 -> 188341.55 | G11: =+D11-E11 -> 0
A12: 6 | B12: จัดจ้างโดยวิธีเฉพาะเจาะจง | C12: 12 | D12: =+Sheet1!C19+Sheet1!C22+Sheet1!C34+Sheet1!C37+Sheet1!C40+Sheet1!C43+Sheet1!C52+Sheet1!C55+Sheet1!C58+Sheet1!C61+Sheet1!C64+Sheet1!C67 -> 2043910 | E12: =+Sheet1!D19+Sheet1!D22+Sheet1!D34+Sheet1!D37+Sheet1!D40+Sheet1!D43+Sheet1!D52+Sheet1!D55+Sheet1!D58+Sheet1!D61+Sheet1!D64+Sheet1!D67 -> 2052939 | F12: =+Sheet1!G20+Sheet1!G23+Sheet1!G35+Sheet1!G38+Sheet1!G41+Sheet1!G44+Sheet1!G53+Sheet1!G56+Sheet1!G59+Sheet1!G62+Sheet1!G65+Sheet1!G68 -> 2038410 | G12: =+D12-E12 -> -9028.96
A13: 7 | B13: จัดซื้อโดยวิธีตลาดอิเล็กทรอนิกส์ | C13: - | D13: - | E13: =+D13 -> - | F13: =+E13 -> - | G13: -
A14: 8 | B14: จัดจ้างโดยวิธีตลาดอิเล็กทรอนิกส์ | C14: - | D14: - | E14: =+D14 -> - | F14: =+E14 -> - | G14: -
A15: 9 | B15: จัดซื้อโดยวิธีประกวดราคาอิเล็กทรอนิกส์ | C15: - | D15: - | E15: - | F15: - | G15: -
A16: 10 | B16: จัดจ้างโดยวิธีประกวดราคาอิเล็กทรอนิกส์ | C16: - | D16: - | E16: - | F16: - | G16: -
B17: ได้นำข้อมูลเกี่ยวกับการจัดซื้อจัดจ้างตามแบบ สขร.๑ ( ประจำเดือนกันยายน 2568)
B18: เผยแพร่ เมื่อวันที่ 2 ตุลาคม 2568 โดยวิธีปิดประกาศ และที่เว็บไซต์ www.chalong.go.th
B19: ไม่ได้นำข้อมูลเกี่ยวกับการจัดซื้อจัดจ้างตามแบบ สขร.๑ เผยแพร่ เหตุเพราะ ..........................................................................................
E21: (ลงชื่อ)..................................................ผู้รายงาน
E22: (นางสุมิตรา รักบำรุง)
E23: ปลัดองค์การบริหารส่วนตำบลฉลอง
