Workbook

Sheet Sheet1
A1: สรุปผลการดำเนินการจัดซื้อจัดจ้างในรอบเดือนสิงหาคม 2568
A2: องค์การบริหารส่วนตำบลฉลอง อำเภอสิชล จังหวัดนครศรีธรรมราช
A3: วันที่ 2 เดือน กันยายน พ.ศ. 2568
A4: ลำดับ | B4: งานที่จัดซื้อหรือจัดจ้าง | C4: วงเงินที่จะซื้อ | D4: ราคากลาง | E4: วิธีซื้อหรือจ้าง | F4: รายชื่อผู้เสนอราคา | G4: ผู้ได้รับการคัดเลือกและราคาที่ | H4: เหตุผลที่คัดเลือกโดยสรุป | I4: เลขที่และวันที่ของสัญญา
A5: ที่ | F5: และราคาที่เสนอ | G5: ตกลงซื้อหรือจ้าง | I5: หรือข้อตกลงในการซื้อ
C6: หรือจ้าง | I6: หรือจ้าง
A7: 1 | B7: จ้างโครงการก่อสร้างคูส่งน้ำหรือวางท่อระบายน้ำภายในหมู่บ้าน | C7: 499000 | D7: 508116.47 | E7: เฉพาะเจาะจง | F7: ห้างหุ้นส่วนจำกัด คงแก้ว ธุรกิจ | G7: =+F7 -> ห้างหุ้นส่วนจำกัด คงแก้ว ธุรกิจ | H7: - คุณสมบัติครบถ้วน | I7: สัญญาจ้าง เลขที่ CNTR-00138/68
B8: หมู่ที่ 3 ตำบลฉลอง | F8: 498500 | G8: =+F8 -> 498500 | H8: - เสนอราคาไม่เกินวงเงิน | I8: ลว. 5 ส.ค.68
H9: และงบประมาณ
A10: 2 | B10: ซื้อวัสดุสำนักงาน สำนักปลัด จำนวน 11 รายการ | C10: 17013 | D10: 17013 | E10: =+E7 -> เฉพาะเจาะจง | F10: ร้านบูรพาเครื่องเขียน | G10: =+F10 -> ร้านบูรพาเครื่องเขียน | H10: - คุณสมบัติครบถ้วน | I10: ใบสั่งซื้อ เลขที่ CNTR-00139/68
F11: 17013 | G11: =+F11 -> 17013 | H11: - เสนอราคาไม่เกินวงเงิน | I11: ลว. 6 ส.ค. 68
H12: และงบประมาณ
A13: 3 | B13: ซื้อวัสดุไฟฟ้าและวิทยุ สำนักปลัด จำนวน 2 รายการ | C13: 4080 | D13: 4080 | E13: เฉพาะเจาะจง | F13: ร้านบูรพาเครื่องเขียน | G13: =+F13 -> ร้านบูรพาเครื่องเขียน | H13: - คุณสมบัติครบถ้วน | I13: ใบสั๋งซื้อ เลขที่ CNTR-00140/68
F14: 4080 | G14: =+F14 -> 4080 | H14: - เสนอราคาไม่เกินวงเงิน | I14: ลว. 6 ส.ค.68
H15: และงบประมาณ
A16: 4 | B16: จ้างโครงการก่อสร้างถนนคอนกรีตเสริมเหล็กสายบ้านป้าทุด - นาง | C16: 345000 | D16: 343799.99 | E16: เฉพาะเจาะจง | F16: ห้างหุ้นส่วนจำกัด ธงชัยทีทีการโยธา | G16: =+F16 -> ห้างหุ้นส่วนจำกัด ธงชัยทีทีการโยธา | H16: - คุณสมบัติครบถ้วน | I16: สัญญาจ้าง เลขที่ CNTR-00141/68
B17: คล่อง หมู่ที่ 7 ตำบลฉลอง | F17: 342000 | G17: =+F17 -> 342000 | H17: - เสนอราคาไม่เกินวงเงิน | I17: ลว. 7 ส.ค.68
H18: และงบประมาณ
A19: 5 | B19: จ้างโครงการซ๋อมสร้างผิวจราจรแอสฟัลท์ติกคอนกรีตสายวัดสระ - | C19: 440000 | D19: 517178.77 | E19: เฉพาะเจาะจง | F19: ห้างหุ้นส่วนจำกัด จิระวัฒน์การโยธา | G19: =+F19 -> ห้างหุ้นส่วนจำกัด จิระวัฒน์การโยธา | H19: - คุณสมบัติครบถ้วน | I19: สัญญาจ้าง เลขที่ CNTR-00142/68
B20: ต้นเหรียง หมู่ที่ 9 ตำบลฉลอง | F20: 439500 | G20: =+F20 -> 439500 | H20: - เสนอราคาไม่เกินวงเงิน | I20: ลว 13 ส.ค. 68
H21: และงบประมาณ
A22: 6 | B22: จ้างถ่ายเอกสาร,เย็บเล่ม (ร่าง) ข้อบัญญํติงบประมาณรายจ่าย | C22: 4283 | D22: 4283 | E22: เฉพาะเจาะจง | F22: สิชล ก๊อปปี้ | G22: =+F22 -> สิชล ก๊อปปี้ | H22: - คุณสมบัติครบถ้วน | I22: ใบสั่งจ้าง เลขที่ CNTR-00143/68
B23: ประจำปีงบประมาณ พ.ศ. ๒๕๖๙ และแบบประมาณราคาก่อสร้าง | F23: 4283 | G23: =+F23 -> 4283 | H23: - เสนอราคาไม่เกินวงเงิน | I23: ลว 14 ส.ค.68
H24: และงบประมาณ
A25: 7 | B25: ซื้อวัสดุคอมพิวเตอร์ สำนักปลัด (ศพด.อบต.ฉลอง) จำนวน 4 | C25: 11850 | D25: 11850 | E25: เฉพาะเจาะจง | F25: ร้านสิชลคอมพิวเตอร์ | G25: =+F25 -> ร้านสิชลคอมพิวเตอร์ | H25: - คุณสมบัติครบถ้วน | I25: ใบสั่งซื้อ เลขที่ CNTR-00144/68
B26: รายการ | F26: 11850 | G26: =+F26 -> 11850 | H26: - เสนอราคาไม่เกินวงเงิน | I26: ลว 15 ส.ค.68
H27: และงบประมาณ
A28: 8 | B28: จ้างตรวจเช็คและซ่อมแซม ครุภัณฑ์รถบรรทุกหกล้อ หมายเลขทะ | C28: 510 | D28: 510 | E28: เฉพาะเจาะจง | F28: ร้านพรจักรไดนาโม | G28: =+F28 -> ร้านพรจักรไดนาโม | H28: - คุณสมบัติครบถ้วน | I28: ใบสั่งจ้าง เลขที่ CNTR-00145/68
B29: เบียน 82-0578 นครศรีธรรมราช | F29: 510 | G29: =+F29 -> 510 | H29: - เสนอราคาไม่เกินวงเงิน | I29: ลว 15 ส.ค.68
H30: และงบประมาณ
A31: 9 | B31: ซื้อวัสดุคอมพิวเตอร์ (หมึกคอมพิวเตอร์) สำนักปลัด จำนวน 3 | C31: 19290 | D31: 19290 | E31: เฉพาะเจาะจง | F31: ซีคอมแอนด์เซอร์วิส | G31: =+F31 -> ซีคอมแอนด์เซอร์วิส | H31: - คุณสมบัติครบถ้วน | I31: ใบสั่งซื้อ เลขที่ CNTR-00146/68
B32: รายการ | F32: 19290 | G32: =+F32 -> 19290 | H32: - เสนอราคาไม่เกินวงเงิน | I32: ลว 19 ส.ค.68
H33: และงบประมาณ
A34: 10 | B34: ซื้อวัสดุคอมพิวเตอร์ กองคลัง จำนวน 6 รายการ | C34: 58880 | D34: 58880 | E34: เฉพาะเจาะจง | F34: ซีคอมแอนด์เซอร์วิส | G34: =+F34 -> ซีคอมแอนด์เซอร์วิส | H34: - คุณสมบัติครบถ้วน | I34: ใบสั่งซื้อ เลขที่ CNTR-00147/68
F35: 58880 | G35: =+F35 -> 58880 | H35: - เสนอราคาไม่เกินวงเงิน | I35: ลว 19 ส.ค.68
H36: และงบประมาณ
A37: 11 | B37: ซื้อวัสดุคอมพิวเตอร์ กองคลัง จำนวน 1 รายการ | C37: 390 | D37: 390 | E37: เฉพาะเจาะจง | F37: ร้านสิชลคอมพิวเตอร์ | G37: =+F37 -> ร้านสิชลคอมพิวเตอร์ | H37: - คุณสมบัติครบถ้วน | I37: ใบสั่งซื้อ เลขที่ CNTR-00148/68
F38: 390 | G38: =+F38 -> 390 | H38: - เสนอราคาไม่เกินวงเงิน | I38: ลว 19 ส.ค.68
B39: 68089306611 | F39: 3801400664958 | G39: 19 ส.ค.68-26 ส.ค.68 | H39: และงบประมาณ
A40: 12 | B40: ประกวดราคาจ้างกอ่สร้างโครงการพัฒนาแหล่งท่องเที่ยวน้ำตก | C40: 1034000 | D40: 1062037.7 | E40: เฉพาะเจาะจง | F40: ห้างหุ้นส่วนจำกัด สกุลวงศ์ คอมเมอร์เชียล | G40: =+F40 -> ห้างหุ้นส่วนจำกัด สกุลวงศ์ คอมเมอร์เชียล | H40: - คุณสมบัติครบถ้วน | I40: สัญญาจ้าง เลขที่ CNTR-00149/68
...

Sheet Sheet2
A1: งบหน้าสรุปผลการพิจารณาการจัดซื้อจัดจ้างขององค์การบริหารส่วนตำบลฉลอง
A2: ประจำเดือนสิงหาคม 2568
F4: รวมราคาที่พิจารณา | G4: วงเงินต่ำหรือสูง
A5: ลำดับที่ | B5: วิธีการจัดซื้อจัดจ้าง | C5: จำนวนโครงการ | D5: รวมวงเงินที่จัดซื้อจัดจ้าง | E5: รวมราคากลาง | F5: คัดเลือก | G5: กว่าราคากลาง | H5: หมายเหตุ
G6: (+ สูง) (-ต่ำกว่า)
A7: 1 | B7: จัดซื้อโดยวิธีประกาศเชิญชวนทั่วไป | C7: - | D7: - | E7: =+D7 -> - | F7: =+D7 -> - | G7: -
A8: 2 | B8: จัดจ้างโดยวิธีประกาศเชิญชวนทั่วไป | C8: - | D8: - | E8: =+D8 -> - | F8: =+D8 -> - | G8: -
A9: 3 | B9: จัดซื้อโดยวิธีการคัดเลือก | C9: - | D9: - | E9: - | F9: - | G9: -
A10: 4 | B10: จัดจ้างโดยวิธีการคัดเลือก | C10: - | D10: - | E10: - | F10: - | G10: -
A11: 5 | B11: จัดซื้อโดยวิธีเฉพาะเจาะจง | C11: 11 | D11: =+Sheet1!C10+Sheet1!C13+Sheet1!C25+Sheet1!C31+Sheet1!C34+Sheet1!C37+Sheet1!C97+Sheet1!C106+Sheet1!C109+Sheet1!C112+Sheet1!C115 -> 168116 | E11: =+Sheet1!D10+Sheet1!D13+Sheet1!D25+Sheet1!D31+Sheet1!D34+Sheet1!D37+Sheet1!D97+Sheet1!D106+Sheet1!D109+Sheet1!D112+Sheet1!D115 -> 168116 | F11: =+Sheet1!G11+Sheet1!G14+Sheet1!G26+Sheet1!G32+Sheet1!G35+Sheet1!G38+Sheet1!G98+Sheet1!G107+Sheet1!G110+Sheet1!G113+Sheet1!G116 -> 168116 | G11: -
A12: 6 | B12: จัดจ้างโดยวิธีเฉพาะเจาะจง | C12: 7 | D12: =+Sheet1!C7+Sheet1!C16+Sheet1!C19+Sheet1!C22+Sheet1!C28+Sheet1!C100+Sheet1!C103 -> 1298883 | E12: =+Sheet1!D7+Sheet1!D16+Sheet1!D19+Sheet1!D22+Sheet1!D28+Sheet1!D100+Sheet1!D103 -> 1383978.2 | F12: =+Sheet1!G8+Sheet1!G17+Sheet1!G20+Sheet1!G23+Sheet1!G29+Sheet1!G101+Sheet1!G104 -> 1294883 | G12: =+D12-E12 -> -85095.23
A13: 7 | B13: จัดซื้อโดยวิธีตลาดอิเล็กทรอนิกส์ | C13: - | D13: - | E13: =+D13 -> - | F13: =+E13 -> - | G13: -
A14: 8 | B14: จัดจ้างโดยวิธีตลาดอิเล็กทรอนิกส์ | C14: - | D14: - | E14: =+D14 -> - | F14: =+E14 -> - | G14: -
A15: 9 | B15: จัดซื้อโดยวิธีประกวดราคาอิเล็กทรอนิกส์ | C15: - | D15: - | E15: - | F15: - | G15: -
A16: 10 | B16: จัดจ้างโดยวิธีประกวดราคาอิเล็กทรอนิกส์ | C16: 1 | D16: 1034000 | E16: 1062037.7 | F16: 1061037 | G16: =+D16-E16 -> -28037.69
B17: ได้นำข้อมูลเกี่ยวกับการจัดซื้อจัดจ้างตามแบบ สขร.๑ ( ประจำเดือนสิงหาคม 2568)
B18: เผยแพร่ เมื่อวันที่ 2 กันยายน 2568 โดยวิธีปิดประกาศ และที่เว็บไซต์ www.chalong.go.th
B19: ไม่ได้นำข้อมูลเกี่ยวกับการจัดซื้อจัดจ้างตามแบบ สขร.๑ เผยแพร่ เหตุเพราะ ..........................................................................................
E21: (ลงชื่อ)..................................................ผู้รายงาน
E22: (นางสุมิตรา รักบำรุง)
E23: ปลัดองค์การบริหารส่วนตำบลฉลอง
