Workbook

Sheet Sheet1
A1: สรุปผลการดำเนินการจัดซื้อจัดจ้างในรอบเดือนมกราคม 2568
A2: องค์การบริหารส่วนตำบลฉลอง อำเภอสิชล จังหวัดนครศรีธรรมราช
A3: วันที่ 4 เดือน กุมภาพันธ์ พ.ศ. 2568
A4: ลำดับ | B4: งานที่จัดซื้อหรือจัดจ้าง | C4: วงเงินที่จะซื้อ | D4: ราคากลาง | E4: วิธีซื้อหรือจ้าง | F4: รายชื่อผู้เสนอราคา | G4: ผู้ได้รับการคัดเลือกและราคาที่ | H4: เหตุผลที่คัดเลือกโดยสรุป | I4: เลขที่และวันที่ของสัญญา
A5: ที่ | F5: และราคาที่เสนอ | G5: ตกลงซื้อหรือจ้าง | I5: หรือข้อตกลงในการซื้อ
C6: หรือจ้าง | I6: หรือจ้าง
A7: 1 | B7: เช่าวัสดุอุปกรณ์ที่จำเป็นในการจัดงาน (เต็นท์ โต๊ะ เก้าอี้ เวทีและ | C7: 55000 | D7: 55000 | E7: เฉพาะเจาะจง | F7: นายเชาวลิต เศษเพชร | G7: =+F7 -> นายเชาวลิต เศษเพชร | H7: - คุณสมบัติครบถ้วน | I7: ใบสั่งจ้าง เลขที่ CNTR-00044/68
B8: เครื่องเสียง) สำหรับโครงการส่งเสริมการศึกษา กิจกรรมพัฒนาการ | F8: 55000 | G8: =+F8 -> 55000 | H8: - เสนอราคาไม่เกินวงเงิน | I8: ลว 6 ม.ค. 68
B9: เรียนรู้ของเด็กและเยาวชน ประจำปี พ.ศ. 2568
H10: และงบประมาณ
A11: 2 | B11: ซื้อวัสดุและอุปกรณ์สำหรับทำกิจกรรมโครงการส่งเสริมการศึกษา | C11: 19865 | D11: 19865 | E11: เฉพาะเจาะจง | F11: ร้านบูรพาเครื่องเชียน | G11: =+F11 -> ร้านบูรพาเครื่องเชียน | H11: - คุณสมบัติครบถ้วน | I11: ใบสั่งซื้อ เลขที่ CNTR-00045/68
B12: กิจกรรมพัฒนาการเรียนรู้ของเด็กและเยาวชน (ค่าใช้จ่ายอื่น ๆ | F12: 19865 | G12: =+F12 -> 19865 | H12: - เสนอราคาไม่เกินวงเงิน | I12: ลว. 6 ม.ค. 68
B13: ที่จำเป็นและเกี่ยวข้องในการจัดงาน)
H14: และงบประมาณ
A15: 3 | B15: ซื้อวัสดุสำนักงาน (ดอกไม้ประดิษฐ์สำหรับการจัดดอกไม้) | C15: 6208 | D15: 6208 | E15: เฉพาะเจาะจง | F15: ร้านบูรพาเครื่องเชียน | G15: =+F15 -> ร้านบูรพาเครื่องเชียน | H15: - คุณสมบัติครบถ้วน | I15: ใบสั่งซื้อ เลขที่ CNTR-00046/68
B16: จำนวน 35 รายการ | F16: 6208 | G16: =+F16 -> 6208 | H16: - เสนอราคาไม่เกินวงเงิน | I16: ลว. 7 ม.ค. 68
H17: และงบประมาณ
A18: 4 | B18: จ้างเหมาประชาสัมพันธ์ตามโครงการจัดงานประเพณีให้ทานไฟ | C18: 14352 | D18: 14352 | E18: เฉพาะเจาะจง | F18: สิชลโฆษณา | G18: =+F18 -> สิชลโฆษณา | H18: - คุณสมบัติครบถ้วน | I18: ใบสั่งจ้าง เลขที่ CNTR-00047/68
B19: ประจำปี 2568 | F19: 14352 | G19: =+F19 -> 14352 | H19: - เสนอราคาไม่เกินวงเงิน | I19: ลว. 16 ม.ค. 68
H20: และงบประมาณ
A21: 5 | B21: จ้างเกี่ยวกับสถานที่ในการดำเนินโครงการจัดงานหประเพณีให้ | C21: 85000 | D21: 85000 | E21: เฉพาะเจาะจง | F21: นายเชาวลิต เศษเพชร | G21: =+F21 -> นายเชาวลิต เศษเพชร | H21: - คุณสมบัติครบถ้วน | I21: ใบสั่งจ้าง เลขที่ CNTR-00048/68
B22: ทานไฟ ประจำปี 2568 | F22: 85000 | G22: =+F22 -> 85000 | H22: - เสนอราคาไม่เกินวงเงิน | I22: ลว. 16 ม.ค. 68
H23: และงบประมาณ
A24: 6 | B24: จ้างตรวจเช็คและซ่อมแซมรถยนต์ส่วนกลาง หมายเลขทะเบียน | C24: 4750 | D24: 4750 | E24: เฉพาะเจาะจง | F24: ร้านพรจักรไดนาโม | G24: =+F24 -> ร้านพรจักรไดนาโม | H24: - คุณสมบัติครบถ้วน | I24: ใบสั่งจ้าง เลขที่ CNTR-00049/68
B25: กล 8661 นศ | F25: 4750 | G25: =+F25 -> 4750 | H25: - เสนอราคาไม่เกินวงเงิน | I25: ลว. 17 ม.ค. 68
H26: และงบประมาณ
A27: 7 | B27: ซื้อวัสดุก่อสร้าง จำนวน 4 รายการ | C27: 330068.25 | D27: 330068.25 | E27: เฉพาะเจาะจง | F27: ห้างหุ้นส่วนจำกัด คงแก้ว ธุรกิจ | G27: =+F27 -> ห้างหุ้นส่วนจำกัด คงแก้ว ธุรกิจ | H27: - คุณสมบัติครบถ้วน | I27: ใบสั่งจ้าง เลขที่ CNTR-00050/68
F28: 329800 | G28: =+F28 -> 329800 | H28: - เสนอราคาไม่เกินวงเงิน | I28: ลว. 17 ม.ค.68
H29: และงบประมาณ
A30: 8 | B30: จ้างโครงการพัฒนาแหล่งท่องเที่ยวน้ำตกหนานเตย โดยก่อสร้าง | C30: 3635000 | D30: 3656487.6 | E30: =+E27 -> เฉพาะเจาะจง | F30: ห้างหุ้นส่วนจำกัด อุ่ยประเสริฐก่อสร้าง | G30: =+F30 -> ห้างหุ้นส่วนจำกัด อุ่ยประเสริฐก่อสร้าง | H30: - คุณสมบัติครบถ้วน | I30: สัญญาจ้าง เลขที่ CNTR-00051/68
B31: ถนนคอนกรีตเสริมเหล็กสายน้ำตกหนานเตย หมู่ที่ 10 | F31: 2599000 | G31: =+F31 -> 2599000 | H31: - เสนอราคาไม่เกินวงเงิน | I31: ลว. 24 ม.ค.68
H32: และงบประมาณ
F33: ห้างหุ้นส่วนจำกัด นคร บุญรัตน์ธุรกิจ
F34: 3150000
A36: 9 | B36: ซื้อวัสดุสำนักงาน กองช่าง จำนวน 15 รายการ | C36: 6427 | D36: 6427 | E36: เฉพาะเจาะจง | F36: ร้านบูรพาเครื่องเชียน | G36: =+F36 -> ร้านบูรพาเครื่องเชียน | H36: - คุณสมบัติครบถ้วน | I36: ใบสั่งซื้อ เลขที่ CNTR-00052/68
F37: 6427 | G37: =+F37 -> 6427 | H37: - เสนอราคาไม่เกินวงเงิน | I37: ลว. 28 ม.ค. 68
H38: และงบประมาณ
A39: 10 | B39: จ้างจัดทำป้ายประชาสัมพันธ์การจัดเก็บภาษี ประจำปี 2568 | C39: 10000 | D39: 10000 | E39: เฉพาะเจาะจง | F39: สุด ภูธร ไวนิล แอนด์ สติกส์เกอร์ | G39: =+F39 -> สุด ภูธร ไวนิล แอนด์ สติกส์เกอร์ | H39: - คุณสมบัติครบถ้วน | I39: ใบสั่งจ้าง เลขที่ CNTR-00053/68
F40: 10000 | G40: =+F40 -> 10000 | H40: - เสนอราคาไม่เกินวงเงิน | I40: ลว. 28 ม.ค. 68
H41: และงบประมาณ
A42: 11 | B42: ซื้อวัสดุคอมพิวเตอร์ จำนวน 2 รายการ | C42: 5700 | D42: 5700 | E42: เฉพาะเจาะจง | F42: สิชลคอมพิวเตอร์ | G42: =+F42 -> สิชลคอมพิวเตอร์ | H42: - คุณสมบัติครบถ้วน | I42: ใบสั่งซื้อ เลขที่ CNTR-00054/68
F43: 5700 | G43: =+F43 -> 5700 | H43: - เสนอราคาไม่เกินวงเงิน | I43: ลว. 28 ม.ค. 68
H44: และงบประมาณ
A45: 12 | B45: ซื้อวัสดุสำนักงาน สำนักปลัด จำนวน 12 รายการ | C45: 17055 | D45: 17055 | E45: เฉพาะเจาะจง | F45: ร้านบูรพาเครื่องเชียน | G45: =+F45 -> ร้านบูรพาเครื่องเชียน | H45: - คุณสมบัติครบถ้วน | I45: ใบสั่งซื้อ เลขที่ CNTR-00055/68
F46: 17055 | G46: =+F46 -> 17055 | H46: - เสนอราคาไม่เกินวงเงิน | I46: ลว. 28 ม.ค. 68
H47: และงบประมาณ

Sheet Sheet2
A1: งบหน้าสรุปผลการพิจารณาการจัดซื้อจัดจ้างขององค์การบริหารส่วนตำบลฉลอง
A2: ประจำเดือนมกราคม 2568
F4: รวมราคาที่พิจารณา | G4: วงเงินต่ำหรือสูง
A5: ลำดับที่ | B5: วิธีการจัดซื้อจัดจ้าง | C5: จำนวนโครงการ | D5: รวมวงเงินที่จัดซื้อจัดจ้าง | E5: รวมราคากลาง | F5: คัดเลือก | G5: กว่าราคากลาง | H5: หมายเหตุ
G6: (+ สูง) (-ต่ำกว่า)
A7: 1 | B7: จัดซื้อโดยวิธีประกาศเชิญชวนทั่วไป | C7: - | D7: - | E7: =+D7 -> - | F7: =+D7 -> - | G7: -
A8: 2 | B8: จัดจ้างโดยวิธีประกาศเชิญชวนทั่วไป | C8: - | D8: - | E8: =+D8 -> - | F8: =+D8 -> - | G8: -
A9: 3 | B9: จัดซื้อโดยวิธีการคัดเลือก | C9: - | D9: - | E9: - | F9: - | G9: -
A10: 4 | B10: จัดจ้างโดยวิธีการคัดเลือก | C10: - | D10: - | E10: - | F10: - | G10: -
A11: 5 | B11: จัดซื้อโดยวิธีเฉพาะเจาะจง | C11: 6 | D11: =+Sheet1!C11+Sheet1!C15+Sheet1!C27+Sheet1!C36+Sheet1!C42+Sheet1!C45 -> 385323.25 | E11: =+Sheet1!D11+Sheet1!D15+Sheet1!D27+Sheet1!D36+Sheet1!D42+Sheet1!D45 -> 385323.25 | F11: =+Sheet1!G12+Sheet1!G16+Sheet1!G28+Sheet1!G37+Sheet1!G43+Sheet1!G46 -> 385055 | G11: =+D11-E11 -> 0
A12: 6 | B12: จัดจ้างโดยวิธีเฉพาะเจาะจง | C12: 5 | D12: =+Sheet1!C7+Sheet1!C18+Sheet1!C21+Sheet1!C24+Sheet1!C39 -> 169102 | E12: =+Sheet1!D7+Sheet1!D18+Sheet1!D21+Sheet1!D24+Sheet1!D39 -> 169102 | F12: =+Sheet1!G8+Sheet1!G19+Sheet1!G22+Sheet1!G25+Sheet1!G40 -> 169102 | G12: =+D12-E12 -> 0
A13: 7 | B13: จัดซื้อโดยวิธีตลาดอิเล็กทรอนิกส์ | C13: - | D13: . | E13: =+D13 -> . | F13: =+E13 -> . | G13: -
A14: 8 | B14: จัดจ้างโดยวิธีตลาดอิเล็กทรอนิกส์ | C14: - | D14: - | E14: =+D14 -> - | F14: =+E14 -> - | G14: -
A15: 9 | B15: จัดซื้อโดยวิธีประกวดราคาอิเล็กทรอนิกส์ | C15: - | D15: - | E15: - | F15: - | G15: -
A16: 10 | B16: จัดจ้างโดยวิธีประกวดราคาอิเล็กทรอนิกส์ | C16: 1 | D16: =+Sheet1!C30 -> 3635000 | E16: =+Sheet1!D30 -> 3656487.6 | F16: =+Sheet1!G31 -> 2599000 | G16: =+D16-E16 -> -21487.64
B17: ได้นำข้อมูลเกี่ยวกับการจัดซื้อจัดจ้างตามแบบ สขร.๑ ( ประจำเดือนมกราคม 2568)
B18: เผยแพร่ เมื่อวันที่ 4 กุมภาพันธ์ 2568 โดยวิธีปิดประกาศ และที่เว็บไซต์ www.chalong.go.th
B19: ไม่ได้นำข้อมูลเกี่ยวกับการจัดซื้อจัดจ้างตามแบบ สขร.๑ เผยแพร่ เหตุเพราะ ..........................................................................................
E21: (ลงชื่อ)..................................................ผู้รายงาน
E22: (นางสุมิตรา รักบำรุง)
E23: ปลัดองค์การบริหารส่วนตำบลฉลอง
