Workbook

Sheet Sheet1
A1: สรุปผลการดำเนินการจัดซื้อจัดจ้างในรอบเดือนพฤศจิกายน 2567
A2: องค์การบริหารส่วนตำบลฉลอง อำเภอสิชล จังหวัดนครศรีธรรมราช
A3: วันที่ 3 เดือน ธันวาคม พ.ศ. 2567
A4: ลำดับ | B4: งานที่จัดซื้อหรือจัดจ้าง | C4: วงเงินที่จะซื้อ | D4: ราคากลาง | E4: วิธีซื้อหรือจ้าง | F4: รายชื่อผู้เสนอราคา | G4: ผู้ได้รับการคัดเลือกและราคาที่ | H4: เหตุผลที่คัดเลือกโดยสรุป | I4: เลขที่และวันที่ของสัญญา
A5: ที่ | F5: และราคาที่เสนอ | G5: ตกลงซื้อหรือจ้าง | I5: หรือข้อตกลงในการซื้อ
C6: หรือจ้าง | I6: หรือจ้าง
A7: 1 | B7: จ้างโครงการขุดเจาบ่อบาดาล หมู่ที่ 5 ตำบลฉลอง | C7: 406000 | D7: 424047.66 | E7: เฉพาะเจาะจง | F7: ห้างหุ้นส่วนจำกัด สิชลการไฟฟ้า 2019 | G7: =+F7 -> ห้างหุ้นส่วนจำกัด สิชลการไฟฟ้า 2019 | H7: - คุณสมบัติครบถ้วน | I7: ใบสั่งจ้าง เลขที่ CNTR-00021/68
F8: 405000 | G8: =+F8 -> 405000 | H8: - เสนอราคาไม่เกินวงเงิน | I8: ลว 5 พ.ย. 67
H9: และงบประมาณ
A10: 2 | B10: ซื้อวัสดุก่อสร้างสำหรับช่วยเหลือประชาชนที่ได้รับความเดือดร้อน | C10: 4000 | D10: 3942 | E10: เฉพาะเจาะจง | F10: หจก.ปิยะภัณฑ์ (ก้าว) | G10: =+F10 -> หจก.ปิยะภัณฑ์ (ก้าว) | H10: - คุณสมบัติครบถ้วน | I10: ใบสั่งซื้อ เลขที่ CNTR-00022/68
B11: จากสาธารณภัย | F11: 3942 | G11: =+F11 -> 3942 | H11: - เสนอราคาไม่เกินวงเงิน | I11: ลว. 7 พ.ย. 67
H12: และงบประมาณ
A13: 3 | B13: จ้างจัดทำป้ายประชาสัมพันธ์โครงการจัดงานประเพณีลอยกระทง | C13: 1350 | D13: 1350 | E13: เฉพาะเจาะจง | F13: สิชลโฆษณา | G13: =+F13 -> สิชลโฆษณา | H13: - คุณสมบัติครบถ้วน | I13: ใบสั่งจ้าง เลขที่ CNTR-00023/68
B14: ประจำปี พ.ศ. 2567 | F14: 1350 | G14: =+F14 -> 1350 | H14: - เสนอราคาไม่เกินวงเงิน | I14: ลว. 7 พ.ย. 67
H15: และงบประมาณ
A16: 4 | B16: จ้างจัดทำป้ายเวทีโครงการจัดงานประเพณีลอยกระทง ประจำปี | C16: 2625 | D16: 2625 | E16: เฉพาะเจาะจง | F16: สิชลโฆษณา | G16: =+F16 -> สิชลโฆษณา | H16: - คุณสมบัติครบถ้วน | I16: ใบสั่งจ้าง เลขที่ CNTR-00024/68
B17: พ.ศ. 2567 | F17: 2625 | G17: =+F17 -> 2625 | H17: - เสนอราคาไม่เกินวงเงิน | I17: ลว. 7 พ.ย. 67
H18: และงบประมาณ
A19: 5 | B19: จ้างเกี่ยวกับสถานที่ในการจัดงานตามโครงการจัดงานประเพณีลอย | C19: 38500 | D19: 38500 | E19: เฉพาะเจาะจง | F19: นายเขษมศักดิ์ จันทรชิต | G19: =+F19 -> นายเขษมศักดิ์ จันทรชิต | H19: - คุณสมบัติครบถ้วน | I19: ใบสั่งจ้าง เลขที่ CNTR-00025/68
B20: กระทง ประจำปี พ.ศ. 2567 | F20: 38500 | G20: =+F20 -> 38500 | H20: - เสนอราคาไม่เกินวงเงิน | I20: ลว. 7 พ.ย. 67
H21: และงบประมาณ
A22: 6 | B22: จ้างเกี่ยวกับสถานที่ในการจัดงานตามโครงการจัดงานประเพณีลอย | C22: 25000 | D22: 25000 | E22: เฉพาะเจาะจง | F22: อั๋น สิชล | G22: =+F22 -> อั๋น สิชล | H22: - คุณสมบัติครบถ้วน | I22: ใบสั่งจ้าง เลขที่ CNTR-00026/68
B23: กระทง ประจำปี พ.ศ. 2567 (เช่าเวทีพร้อมเครื่องเสียง) | F23: 25000 | G23: =+F23 -> 25000 | H23: - เสนอราคาไม่เกินวงเงิน | I23: ลว. 7 พ.ย. 67
H24: และงบประมาณ
A25: 7 | B25: จ้างจัดการแสดงวัฒนธรรมพื้นบ้านรำวงเวียนครกสำหรับโครงการ | C25: 16000 | D25: 16000 | E25: เฉพาะเจาะจง | F25: นายศรุต ทิพย์มงคล | G25: =+F25 -> นายศรุต ทิพย์มงคล | H25: - คุณสมบัติครบถ้วน | I25: ใบสั่งจ้าง เลขที่ CNTR-00027/68
B26: จัดงานประเพณีลอยกระทง ประจำปี พ.ศ. 2567 | F26: 16000 | G26: =+F26 -> 16000 | H26: - เสนอราคาไม่เกินวงเงิน | I26: ลว. 7 พ.ย.67
H27: และงบประมาณ
A28: 8 | B28: จ้างที่ปรึกษาเพื่อปฏิบัติงานวิจัยตามโครงการประเมินความพึงพอใจ | C28: 25000 | D28: 25000 | E28: =+E25 -> เฉพาะเจาะจง | F28: มหาวิทยาลัยทักษิณ | G28: =+F28 -> มหาวิทยาลัยทักษิณ | H28: - คุณสมบัติครบถ้วน | I28: ใบสั่งจ้าง เลขที่ CNTR-00028/68
B29: ของผู้รับบริการที่มีต่อการให้บริการงานบริการสาธารณะขององค์ | F29: 25000 | G29: =+F29 -> 25000 | H29: - เสนอราคาไม่เกินวงเงิน | I29: ลว. 14 พ.ย.67
B30: การบริหารส่วนตำบลฉลอง | H30: และงบประมาณ
A31: 9 | B31: ซื้อวัสดุก่อสร้างสำหรับช่วยเหลือประชาชนที่ได้รับความเดือดร้อน | C31: 4000 | D31: 3990 | E31: เฉพาะเจาะจง | F31: หจก.ปิยะภัณฑ์ (ก้าว) | G31: =+F31 -> หจก.ปิยะภัณฑ์ (ก้าว) | H31: - คุณสมบัติครบถ้วน | I31: ใบสั่งซื้อ เลขที่ CNTR-00029/68
B32: จากสาธารณภัย | F32: 3990 | G32: =+F32 -> 3990 | H32: - เสนอราคาไม่เกินวงเงิน | I32: ลว. 22 พ.ย. 67
H33: และงบประมาณ
A34: 10 | B34: ซื้อวัสดุก่อสร้างสำหรับช่วยเหลือประชาชนที่ได้รับความเดือดร้อน | C34: 7500 | D34: 7171 | E34: เฉพาะเจาะจง | F34: หจก.ปิยะภัณฑ์ (ก้าว) | G34: =+F34 -> หจก.ปิยะภัณฑ์ (ก้าว) | H34: - คุณสมบัติครบถ้วน | I34: ใบสั่งซื้อ เลขที่ CNTR-00030/68
B35: จากสาธารณภัย | F35: 7171 | G35: =+F35 -> 7171 | H35: - เสนอราคาไม่เกินวงเงิน | I35: ลว. 29 พ.ย. 67
H36: และงบประมาณ

Sheet Sheet2
A1: งบหน้าสรุปผลการพิจารณาการจัดซื้อจัดจ้างขององค์การบริหารส่วนตำบลฉลอง
A2: ประจำเดือนพฤศจิกายน 2567
F4: รวมราคาที่พิจารณา | G4: วงเงินต่ำหรือสูง
A5: ลำดับที่ | B5: วิธีการจัดซื้อจัดจ้าง | C5: จำนวนโครงการ | D5: รวมวงเงินที่จัดซื้อจัดจ้าง | E5: รวมราคากลาง | F5: คัดเลือก | G5: กว่าราคากลาง | H5: หมายเหตุ
G6: (+ สูง) (-ต่ำกว่า)
A7: 1 | B7: จัดซื้อโดยวิธีประกาศเชิญชวนทั่วไป | C7: - | D7: - | E7: =+D7 -> - | F7: =+D7 -> - | G7: -
A8: 2 | B8: จัดจ้างโดยวิธีประกาศเชิญชวนทั่วไป | C8: - | D8: - | E8: =+D8 -> - | F8: =+D8 -> - | G8: -
A9: 3 | B9: จัดซื้อโดยวิธีการคัดเลือก | C9: - | D9: - | E9: - | F9: - | G9: -
A10: 4 | B10: จัดจ้างโดยวิธีการคัดเลือก | C10: - | D10: - | E10: - | F10: - | G10: -
A11: 5 | B11: จัดซื้อโดยวิธีเฉพาะเจาะจง | C11: 3 | D11: =+Sheet1!C10+Sheet1!C31+7500 -> 15500 | E11: =+Sheet1!D10+Sheet1!D31+7171 -> 15103 | F11: =+Sheet1!G11+Sheet1!G32+7171 -> 15103 | G11: =+D11-E11 -> 397
A12: 6 | B12: จัดจ้างโดยวิธีเฉพาะเจาะจง | C12: 7 | D12: =+Sheet1!C7+Sheet1!C13+Sheet1!C16+Sheet1!C19+Sheet1!C22+Sheet1!C25+Sheet1!C28 -> 514475 | E12: =+Sheet1!D7+Sheet1!D13+Sheet1!D16+Sheet1!D19+Sheet1!D22+Sheet1!D25+Sheet1!D28 -> 532522.66 | F12: =+Sheet1!G8+Sheet1!G14+Sheet1!G17+Sheet1!G20+Sheet1!G23+Sheet1!G26+Sheet1!G29 -> 513475 | G12: =+D12-E12 -> -18047.66
A13: 7 | B13: จัดซื้อโดยวิธีตลาดอิเล็กทรอนิกส์ | C13: - | D13: . | E13: =+D13 -> . | F13: =+E13 -> . | G13: -
A14: 8 | B14: จัดจ้างโดยวิธีตลาดอิเล็กทรอนิกส์ | C14: - | D14: - | E14: =+D14 -> - | F14: =+E14 -> - | G14: -
A15: 9 | B15: จัดซื้อโดยวิธีประกวดราคาอิเล็กทรอนิกส์ | C15: - | D15: - | E15: - | F15: - | G15: -
A16: 10 | B16: จัดจ้างโดยวิธีประกวดราคาอิเล็กทรอนิกส์ | C16: - | D16: - | E16: - | F16: - | G16: -
B17: ได้นำข้อมูลเกี่ยวกับการจัดซื้อจัดจ้างตามแบบ สขร.๑ ( ประจำเดือนพฤศจิกายน 2567)
B18: เผยแพร่ เมื่อวันที่ 3 ธันวาคม 2567 โดยวิธีปิดประกาศ และที่เว็บไซต์ www.chalong.go.th
B19: ไม่ได้นำข้อมูลเกี่ยวกับการจัดซื้อจัดจ้างตามแบบ สขร.๑ เผยแพร่ เหตุเพราะ ..........................................................................................
E21: (ลงชื่อ)..................................................ผู้รายงาน
E22: (นางสุมิตรา รักบำรุง)
E23: ปลัดองค์การบริหารส่วนตำบลฉลอง
