Workbook

Sheet Sheet1
A1: สรุปผลการดำเนินการจัดซื้อจัดจ้างในรอบเดือนมกราคม 2569
A2: องค์การบริหารส่วนตำบลฉลอง อำเภอสิชล จังหวัดนครศรีธรรมราช
A3: วันที่ 2 เดือน กุมภาพันธ์ พ.ศ. 2569
A4: ลำดับ | B4: งานที่จัดซื้อหรือจัดจ้าง | C4: วงเงินที่จะซื้อ | D4: ราคากลาง | E4: วิธีซื้อหรือจ้าง | F4: รายชื่อผู้เสนอราคา | G4: ผู้ได้รับการคัดเลือกและราคาที่ | H4: เหตุผลที่คัดเลือกโดยสรุป | I4: เลขที่และวันที่ของสัญญา
A5: ที่ | F5: และราคาที่เสนอ | G5: ตกลงซื้อหรือจ้าง | I5: หรือข้อตกลงในการซื้อ
C6: หรือจ้าง | I6: หรือจ้าง
A7: 1 | B7: จ้างตรวจเช็คและซ่อมแซม ครุภัณฑ์เครื่องปรับอากาศ รหัสครุภัณฑ์ | C7: 500 | D7: 500 | E7: เฉพาะเจาะจง | F7: สัมฤทธิ์ สิชลแอร์ แอ่น เซอร์วิส | G7: =+F7 -> สัมฤทธิ์ สิชลแอร์ แอ่น เซอร์วิส | H7: - คุณสมบัติครบถ้วน | I7: ใบสั่งจ้าง เลขที่ CNTR-00054/69
B8: 420-63-0008 กองช่าง | F8: 500 | G8: =+F8 -> 500 | H8: - เสนอราคาไม่เกินวงเงิน | I8: ลว. 5 ม.ค.69
H9: และงบประมาณ
A10: 2 | B10: จ้างตรวจเช็คและซ่อมแซมเครื่องปรับอากาศในความรับผิดชอบของ | C10: 1500 | D10: 1500 | E10: =+E7 -> เฉพาะเจาะจง | F10: สัมฤทธิ์ สิชลแอร์ แอ่น เซอร์วิส | G10: =+F10 -> สัมฤทธิ์ สิชลแอร์ แอ่น เซอร์วิส | H10: - คุณสมบัติครบถ้วน | I10: ใบสั่งจ้าง เลขที่ CNTR-00055/69
B11: สำนักปลัด | F11: 1500 | G11: =+F11 -> 1500 | H11: - เสนอราคาไม่เกินวงเงิน | I11: ลว. 5 ม.ค. 69
H12: และงบประมาณ
A13: 3 | B13: จ้างติดตั้งไฟฟ้าและแสงสว่างบริเวณศูนย์ประสานงานการเลือกตั้ง | C13: 5000 | D13: 5000 | E13: เฉพาะเจาะจง | F13: นายเชาวลิต เศษเพชร | G13: =+F13 -> นายเชาวลิต เศษเพชร | H13: - คุณสมบัติครบถ้วน | I13: ใบสั๋งจ้าง เลขที่ CNTR-00056/69
B14: อบต.ฉลอง สำหรับการจัดการเลือกตั้งสมาชิกสภาองค์การบริหาร | F14: 5000 | G14: =+F14 -> 5000 | H14: - เสนอราคาไม่เกินวงเงิน | I14: ลว. 5 ม.ค.69
B15: ส่วนตำบลและนายกองค์การบริหารส่วนตำบลฉลอง | H15: และงบประมาณ
A16: 4 | B16: จ้างตรวจเช็คและซ่อมแซมเครื่องพริ้นเตอร์ หมายเลขครุภัณฑ์ | C16: 4390 | D16: 4390 | E16: เฉพาะเจาะจง | F16: ซีคอมแอนด์เซอร์วิส | G16: =+F16 -> ซีคอมแอนด์เซอร์วิส | H16: - คุณสมบัติครบถ้วน | I16: ใบสั่งจ้าง เลขที่ CNTR-00057/69
B17: 479-68-0033 | F17: 4390 | G17: =+F17 -> 4390 | H17: - เสนอราคาไม่เกินวงเงิน | I17: ลว. 5 ม.ค.69
H18: และงบประมาณ
A19: 5 | B19: จ้างก่อสร้างโครงการพัฒนาแหล่งท่องเที่ยวน้ำตกหนานเตย โดยก่อ | C19: 5730000 | D19: 5926719.4 | E19: ประกวดราคา | F19: หจก.จิตติภัณฑ์ ก่อสร้าง | G19: =+F19 -> หจก.จิตติภัณฑ์ ก่อสร้าง | H19: - คุณสมบัติครบถ้วน | I19: สัญญาจ้าง เลขที่ CNTR-00058/69
B20: สร้างถนนคอนกรีตเสริมเหล็ก สายแยกต้นไทร - โรงนายพา | E20: อิเล็กทรอนิกส์ | F20: 5715000 | G20: =+F20 -> 5715000 | H20: - เสนอราคาไม่เกินวงเงิน | I20: ลว 9 ม.ค. 69
B21: (ช่วงที่ 2) หมู่ที่ 2 | E21: (e-bidding) | H21: และงบประมาณ
F22: หจก.ไตรทอง นครศรีฯ
F23: 5730000
F25: หจก.จิตติภัณฑ์ ก่อสร้าง
F26: 5328000
A28: 6 | B28: จ้างโครงการขยายผิวจราจรคอนกรีตเสริมเหล็กสายตลาดศุกร์ - | C28: 372000 | D28: 392546.74 | E28: เฉพาะเจาะจง | F28: หจก.เพชรสว่างเมือง | G28: =+F28 -> หจก.เพชรสว่างเมือง | H28: - คุณสมบัติครบถ้วน | I28: สัญญาจ้าง เลขที่ CNTR-00059/69
B29: นาเส้น หมู่ที่ 5 ตำบลฉลอง | F29: 370000 | G29: =+F29 -> 370000 | H29: - เสนอราคาไม่เกินวงเงิน | I29: ลว 12 ม.ค.69
H30: และงบประมาณ
A31: 7 | B31: จ้างเกี่ยวกับค่าใช้จ่ายเกี่ยวกับสถานที่ในการจัดงานสำหรับโครงการ | C31: 82500 | D31: 82500 | E31: เฉพาะเจาะจง | F31: นายเชาวลิต เศษเพชร | G31: =+F31 -> นายเชาวลิต เศษเพชร | H31: - คุณสมบัติครบถ้วน | I31: ใบสั่งจ้าง เลขที่ CNTR-00060/69
B32: จัดงานประเพณีใช้ทานไฟ ประจำปี 2569 | F32: 82500 | G32: =+F32 -> 82500 | H32: - เสนอราคาไม่เกินวงเงิน | I32: ลว 23 ม.ค.69
H33: และงบประมาณ
A34: 8 | B34: จ้างทำป้ายไวนิลประชาสัมพันธ์ตามโครงการจัดงานประเพณีให้ทาน | C34: 16752 | D34: 16752 | E34: เฉพาะเจาะจง | F34: สิชลโฆษณา | G34: =+F34 -> สิชลโฆษณา | H34: - คุณสมบัติครบถ้วน | I34: ใบสั่งจ้าง เลขที่ CNTR-00061/69
B35: ไฟ ประจำปี 2569 | F35: 16752 | G35: =+F35 -> 16752 | H35: - เสนอราคาไม่เกินวงเงิน | I35: ลว 23 ม.ค.69
H36: และงบประมาณ
A37: 9 | B37: ซื้อวัสดุสำนักงาน สำนักปลัด จำนวน 14 รายการ | C37: 25346 | D37: 25346 | E37: เฉพาะเจาะจง | F37: ร้านบูรพาเครื่องเขียน | G37: =+F37 -> ร้านบูรพาเครื่องเขียน | H37: - คุณสมบัติครบถ้วน | I37: ใบสั่งซื้อ เลขที่ CNTR-00062/69
F38: 25346 | G38: =+F38 -> 25346 | H38: - เสนอราคาไม่เกินวงเงิน | I38: ลว 23 ม.ค.69
H39: และงบประมาณ
A40: 10 | B40: ซื้อวัสดุงานบ้านงานครัว สำนักปลัด จำนวน 3 รายการ | C40: 2640 | D40: 2640 | E40: เฉพาะเจาะจง | F40: ร้านบูรพาเครื่องเขียน | G40: =+F40 -> ร้านบูรพาเครื่องเขียน | H40: - คุณสมบัติครบถ้วน | I40: ใบสั่งซื้อ เลขที่ CNTR-00063/69
F41: 2640 | G41: =+F41 -> 2640 | H41: - เสนอราคาไม่เกินวงเงิน | I41: ลว 23 ม.ค.69
H42: และงบประมาณ
...

Sheet Sheet2
A1: งบหน้าสรุปผลการพิจารณาการจัดซื้อจัดจ้างขององค์การบริหารส่วนตำบลฉลอง
A2: ประจำเดือนมกราคม 2569
F4: รวมราคาที่พิจารณา | G4: วงเงินต่ำหรือสูง
A5: ลำดับที่ | B5: วิธีการจัดซื้อจัดจ้าง | C5: จำนวนโครงการ | D5: รวมวงเงินที่จัดซื้อจัดจ้าง | E5: รวมราคากลาง | F5: คัดเลือก | G5: กว่าราคากลาง | H5: หมายเหตุ
G6: (+ สูง) (-ต่ำกว่า)
A7: 1 | B7: จัดซื้อโดยวิธีประกาศเชิญชวนทั่วไป | C7: - | D7: - | E7: =+D7 -> - | F7: =+D7 -> - | G7: -
A8: 2 | B8: จัดจ้างโดยวิธีประกาศเชิญชวนทั่วไป | C8: - | D8: - | E8: =+D8 -> - | F8: =+D8 -> - | G8: -
A9: 3 | B9: จัดซื้อโดยวิธีการคัดเลือก | C9: - | D9: - | E9: - | F9: - | G9: -
A10: 4 | B10: จัดจ้างโดยวิธีการคัดเลือก | C10: - | D10: - | E10: - | F10: - | G10: -
A11: 5 | B11: จัดซื้อโดยวิธีเฉพาะเจาะจง | C11: 2 | D11: =+Sheet1!C37+Sheet1!C40 -> 27986 | E11: =+Sheet1!D37+Sheet1!D40 -> 27986 | F11: =+Sheet1!G38+Sheet1!G41 -> 27986 | G11: =+D11-E11 -> 0
A12: 6 | B12: จัดจ้างโดยวิธีเฉพาะเจาะจง | C12: 9 | D12: =+Sheet1!C7+Sheet1!C10+Sheet1!C13+Sheet1!C16+Sheet1!C28+Sheet1!C31+Sheet1!C34+Sheet1!C43+Sheet1!C46 -> 485166 | E12: =+Sheet1!D7+Sheet1!D10+Sheet1!D13+Sheet1!D16+Sheet1!D28+Sheet1!D31+Sheet1!D34+Sheet1!D43+Sheet1!D46 -> 505712.74 | F12: =+Sheet1!G8+Sheet1!G11+Sheet1!G14+Sheet1!G17+Sheet1!G29+Sheet1!G32+Sheet1!G35+Sheet1!G44+Sheet1!G47 -> 483166 | G12: =+D12-E12 -> -20546.74
A13: 7 | B13: จัดซื้อโดยวิธีตลาดอิเล็กทรอนิกส์ | C13: - | D13: - | E13: =+D13 -> - | F13: =+E13 -> - | G13: -
A14: 8 | B14: จัดจ้างโดยวิธีตลาดอิเล็กทรอนิกส์ | C14: - | D14: - | E14: =+D14 -> - | F14: =+E14 -> - | G14: -
A15: 9 | B15: จัดซื้อโดยวิธีประกวดราคาอิเล็กทรอนิกส์ | C15: - | D15: - | E15: - | F15: - | G15: -
A16: 10 | B16: จัดจ้างโดยวิธีประกวดราคาอิเล็กทรอนิกส์ | C16: 1 | D16: =+Sheet1!C19 -> 5730000 | E16: =+Sheet1!D19 -> 5926719.4 | F16: =+Sheet1!G20 -> 5715000 | G16: -
B17: ได้นำข้อมูลเกี่ยวกับการจัดซื้อจัดจ้างตามแบบ สขร.๑ ( ประจำเดือนมกราคม 2569)
B18: เผยแพร่ เมื่อวันที่ 2 กุมภาพันธ์ 2569 โดยวิธีปิดประกาศ และที่เว็บไซต์ www.chalong.go.th
B19: ไม่ได้นำข้อมูลเกี่ยวกับการจัดซื้อจัดจ้างตามแบบ สขร.๑ เผยแพร่ เหตุเพราะ ..........................................................................................
E21: (ลงชื่อ)..................................................ผู้รายงาน
E22: (นางสุมิตรา รักบำรุง)
E23: ปลัดองค์การบริหารส่วนตำบลฉลอง
