Workbook

Sheet มีนาคม
A1: สรุปผลการดำเนินการจัดซื้อจัดจ้างในรอบเดือนมีนาคม 2562
A2: องค์การบริหารส่วนตำบลฉลอง อำเภอสิชล จังหวัดนครศรีธรรมราช
A3: วันที่ 4 เดือน เมษายน พ.ศ. 2562
A4: ลำดับ | B4: งานที่จัดซื้อหรือจัดจ้าง | C4: วงเงินที่จะซื้อ | D4: ราคากลาง | E4: วิธีซื้อหรือจ้าง | F4: รายชื่อผู้เสนอราคา | G4: ผู้ได้รับการคัดเลือกและราคาที่ | H4: เหตุผลที่คัดเลือกโดยสรุป | I4: เลขที่และวันที่ของสัญญา
A5: ที่ | F5: และราคาที่เสนอ | G5: ตกลงซื้อหรือจ้าง | I5: หรือข้อตกลงในการซื้อ
C6: หรือจ้าง | I6: หรือจ้าง
A7: 1 | B7: จัดซื้อวัสดุน้ำมันเชื้อเพลิงและหล่อลื่น (กองช่าง) | C7: 100000 | D7: 100000 | E7: เฉพาะเจาะจง | F7: บริษัท ซัสโก้ จำกัด (มหาชน) | G7: =+F7 -> บริษัท ซัสโก้ จำกัด (มหาชน) | H7: - คุณสมบัติครบถ้วน | I7: ใบสั่งซื้อ เลขที่ CNTR-0081/62
F8: =+D7 -> 100000 | G8: =+F8 -> 100000 | H8: - เสนอราคาไม่เกินวงเงิน | I8: ลว. 12 มี.ค. 62
H9: และงบประมาณ
A10: 2 | B10: จัดซื้อครุภัณฑ์สำนักงานโซฟาชุดรับแขกพร้อมโต๊ะ | C10: 30000 | D10: 30000 | E10: เฉพาะเจาะจง | F10: ร้านสมชายเฟอร์นิเจอร์เซ็นเตอร์ | G10: =+F10 -> ร้านสมชายเฟอร์นิเจอร์เซ็นเตอร์ | H10: - คุณสมบัติครบถ้วน | I10: ใบสั่งซื้อ เลขที่ CNTR-0082/62
B11: กลาง จำนวน 1 ชุด | F11: =+D10 -> 30000 | G11: =+F11 -> 30000 | H11: - เสนอราคาไม่เกินวงเงิน | I11: ลว. 12 มี.ค. 62
H12: และงบประมาณ
A13: 3 | B13: จัดซื้อวัสดุน้ำมันเชื้อเพลิงและหล่อลื่น (น้ำมันจาระบี | C13: 4150 | D13: 4150 | E13: เฉพาะเจาะจง | F13: ร้านอนันชัยสิชลกลการ | G13: =+F13 -> ร้านอนันชัยสิชลกลการ | H13: - คุณสมบัติครบถ้วน | I13: ใบสั่งซื้อ เลขที่ CNTR-0085/62
B14: น้ำมันไฮดรอลิค) | F14: 4150 | G14: =+F14 -> 4150 | H14: - เสนอราคาไม่เกินวงเงิน | I14: ลว. 12 มี.ค. 62
H15: และงบประมาณ
A16: 4 | B16: จัดซื้อวัสดุสำนักงาน (กองคลัง) | C16: 25448 | D16: 25448 | E16: เฉพาะเจาะจง | F16: ร้านปรีดาค้าวัสดุ | G16: =+F16 -> ร้านปรีดาค้าวัสดุ | H16: - คุณสมบัติครบถ้วน | I16: ใบสั่งซื้อ เลขที่ CNTR-0086/62
F17: =+D16 -> 25448 | G17: =+F17 -> 25448 | H17: - เสนอราคาไม่เกินวงเงิน | I17: ลว. 21 มี.ค. 62
H18: และงบประมาณ
A19: 5 | B19: จ้างซ่อมแซมรถบรรทุกขนาด 6 ล้อ 6 ตัน | C19: 21000 | D19: 21000 | E19: เฉพาะเจาะจง | F19: นายธนาวัฒน์ เพชรนุ้ย | G19: =+F19 -> นายธนาวัฒน์ เพชรนุ้ย | H19: - คุณสมบัติครบถ้วน | I19: ใบสั่งจ้าง เลขที่ CNTR-0078/62
F20: =+D19 -> 21000 | G20: =+F20 -> 21000 | H20: - เสนอราคาไม่เกินวงเงิน | I20: ลว. 1 มี.ค. 62
H21: และงบประมาณ
A22: 6 | B22: จ้างตรวจเช็คสภาพและซ่อมแซมรถบรรทุกน้ำ | C22: 27000 | D22: 26500 | E22: เฉพาะเจาะจง | F22: ร้านท่าหินการยางและรถยก | G22: =+F22 -> ร้านท่าหินการยางและรถยก | H22: - คุณสมบัติครบถ้วน | I22: ใบสั่งจ้าง เลขที่ CNTR-0079/62
B23: เอนกประสงค์ | F23: 26500 | G23: =+F23 -> 26500 | H23: - เสนอราคาไม่เกินวงเงิน | I23: ลว. 5 มี.ค. 62
H24: และงบประมาณ
A25: 7 | B25: จ้างตรวจเช็คและซ่อมแซมระบบกระจายเสียงทาง | C25: 27000 | D25: =+C25 -> 27000 | E25: เฉพาะเจาะจง | F25: ร้านเจ แอนด์ ที สื่อสาร | G25: =+F25 -> ร้านเจ แอนด์ ที สื่อสาร | H25: - คุณสมบัติครบถ้วน | I25: ใบสั่งจ้าง เลขที่ CNTR-0080/62
B26: ไกลอัตโนมัติ แบบไร้สาย 1 เครื่อง | F26: =+C25 -> 27000 | G26: =+F26 -> 27000 | H26: - เสนอราคาไม่เกินวงเงิน | I26: ลว. 6 มี.ค. 62
H27: และงบประมาณ
A28: 8 | B28: จ้างซ่อมแซมรถตักหน้า-ขุดหลัง | C28: 6770 | D28: 6770 | E28: เฉพาะเจาะจง | F28: ร้านอนันชัยสิชลกลการ | G28: =+F28 -> ร้านอนันชัยสิชลกลการ | H28: - คุณสมบัติครบถ้วน | I28: ใบสั่งจ้าง เลขที่ CNTR-0083/62
F29: =+D28 -> 6770 | G29: =+F29 -> 6770 | H29: - เสนอราคาไม่เกินวงเงิน | I29: ลว. 12 มี.ค. 62
H30: และงบประมาณ
A31: 9 | B31: จ้างตรวจเช็คและซ่อมแซมเครื่องปรับอากาศรถ | C31: 9000 | D31: 8930 | E31: เฉพาะเจาะจง | F31: ร้านพรจักรไดนาโม | G31: =+F31 -> ร้านพรจักรไดนาโม | H31: - คุณสมบัติครบถ้วน | I31: ใบสั่งจ้าง เลขที่ CNTR-0088/62
B32: บรรทุกน้ำเอนกประสงค์ | F32: =+D31 -> 8930 | G32: =+F32 -> 8930 | H32: - เสนอราคาไม่เกินวงเงิน | I32: ลว. 25 มี.ค. 62
H33: และงบประมาณ
A34: 10 | B34: จ้างทำป้ายไวนิลประชาสัมพันธ์โครงการจัดงาน | C34: 2592 | D34: 2592 | E34: เฉพาะเจาะจง | F34: สุดภูธร ไวนิล แอนด์ สติกเกอร์ | G34: =+F34 -> สุดภูธร ไวนิล แอนด์ สติกเกอร์ | H34: - คุณสมบัติครบถ้วน | I34: ใบสั่งจ้าง เลขที่ CNTR-0090/62
B35: ประเพณีชักพระเดือนห้า ประจำปี 2562 | F35: =+C34 -> 2592 | G35: =+F35 -> 2592 | H35: - เสนอราคาไม่เกินวงเงิน | I35: ลว. 29 มี.ค. 62
H36: และงบประมาณ
A37: 11 | B37: จ้างเหมาสำรวจข้อมูลภาคสนามตามโครงการ | C37: 170000 | D37: 170000 | E37: เฉพาะเจาะจง | F37: นายปกรณ์เกียรติ ชุติก่อวรภัคกุล | G37: =+F37 -> นายปกรณ์เกียรติ ชุติก่อวรภัคกุล | H37: - คุณสมบัติครบถ้วน | I37: ใบสั่งจ้าง เลขที่ CNTR-0091/62
B38: แผนที่ภาษีและทะเบียนทรัพย์สิน | F38: 1600000 | G38: =+F38 -> 1600000 | H38: - เสนอราคาไม่เกินวงเงิน | I38: ลว. 29 มี.ค. 62
H39: และงบประมาณ
A40: 12 | B40: จ้างตรวจเช็ครถยนต์ส่วนกลางกรณีครบระยะทาง | C40: 1201.61 | D40: 1201.61 | E40: เฉพาะเจาะจง | F40: บริษัท สุราษฎร์ปิยะ จำกัด | G40: =+F40 -> บริษัท สุราษฎร์ปิยะ จำกัด | H40: - คุณสมบัติครบถ้วน | I40: ใบสั่งจ้าง เลขที่ CNTR-0092/62
B41: 20,000 กิโลเมตร พร้อมเปลี่ยนถ่ายน้ำมันเครื่อง | F41: 1201.61 | G41: =+F41 -> 1201.61 | H41: - เสนอราคาไม่เกินวงเงิน | I41: ลว. 29 มี.ค. 62
H42: และงบประมาณ

Sheet Sheet2
A1: งบหน้าสรุปผลการพิจารณาการจัดซื้อจัดจ้างขององค์การบริหารส่วนตำบลฉลอง
A2: ประจำเดือนมีนาคม 2562
F4: รวมราคาที่พิจารณา | G4: วงเงินต่ำหรือสูง
A5: ลำดับที่ | B5: วิธีการจัดซื้อจัดจ้าง | C5: จำนวนโครงการ | D5: รวมวงเงินที่จัดซื้อจัดจ้าง | E5: รวมราคากลาง | F5: คัดเลือก | G5: กว่าราคากลาง | H5: หมายเหตุ
G6: (+ สูง) (-ต่ำกว่า)
A7: 1 | B7: จัดซื้อโดยวิธีประกาศเชิญชวนทั่วไป | C7: - | D7: - | E7: =+D7 -> - | F7: =+D7 -> - | G7: -
A8: 2 | B8: จัดจ้างโดยวิธีประกาศเชิญชวนทั่วไป | C8: - | D8: - | E8: =+D8 -> - | F8: =+D8 -> - | G8: -
A9: 3 | B9: จัดซื้อโดยวิธีการคัดเลือก | C9: - | D9: - | E9: - | F9: - | G9: -
A10: 4 | B10: จัดจ้างโดยวิธีการคัดเลือก | C10: - | D10: - | E10: =+D10 -> - | F10: =+D10 -> - | G10: -
A11: 5 | B11: จัดซื้อโดยวิธีเฉพาะเจาะจง | C11: 4 | D11: =+มีนาคม!C7+มีนาคม!C10+มีนาคม!C13+มีนาคม!C16 -> 159598 | E11: =+มีนาคม!D7+มีนาคม!D10+มีนาคม!D13+มีนาคม!D16 -> 159598 | F11: =+มีนาคม!G8+มีนาคม!G11+มีนาคม!G14+มีนาคม!G17 -> 159598 | G11: -
A12: 6 | B12: จัดจ้างโดยวิธีเฉพาะเจาะจง | C12: 8 | D12: =+มีนาคม!C19+มีนาคม!C22+มีนาคม!C25+มีนาคม!C28+มีนาคม!C31+มีนาคม!C34+มีนาคม!C37+มีนาคม!C40 -> 264563.61 | E12: =+มีนาคม!D19+มีนาคม!D22+มีนาคม!D25+มีนาคม!D28+มีนาคม!D31+มีนาคม!D34+มีนาคม!D37+มีนาคม!D40 -> 263993.61 | F12: =+E12 -> 263993.61 | G12: =+D12-E12 -> 570
A13: 7 | B13: จัดซื้อโดยวิธีตลาดอิเล็กทรอนิกส์ | C13: - | D13: - | E13: =+D13 -> - | F13: =+E13 -> - | G13: -
A14: 8 | B14: จัดจ้างโดยวิธีตลาดอิเล็กทรอนิกส์ | C14: - | D14: - | E14: - | F14: - | G14: -
A15: 9 | B15: จัดซื้อโดยวิธีประกวดราคาอิเล็กทรอนิกส์ | C15: - | D15: - | E15: - | F15: - | G15: -
A16: 10 | B16: จัดจ้างโดยวิธีประกวดราคาอิเล็กทรอนิกส์ | C16: - | D16: - | E16: - | F16: =+D16 -> - | G16: -
B17: ได้นำข้อมูลเกี่ยวกับการจัดซื้อจัดจ้างตามแบบ สขร.๑ ( ประจำเดือนมีนาคม 2562)
B18: เผยแพร่ เมื่อวันที่ 4 เมษายน 2562 โดยวิธีปิดประกาศ และที่เว็บไซต์ www.chalong.go.th
B19: ไม่ได้นำข้อมูลเกี่ยวกับการจัดซื้อจัดจ้างตามแบบ สขร.๑ เผยแพร่ เหตุเพราะ ..........................................................................................
F21: (ลงชื่อ)..................................................ผู้รายงาน
F22: (นางสุมิตรา รักบำรุง)
F23: ปลัดองค์การบริหารส่วนตำบลฉลอง
