Workbook

Sheet พฤษภาคม
A1: สรุปผลการดำเนินการจัดซื้อจัดจ้างในรอบเดือนพฤษภาคม 2562
A2: องค์การบริหารส่วนตำบลฉลอง อำเภอสิชล จังหวัดนครศรีธรรมราช
A3: วันที่ 4 เดือน มิถุนายน พ.ศ. 2562
A4: ลำดับ | B4: งานที่จัดซื้อหรือจัดจ้าง | C4: วงเงินที่จะซื้อ | D4: ราคากลาง | E4: วิธีซื้อหรือจ้าง | F4: รายชื่อผู้เสนอราคา | G4: ผู้ได้รับการคัดเลือกและราคาที่ | H4: เหตุผลที่คัดเลือกโดยสรุป | I4: เลขที่และวันที่ของสัญญา
A5: ที่ | F5: และราคาที่เสนอ | G5: ตกลงซื้อหรือจ้าง | I5: หรือข้อตกลงในการซื้อ
C6: หรือจ้าง | I6: หรือจ้าง
A7: 1 | B7: จัดซื้อวัสดุยานพาหนะและขนส่ง (ยางรถตักหน้า- | C7: 85200 | D7: 85200 | E7: เฉพาะเจาะจง | F7: ร้านท่าหินการยางและรถยก | G7: =+F7 -> ร้านท่าหินการยางและรถยก | H7: - คุณสมบัติครบถ้วน | I7: ใบสั่งซื้อ เลขที่ CNTR-0120/62
B8: ขุดหลัง) | F8: =+D7 -> 85200 | G8: =+F8 -> 85200 | H8: - เสนอราคาไม่เกินวงเงิน | I8: ลว. 8 พ.ค. 62
H9: และงบประมาณ
A10: 2 | B10: จัดซื้อต้นดาวเรือง จำนวน 100 ต้น | C10: 2000 | D10: 2000 | E10: เฉพาะเจาะจง | F10: ครัวเกษตร | G10: =+F10 -> ครัวเกษตร | H10: - คุณสมบัติครบถ้วน | I10: ใบสั่งซื้อ เลขที่ CNTR-0121/62
F11: =+D10 -> 2000 | G11: =+F11 -> 2000 | H11: - เสนอราคาไม่เกินวงเงิน | I11: ลว. 8 พ.ค. 62
H12: และงบประมาณ
A13: 3 | B13: จัดซื้ออุปกรณ์ประปา ประปาคลองถ้วย ม.3 ต.ฉลอง | C13: 15868 | D13: 15868 | E13: เฉพาะเจาะจง | F13: สิชลการไฟฟ้า | G13: =+F13 -> สิชลการไฟฟ้า | H13: - คุณสมบัติครบถ้วน | I13: ใบสั่งซื้อ เลขที่ CNTR-0125/62
F14: 15868 | G14: =+F14 -> 15868 | H14: - เสนอราคาไม่เกินวงเงิน | I14: ลว. 23 พ.ค. 62
H15: และงบประมาณ
A16: 4 | B16: จัดซื้อจอภาพ LED หรือดีกว่าขนาดไม่น้อยกว่า | C16: 2800 | D16: 2800 | E16: เฉพาะเจาะจง | F16: สิชลคอมพิวเตอร์แอ่นเซอร์วิส | G16: =+F16 -> สิชลคอมพิวเตอร์แอ่นเซอร์วิส | H16: - คุณสมบัติครบถ้วน | I16: ใบสั่งซื้อ เลขที่ CNTR-0126/62
B17: 19 นิ้ว | F17: =+D16 -> 2800 | G17: =+F17 -> 2800 | H17: - เสนอราคาไม่เกินวงเงิน | I17: ลว. 27 พ.ค. 62
H18: และงบประมาณ
A19: 5 | B19: จัดซื้อวัสดุสำนักงาน (กองช่าง) | C19: 3850 | D19: 3850 | E19: เฉพาะเจาะจง | F19: ร้านปรีดาค้าวัสดุ | G19: =+F19 -> ร้านปรีดาค้าวัสดุ | H19: - คุณสมบัติครบถ้วน | I19: ใบสั่งซื้อ เลขที่ CNTR-0127/62
F20: =+D19 -> 3850 | G20: =+F20 -> 3850 | H20: - เสนอราคาไม่เกินวงเงิน | I20: ลว. 27 พ.ค. 62
H21: และงบประมาณ
A22: 6 | B22: จัดซื้อครุภัณฑ์สำนักงาน (ชั้นวางเอกสาร 9 ช่อง) | C22: 5800 | D22: 5800 | E22: เฉพาะเจาะจง | F22: สมชายเฟอร์นิเจอร์เซ็นเตอร์ | G22: =+F22 -> สมชายเฟอร์นิเจอร์เซ็นเตอร์ | H22: - คุณสมบัติครบถ้วน | I22: ใบสั่งซื้อ เลขที่ CNTR-0128/62
F23: 5800 | G23: =+F23 -> 5800 | H23: - เสนอราคาไม่เกินวงเงิน | I23: ลว. 27 พ.ค. 62
H24: และงบประมาณ
A25: 7 | B25: จัดซื้อผ้าสีม่วงสำหรับเตรียมกิจกรรมวันเฉลิมพระ | C25: 3200 | D25: 3094 | E25: เฉพาะเจาะจง | F25: ร้านปรีดาค้าวัสดุ | G25: =+F25 -> ร้านปรีดาค้าวัสดุ | H25: - คุณสมบัติครบถ้วน | I25: ใบสั่งซื้อ เลขที่ CNTR-0132/62
B26: ชนมพรรษา | F26: 3094 | G26: =+F26 -> 3094 | H26: - เสนอราคาไม่เกินวงเงิน | I26: ลว. 30 พ.ค. 62
H27: และงบประมาณ
A28: 8 | B28: จัดซื้ออาหารเสริม (นม) โรงเรียน ประจำภาคเรียน | C28: 46310.04 | D28: 46310.04 | E28: เฉพาะเจาะจง | F28: บ.แมรี่ แอน แดรี่โปรดักส์ จำกัด | G28: =+F28 -> บ.แมรี่ แอน แดรี่โปรดักส์ จำกัด | H28: - คุณสมบัติครบถ้วน | I28: สัญญาซื้อ เลขที่ CNTR-0124/62
B29: ที่ 1/2562 | F29: =+D28 -> 46310.04 | G29: =+F29 -> 46310.04 | H29: - เสนอราคาไม่เกินวงเงิน | I29: ลว. 21 พ.ค. 62
H30: และงบประมาณ
A31: 9 | B31: จัดซื้อเครื่องออกกำลังกาย | C31: 200000 | D31: 190000 | E31: เฉพาะเจาะจง | F31: หจก.แม็กซ์ซิมัส บิสซิเนส | G31: =+F31 -> หจก.แม็กซ์ซิมัส บิสซิเนส | H31: - คุณสมบัติครบถ้วน | I31: สัญญาซื้อ เลขที่ CNTR-0130/62
F32: 190000 | G32: =+F32 -> 190000 | H32: - เสนอราคาไม่เกินวงเงิน | I32: ลว. 28 พ.ค. 62
H33: และงบประมาณ
A34: 10 | B34: จ้างก่อสร้างโครงการก่อสร้างอาคารเอนกประสงค์ | C34: 734000 | D34: 734000 | E34: วิธีประกวด | F34: หจก.ร่วมใจ สิชลการก่อสร้าง | G34: =+F34 -> หจก.ร่วมใจ สิชลการก่อสร้าง | H34: - คุณสมบัติครบถ้วน | I34: สัญญาซื้อ เลขที่ CNTR-0123/62
E35: ราคาอิเล็กทรอ | F35: 734000 | G35: =+F35 -> 734000 | H35: - เสนอราคาไม่เกินวงเงิน | I35: ลว. 21 พ.ค. 62
E36: นิกส์ | H36: และงบประมาณ
A37: 11 | B37: จ้างบันทึกภาพนิ่งและภาพเคลื่อนไหวการถวายพระ | C37: 7000 | D37: 7000 | E37: เฉพาะเจาะจง | F37: นางสุจิตรา วัชรสุธากร | G37: =+F37 -> นางสุจิตรา วัชรสุธากร | H37: - คุณสมบัติครบถ้วน | I37: ใบสั่งจ้าง เลขที่ CNTR-0119/62
B38: พรชัยมงคลเนื่องในการพระราชพิธีราชาภิเษก | F38: 7000 | G38: =+F38 -> 7000 | H38: - เสนอราคาไม่เกินวงเงิน | I38: ลว. 3 พ.ค. 62
B39: พ.ศ.2562 | H39: และงบประมาณ
A40: 12 | B40: จ้างจัดทำซุ้มเฉลิมพระเกียรติพระบาทสมเด็จพระ | C40: 150000 | D40: 120000 | E40: เฉพาะเจาะจง | F40: หจก.แม็กซ์ซิมัส บิสซิเนส | G40: =+F40 -> หจก.แม็กซ์ซิมัส บิสซิเนส | H40: - คุณสมบัติครบถ้วน | I40: ใบสั่งจ้าง เลขที่ CNTR-0122/62
B41: เจ้าอยู่หัวรัชกาลที่ 10 | F41: 120000 | G41: =+F41 -> 120000 | H41: - เสนอราคาไม่เกินวงเงิน | I41: ลว. 13 พ.ค. 62
H42: และงบประมาณ
A43: 13 | B43: จ้างที่ปรึกษาเพื่อดำเนินการสำรวจความพึงพอใจ | C43: 25000 | D43: 25000 | E43: เฉพาะเจาะจง | F43: ม.ทักษิณ | G43: =+F43 -> ม.ทักษิณ | H43: - คุณสมบัติครบถ้วน | I43: ใบสั่งจ้าง เลขที่ CNTR-0129/62
B44: ของผู้รับบริการที่มีต่อการให้บริการงานบริการ | F44: 25000 | G44: =+F44 -> 25000 | H44: - เสนอราคาไม่เกินวงเงิน | I44: ลว. 28 พ.ค. 62
B45: สาธารณะของ อบต.ฉลอง | H45: และงบประมาณ
A46: 14 | B46: จ้างตรวจเช็คและซ่อมแซมรถยนต์ส่วนกลาง | C46: 23000 | D46: 22200 | E46: เฉพาะเจาะจง | F46: หจก.เอส.ซี.ไทร์ | G46: =+F46 -> หจก.เอส.ซี.ไทร์ | H46: - คุณสมบัติครบถ้วน | I46: ใบสั่งจ้าง เลขที่ CNTR-0131/62
B47: กง 9261 | F47: 22200 | G47: =+F47 -> 22200 | H47: - เสนอราคาไม่เกินวงเงิน | I47: ลว. 28 พ.ค. 62
H48: และงบประมาณ
A49: 15 | B49: จ้างทำป้ายไวนิลพระบรมฉายาลักษณ์สมเด็จพระ | C49: 1000 | D49: 918.76 | E49: เฉพาะเจาะจง | F49: ร้านสุดภูธร ไวนิล แอนด์สติกเกอร์ | G49: =+F49 -> ร้านสุดภูธร ไวนิล แอนด์สติกเกอร์ | H49: - คุณสมบัติครบถ้วน | I49: ใบสั่งจ้าง เลขที่ CNTR-0133/62
B50: เจ้าอยู่หัวมหาวชิราลงกรณฯและสมเด็จพระนางเจ้า | F50: 918.76 | G50: =+F50 -> 918.76 | H50: - เสนอราคาไม่เกินวงเงิน | I50: ลว. 30 พ.ค. 62
B51: สุทิดา พัชรสุธาพิมลลักษณ พระบรมราชินี | H51: และงบประมาณ
A52: 16 | B52: จ้างถ่ายถ่ายเอกสาร, เย็บเข้าเล่ม ส่งแฟ็กส์ | C52: 4000 | D52: 4000 | E52: เฉพาะเจาะจง | F52: สิชล ก๊อปปี้ | G52: =+F52 -> สิชล ก๊อปปี้ | H52: - คุณสมบัติครบถ้วน | I52: ใบสั่งจ้าง เลขที่ CNTR-0134/62
B53: และงานต่างๆ | F53: 4000 | G53: =+F53 -> 4000 | H53: - เสนอราคาไม่เกินวงเงิน | I53: ลว. 31 พ.ค. 62
H54: และงบประมาณ

Sheet Sheet2
A1: งบหน้าสรุปผลการพิจารณาการจัดซื้อจัดจ้างขององค์การบริหารส่วนตำบลฉลอง
A2: ประจำเดือนพฤษภาคม 2562
F4: รวมราคาที่พิจารณา | G4: วงเงินต่ำหรือสูง
A5: ลำดับที่ | B5: วิธีการจัดซื้อจัดจ้าง | C5: จำนวนโครงการ | D5: รวมวงเงินที่จัดซื้อจัดจ้าง | E5: รวมราคากลาง | F5: คัดเลือก | G5: กว่าราคากลาง | H5: หมายเหตุ
G6: (+ สูง) (-ต่ำกว่า)
A7: 1 | B7: จัดซื้อโดยวิธีประกาศเชิญชวนทั่วไป | C7: - | D7: - | E7: =+D7 -> - | F7: =+D7 -> - | G7: -
A8: 2 | B8: จัดจ้างโดยวิธีประกาศเชิญชวนทั่วไป | C8: - | D8: - | E8: =+D8 -> - | F8: =+D8 -> - | G8: -
A9: 3 | B9: จัดซื้อโดยวิธีการคัดเลือก | C9: - | D9: - | E9: - | F9: - | G9: -
A10: 4 | B10: จัดจ้างโดยวิธีการคัดเลือก | C10: - | D10: - | E10: =+D10 -> - | F10: =+D10 -> - | G10: -
A11: 5 | B11: จัดซื้อโดยวิธีเฉพาะเจาะจง | C11: 9 | D11: =+พฤษภาคม!C7+พฤษภาคม!C10+พฤษภาคม!C13+พฤษภาคม!C16+พฤษภาคม!C19+พฤษภาคม!C22+พฤษภาคม!C25+พฤษภาคม!C28+พฤษภาคม!C31 -> 365028.04 | E11: =+พฤษภาคม!D7+พฤษภาคม!D10+พฤษภาคม!D13+พฤษภาคม!D16+พฤษภาคม!D19+พฤษภาคม!D22+พฤษภาคม!D25+พฤษภาคม!D28+พฤษภาคม!D31 -> 354922.04 | F11: =+E11 -> 354922.04 | G11: =+D11-E11 -> 10106
A12: 6 | B12: จัดจ้างโดยวิธีเฉพาะเจาะจง | C12: 6 | D12: =+พฤษภาคม!C37+พฤษภาคม!C40+พฤษภาคม!C43+พฤษภาคม!C46+พฤษภาคม!C49+พฤษภาคม!C52 -> 210000 | E12: =+พฤษภาคม!D37+พฤษภาคม!D40+พฤษภาคม!D43+พฤษภาคม!D46+พฤษภาคม!D49+พฤษภาคม!D52 -> 179118.76 | F12: =+E12 -> 179118.76 | G12: =+D12-E12 -> 30881.24
A13: 7 | B13: จัดซื้อโดยวิธีตลาดอิเล็กทรอนิกส์ | C13: - | D13: - | E13: =+D13 -> - | F13: =+E13 -> - | G13: -
A14: 8 | B14: จัดจ้างโดยวิธีตลาดอิเล็กทรอนิกส์ | C14: 1 | D14: =+พฤษภาคม!C34 -> 734000 | E14: =+พฤษภาคม!D34 -> 734000 | F14: - | G14: -
A15: 9 | B15: จัดซื้อโดยวิธีประกวดราคาอิเล็กทรอนิกส์ | C15: - | D15: - | E15: - | F15: - | G15: -
A16: 10 | B16: จัดจ้างโดยวิธีประกวดราคาอิเล็กทรอนิกส์ | C16: - | D16: - | E16: - | F16: =+D16 -> - | G16: -
B17: ได้นำข้อมูลเกี่ยวกับการจัดซื้อจัดจ้างตามแบบ สขร.๑ ( ประจำเดือนพฤษภาคม 2562)
B18: เผยแพร่ เมื่อวันที่ 4 มิถุนายน 2562 โดยวิธีปิดประกาศ และที่เว็บไซต์ www.chalong.go.th
B19: ไม่ได้นำข้อมูลเกี่ยวกับการจัดซื้อจัดจ้างตามแบบ สขร.๑ เผยแพร่ เหตุเพราะ ..........................................................................................
F21: (ลงชื่อ)..................................................ผู้รายงาน
F22: (นางสุมิตรา รักบำรุง)
F23: ปลัดองค์การบริหารส่วนตำบลฉลอง
