Workbook

Sheet มิถุนายน
A1: สรุปผลการดำเนินการจัดซื้อจัดจ้างในรอบเดือนมิถุนายน 2562
A2: องค์การบริหารส่วนตำบลฉลอง อำเภอสิชล จังหวัดนครศรีธรรมราช
A3: วันที่ 3 เดือน กรกฎาคม พ.ศ. 2562
A4: ลำดับ | B4: งานที่จัดซื้อหรือจัดจ้าง | C4: วงเงินที่จะซื้อ | D4: ราคากลาง | E4: วิธีซื้อหรือจ้าง | F4: รายชื่อผู้เสนอราคา | G4: ผู้ได้รับการคัดเลือกและราคาที่ | H4: เหตุผลที่คัดเลือกโดยสรุป | I4: เลขที่และวันที่ของสัญญา
A5: ที่ | F5: และราคาที่เสนอ | G5: ตกลงซื้อหรือจ้าง | I5: หรือข้อตกลงในการซื้อ
C6: หรือจ้าง | I6: หรือจ้าง
A7: 1 | B7: จัดซื้อครุภัณฑ์สำนักงานตู้เก็บเอกสารบานเลื่อน | C7: 37500 | D7: 37500 | E7: เฉพาะเจาะจง | F7: หจก.แฟรี่ทาวน์ เฟอร์นิเจอร์ | G7: =+F7 -> หจก.แฟรี่ทาวน์ เฟอร์นิเจอร์ | H7: - คุณสมบัติครบถ้วน | I7: ใบสั่งซื้อ เลขที่ CNTR-0136/62
B8: กระจกทรงเตี้ย และโต๊ะคอมพิวเตอร์ | F8: =+D7 -> 37500 | G8: =+F8 -> 37500 | H8: - เสนอราคาไม่เกินวงเงิน | I8: ลว. 6 มิ.ย. 62
H9: และงบประมาณ
A10: 2 | B10: จัดซื้อป้ายชื่อสำหรับทีมผู้เข้าร่วมแข่งขันกีฬา | C10: 3000 | D10: 595 | E10: เฉพาะเจาะจง | F10: ร้านปรีดาค้าวัสดุ | G10: =+F10 -> ร้านปรีดาค้าวัสดุ | H10: - คุณสมบัติครบถ้วน | I10: ใบสั่งซื้อ เลขที่ CNTR-0137/62
B11: ฉลองคัพ ประจำปี 2562 | F11: =+D10 -> 595 | G11: =+F11 -> 595 | H11: - เสนอราคาไม่เกินวงเงิน | I11: ลว. 6 มิ.ย. 62
H12: และงบประมาณ
A13: 3 | B13: จัดซื้ออุปกรณ์การแข่งขันสำหรับโครงการแข่งขัน | C13: 30000 | D13: 28725 | E13: เฉพาะเจาะจง | F13: ลูกฟลุ๊ค | G13: =+F13 -> ลูกฟลุ๊ค | H13: - คุณสมบัติครบถ้วน | I13: ใบสั่งซื้อ เลขที่ CNTR-0140/62
B14: กีฬา ฉลองคัพ ประจำปี 2562 | F14: 28725 | G14: =+F14 -> 28725 | H14: - เสนอราคาไม่เกินวงเงิน | I14: ลว. 7 มิ.ย. 62
H15: และงบประมาณ
A16: 4 | B16: จัดซื้อชุดกีฬาสำหรับโครงการแข่งขันกีฬา ฉลองคัพ | C16: 46000 | D16: 46000 | E16: เฉพาะเจาะจง | F16: ลูกฟลุ๊ค | G16: =+F16 -> ลูกฟลุ๊ค | H16: - คุณสมบัติครบถ้วน | I16: ใบสั่งซื้อ เลขที่ CNTR-0141/62
B17: ประจำปี 2562 | F17: =+D16 -> 46000 | G17: =+F17 -> 46000 | H17: - เสนอราคาไม่เกินวงเงิน | I17: ลว. 7 มิ.ย. 62
H18: และงบประมาณ
A19: 5 | B19: จัดซื้อค่าอำนวยการ (น้ำดื่ม น้ำแข็ง กาแฟ ถุงขยะ | C19: 25000 | D19: 19695 | E19: เฉพาะเจาะจง | F19: ร้านบุญรับบริการ | G19: =+F19 -> ร้านบุญรับบริการ | H19: - คุณสมบัติครบถ้วน | I19: ใบสั่งซื้อ เลขที่ CNTR-0144/62
B20: ฯลฯ) ตามโครงการแข่งขันกีฬา ฉลองคัพ ปี 62 | F20: =+D19 -> 19695 | G20: =+F20 -> 19695 | H20: - เสนอราคาไม่เกินวงเงิน | I20: ลว. 7 มิ.ย. 62
H21: และงบประมาณ
A22: 6 | B22: จัดซื้อวัสดุก่อสร้าง (ยาง Cms ๒ h,หินเกร็ดผสม | C22: 41756 | D22: 41756 | E22: เฉพาะเจาะจง | F22: หจก.จิตติภัณฑ์วัสดุก่อสร้าง | G22: =+F22 -> หจก.จิตติภัณฑ์วัสดุก่อสร้าง | H22: - คุณสมบัติครบถ้วน | I22: ใบสั่งซื้อ เลขที่ CNTR-0145/62
B23: แอสฟัลท์) | F23: 41756 | G23: =+F23 -> 41756 | H23: - เสนอราคาไม่เกินวงเงิน | I23: ลว. 10 มิ.ย. 62
H24: และงบประมาณ
A25: 7 | B25: จัดซื้อวัสดุน้ำมันเชื้อเพลิงและหล่อลื่น น้ำมันไฮดรอ | C25: 3000 | D25: 3000 | E25: เฉพาะเจาะจง | F25: อนันชัยสิชลกลการ | G25: =+F25 -> อนันชัยสิชลกลการ | H25: - คุณสมบัติครบถ้วน | I25: ใบสั่งซื้อ เลขที่ CNTR-0146/62
B26: ลิค ขนาด 18 ลิตร จำนวน 2 ถัง | F26: 3000 | G26: =+F26 -> 3000 | H26: - เสนอราคาไม่เกินวงเงิน | I26: ลว. 12 มิ.ย. 62
H27: และงบประมาณ
A28: 8 | B28: จัดซื้อวัสดุก่อสร้าง (วัสดุประปา) | C28: 4457 | D28: 4457 | E28: เฉพาะเจาะจง | F28: ร้านสิชลการไฟฟ้า | G28: =+F28 -> ร้านสิชลการไฟฟ้า | H28: - คุณสมบัติครบถ้วน | I28: ใบสั่งซื้อ เลขที่ CNTR-0152/62
F29: =+D28 -> 4457 | G29: =+F29 -> 4457 | H29: - เสนอราคาไม่เกินวงเงิน | I29: ลว. 13 มิ.ย. 62
H30: และงบประมาณ
A31: 9 | B31: จัดซื้อวัสดุสำหรับช่วยเหลือประชาชนที่ได้รับความ | C31: 2064 | D31: 2064 | E31: เฉพาะเจาะจง | F31: หจก.จิตติภัณฑ์วัสดุก่อสร้าง | G31: =+F31 -> หจก.จิตติภัณฑ์วัสดุก่อสร้าง | H31: - คุณสมบัติครบถ้วน | I31: ใบสั่งซื้อ เลขที่ CNTR-0154/62
B32: เดือดร้อนจากสาธารณะภัย | F32: 2064 | G32: =+F32 -> 2064 | H32: - เสนอราคาไม่เกินวงเงิน | I32: ลว. 19 มิ.ย. 62
H33: และงบประมาณ
A34: 10 | B34: จัดซื้อถ้วยรางวัลสำหรับโครงการแข่งขันกีฬา | C34: 30000 | D34: 30000 | E34: เฉพาะเจาะจง | F34: ชัยสปอร์ต | G34: =+F34 -> ชัยสปอร์ต | H34: - คุณสมบัติครบถ้วน | I34: ใบสั่งซื้อ เลขที่ CNTR-0158/62
B35: ดอนสนามเกมส์ ประจำปี 2562 | F35: 30000 | G35: =+F35 -> 30000 | H35: - เสนอราคาไม่เกินวงเงิน | I35: ลว. 21 มิ.ย. 62
H36: และงบประมาณ
A37: 11 | B37: จัดซื้ออุปกรณ์การแข่งขันสำหรับโครงการแข่งขัน | C37: 5640 | D37: 5640 | E37: เฉพาะเจาะจง | F37: ลูกฟลุ๊ค | G37: =+F37 -> ลูกฟลุ๊ค | H37: - คุณสมบัติครบถ้วน | I37: ใบสั่งซื้อ เลขที่ CNTR-0162/62
B38: ดอนสนามเกมส์ ประจำปี 2562 | F38: 5640 | G38: =+F38 -> 5640 | H38: - เสนอราคาไม่เกินวงเงิน | I38: ลว. 21 มิ.ย. 62
B39: พ.ศ.2562 | H39: และงบประมาณ
A40: 12 | B40: จัดซื้อวัสดุอุปกรณ์สำหรับโครงการแข่งขันกีฬา | C40: 5273 | D40: 5273 | E40: เฉพาะเจาะจง | F40: ร้านปรีดาค้าวัสดุ | G40: =+F40 -> ร้านปรีดาค้าวัสดุ | H40: - คุณสมบัติครบถ้วน | I40: ใบสั่งซื้อ เลขที่ CNTR-0164/62
...

Sheet Sheet2
A1: งบหน้าสรุปผลการพิจารณาการจัดซื้อจัดจ้างขององค์การบริหารส่วนตำบลฉลอง
A2: ประจำเดือนมิถุนายน 2562
F4: รวมราคาที่พิจารณา | G4: วงเงินต่ำหรือสูง
A5: ลำดับที่ | B5: วิธีการจัดซื้อจัดจ้าง | C5: จำนวนโครงการ | D5: รวมวงเงินที่จัดซื้อจัดจ้าง | E5: รวมราคากลาง | F5: คัดเลือก | G5: กว่าราคากลาง | H5: หมายเหตุ
G6: (+ สูง) (-ต่ำกว่า)
A7: 1 | B7: จัดซื้อโดยวิธีประกาศเชิญชวนทั่วไป | C7: - | D7: - | E7: =+D7 -> - | F7: =+D7 -> - | G7: -
A8: 2 | B8: จัดจ้างโดยวิธีประกาศเชิญชวนทั่วไป | C8: - | D8: - | E8: =+D8 -> - | F8: =+D8 -> - | G8: -
A9: 3 | B9: จัดซื้อโดยวิธีการคัดเลือก | C9: - | D9: - | E9: - | F9: - | G9: -
A10: 4 | B10: จัดจ้างโดยวิธีการคัดเลือก | C10: - | D10: - | E10: =+D10 -> - | F10: =+D10 -> - | G10: -
A11: 5 | B11: จัดซื้อโดยวิธีเฉพาะเจาะจง | C11: 15 | D11: =+มิถุนายน!C7+มิถุนายน!C10+มิถุนายน!C13+มิถุนายน!C16+มิถุนายน!C19+มิถุนายน!C22+มิถุนายน!C25+มิถุนายน!C28+มิถุนายน!C31+มิถุนายน!C34+มิถุนายน!C37+มิถุนายน!C40+มิถุนายน!C43+มิถุนายน!C46+มิถุนายน!C94 -> 617305.04 | E11: =+มิถุนายน!D7+มิถุนายน!D10+มิถุนายน!D13+มิถุนายน!D16+มิถุนายน!D19+มิถุนายน!D22+มิถุนายน!D25+มิถุนายน!D31+มิถุนายน!D34+มิถุนายน!D37+มิถุนายน!D40+มิถุนายน!D43+มิถุนายน!D46+มิถุนายน!D94+มิถุนายน!D28 -> 596895.04 | F11: =+E11 -> 596895.04 | G11: =+D11-E11 -> 20410
A12: 6 | B12: จัดจ้างโดยวิธีเฉพาะเจาะจง | C12: 15 | D12: =+มิถุนายน!C49+มิถุนายน!C52+มิถุนายน!C55+มิถุนายน!C58+มิถุนายน!C61+มิถุนายน!C64+มิถุนายน!C67+มิถุนายน!C70+มิถุนายน!C73+มิถุนายน!C76+มิถุนายน!C79+มิถุนายน!C82+มิถุนายน!C85+มิถุนายน!C88+มิถุนายน!C91 -> 183840 | E12: =+มิถุนายน!D49+มิถุนายน!D52+มิถุนายน!D55+มิถุนายน!D58+มิถุนายน!D61+มิถุนายน!D64+มิถุนายน!D67+มิถุนายน!D70+มิถุนายน!D73+มิถุนายน!D76+มิถุนายน!D79+มิถุนายน!D82+มิถุนายน!D85+มิถุนายน!D88+มิถุนายน!D91 -> 175640 | F12: =+E12 -> 175640 | G12: =+D12-E12 -> 8200
A13: 7 | B13: จัดซื้อโดยวิธีตลาดอิเล็กทรอนิกส์ | C13: - | D13: - | E13: =+D13 -> - | F13: =+E13 -> - | G13: -
A14: 8 | B14: จัดจ้างโดยวิธีตลาดอิเล็กทรอนิกส์ | C14: 3 | D14: =+มิถุนายน!C97+มิถุนายน!C148+มิถุนายน!C157 -> 3297000 | E14: =+มิถุนายน!D97+มิถุนายน!D148+มิถุนายน!D157 -> 2876000 | F14: =+มิถุนายน!F98+มิถุนายน!F149+มิถุนายน!F158 -> 2073970 | G14: =+D14-E14 -> 421000
A15: 9 | B15: จัดซื้อโดยวิธีประกวดราคาอิเล็กทรอนิกส์ | C15: - | D15: - | E15: - | F15: - | G15: -
A16: 10 | B16: จัดจ้างโดยวิธีประกวดราคาอิเล็กทรอนิกส์ | C16: - | D16: - | E16: - | F16: =+D16 -> - | G16: -
B17: ได้นำข้อมูลเกี่ยวกับการจัดซื้อจัดจ้างตามแบบ สขร.๑ ( ประจำเดือนมิถุนายน 2562)
B18: เผยแพร่ เมื่อวันที่ 3 กรกฎาคม 2562 โดยวิธีปิดประกาศ และที่เว็บไซต์ www.chalong.go.th
B19: ไม่ได้นำข้อมูลเกี่ยวกับการจัดซื้อจัดจ้างตามแบบ สขร.๑ เผยแพร่ เหตุเพราะ ..........................................................................................
F21: (ลงชื่อ)..................................................ผู้รายงาน
F22: (นางสุมิตรา รักบำรุง)
F23: ปลัดองค์การบริหารส่วนตำบลฉลอง
