Workbook

Sheet มิถุนายน
A1: สรุปผลการดำเนินการจัดซื้อจัดจ้างในรอบเดือนมิถุนายน 2562
A2: องค์การบริหารส่วนตำบลฉลอง อำเภอสิชล จังหวัดนครศรีธรรมราช
A3: วันที่ 3 เดือน กรกฎาคม พ.ศ. 2562
A4: ลำดับ | B4: งานที่จัดซื้อหรือจัดจ้าง | C4: วงเงินที่จะซื้อ | D4: ราคากลาง | E4: วิธีซื้อหรือจ้าง | F4: รายชื่อผู้เสนอราคา | G4: ผู้ได้รับการคัดเลือกและราคาที่ | H4: เหตุผลที่คัดเลือกโดยสรุป | I4: เลขที่และวันที่ของสัญญา
A5: ที่ | F5: และราคาที่เสนอ | G5: ตกลงซื้อหรือจ้าง | I5: หรือข้อตกลงในการซื้อ
C6: หรือจ้าง | I6: หรือจ้าง
A7: 1 | B7: จัดซื้อครุภัณฑ์สำนักงานตู้เก็บเอกสารบานเลื่อน | C7: 37500 | D7: 37500 | E7: เฉพาะเจาะจง | F7: หจก.แฟรี่ทาวน์ เฟอร์นิเจอร์ | G7: =+F7 -> หจก.แฟรี่ทาวน์ เฟอร์นิเจอร์ | H7: - คุณสมบัติครบถ้วน | I7: ใบสั่งซื้อ เลขที่ CNTR-0136/62
B8: กระจกทรงเตี้ย และโต๊ะคอมพิวเตอร์ | F8: =+D7 -> 37500 | G8: =+F8 -> 37500 | H8: - เสนอราคาไม่เกินวงเงิน | I8: ลว. 6 มิ.ย. 62
H9: และงบประมาณ
A10: 2 | B10: จัดซื้อป้ายชื่อสำหรับทีมผู้เข้าร่วมแข่งขันกีฬา | C10: 3000 | D10: 595 | E10: เฉพาะเจาะจง | F10: ร้านปรีดาค้าวัสดุ | G10: =+F10 -> ร้านปรีดาค้าวัสดุ | H10: - คุณสมบัติครบถ้วน | I10: ใบสั่งซื้อ เลขที่ CNTR-0137/62
B11: ฉลองคัพ ประจำปี 2562 | F11: =+D10 -> 595 | G11: =+F11 -> 595 | H11: - เสนอราคาไม่เกินวงเงิน | I11: ลว. 6 มิ.ย. 62
H12: และงบประมาณ
A13: 3 | B13: จัดซื้ออุปกรณ์การแข่งขันสำหรับโครงการแข่งขัน | C13: 30000 | D13: 28725 | E13: เฉพาะเจาะจง | F13: ลูกฟลุ๊ค | G13: =+F13 -> ลูกฟลุ๊ค | H13: - คุณสมบัติครบถ้วน | I13: ใบสั่งซื้อ เลขที่ CNTR-0140/62
B14: กีฬา ฉลองคัพ ประจำปี 2562 | F14: 28725 | G14: =+F14 -> 28725 | H14: - เสนอราคาไม่เกินวงเงิน | I14: ลว. 7 มิ.ย. 62
H15: และงบประมาณ
A16: 4 | B16: จัดซื้อชุดกีฬาสำหรับโครงการแข่งขันกีฬา ฉลองคัพ | C16: 46000 | D16: 46000 | E16: เฉพาะเจาะจง | F16: ลูกฟลุ๊ค | G16: =+F16 -> ลูกฟลุ๊ค | H16: - คุณสมบัติครบถ้วน | I16: ใบสั่งซื้อ เลขที่ CNTR-0141/62
B17: ประจำปี 2562 | F17: =+D16 -> 46000 | G17: =+F17 -> 46000 | H17: - เสนอราคาไม่เกินวงเงิน | I17: ลว. 7 มิ.ย. 62
H18: และงบประมาณ
A19: 5 | B19: จัดซื้อค่าอำนวยการ (น้ำดื่ม น้ำแข็ง กาแฟ ถุงขยะ | C19: 25000 | D19: 19695 | E19: เฉพาะเจาะจง | F19: ร้านบุญรับบริการ | G19: =+F19 -> ร้านบุญรับบริการ | H19: - คุณสมบัติครบถ้วน | I19: ใบสั่งซื้อ เลขที่ CNTR-0144/62
B20: ฯลฯ) ตามโครงการแข่งขันกีฬา ฉลองคัพ ปี 62 | F20: =+D19 -> 19695 | G20: =+F20 -> 19695 | H20: - เสนอราคาไม่เกินวงเงิน | I20: ลว. 7 มิ.ย. 62
H21: และงบประมาณ
A22: 6 | B22: จัดซื้อวัสดุก่อสร้าง (ยาง Cms ๒ h,หินเกร็ดผสม | C22: 41756 | D22: 41756 | E22: เฉพาะเจาะจง | F22: หจก.จิตติภัณฑ์วัสดุก่อสร้าง | G22: =+F22 -> หจก.จิตติภัณฑ์วัสดุก่อสร้าง | H22: - คุณสมบัติครบถ้วน | I22: ใบสั่งซื้อ เลขที่ CNTR-0145/62
B23: แอสฟัลท์) | F23: 41756 | G23: =+F23 -> 41756 | H23: - เสนอราคาไม่เกินวงเงิน | I23: ลว. 10 มิ.ย. 62
H24: และงบประมาณ
A25: 7 | B25: จัดซื้อวัสดุน้ำมันเชื้อเพลิงและหล่อลื่น น้ำมันไฮดรอ | C25: 3000 | D25: 3000 | E25: เฉพาะเจาะจง | F25: อนันชัยสิชลกลการ | G25: =+F25 -> อนันชัยสิชลกลการ | H25: - คุณสมบัติครบถ้วน | I25: ใบสั่งซื้อ เลขที่ CNTR-0146/62
B26: ลิค ขนาด 18 ลิตร จำนวน 2 ถัง | F26: 3000 | G26: =+F26 -> 3000 | H26: - เสนอราคาไม่เกินวงเงิน | I26: ลว. 12 มิ.ย. 62
H27: และงบประมาณ
A28: 8 | B28: จัดซื้อวัสดุก่อสร้าง (วัสดุประปา) | C28: 4457 | D28: 4457 | E28: เฉพาะเจาะจง | F28: ร้านสิชลการไฟฟ้า | G28: =+F28 -> ร้านสิชลการไฟฟ้า | H28: - คุณสมบัติครบถ้วน | I28: ใบสั่งซื้อ เลขที่ CNTR-0152/62
F29: =+D28 -> 4457 | G29: =+F29 -> 4457 | H29: - เสนอราคาไม่เกินวงเงิน | I29: ลว. 13 มิ.ย. 62
H30: และงบประมาณ
A31: 9 | B31: จัดซื้อวัสดุสำหรับช่วยเหลือประชาชนที่ได้รับความ | C31: 2064 | D31: 2064 | E31: เฉพาะเจาะจง | F31: หจก.จิตติภัณฑ์วัสดุก่อสร้าง | G31: =+F31 -> หจก.จิตติภัณฑ์วัสดุก่อสร้าง | H31: - คุณสมบัติครบถ้วน | I31: ใบสั่งซื้อ เลขที่ CNTR-0154/62
B32: เดือดร้อนจากสาธารณะภัย | F32: 2064 | G32: =+F32 -> 2064 | H32: - เสนอราคาไม่เกินวงเงิน | I32: ลว. 19 มิ.ย. 62
H33: และงบประมาณ
A34: 10 | B34: จัดซื้อถ้วยรางวัลสำหรับโครงการแข่งขันกีฬา | C34: 30000 | D34: 30000 | E34: เฉพาะเจาะจง | F34: ชัยสปอร์ต | G34: =+F34 -> ชัยสปอร์ต | H34: - คุณสมบัติครบถ้วน | I34: ใบสั่งซื้อ เลขที่ CNTR-0158/62
B35: ดอนสนามเกมส์ ประจำปี 2562 | F35: 30000 | G35: =+F35 -> 30000 | H35: - เสนอราคาไม่เกินวงเงิน | I35: ลว. 21 มิ.ย. 62
H36: และงบประมาณ
A37: 11 | B37: จัดซื้ออุปกรณ์การแข่งขันสำหรับโครงการแข่งขัน | C37: 5640 | D37: 5640 | E37: เฉพาะเจาะจง | F37: ลูกฟลุ๊ค | G37: =+F37 -> ลูกฟลุ๊ค | H37: - คุณสมบัติครบถ้วน | I37: ใบสั่งซื้อ เลขที่ CNTR-0162/62
B38: ดอนสนามเกมส์ ประจำปี 2562 | F38: 5640 | G38: =+F38 -> 5640 | H38: - เสนอราคาไม่เกินวงเงิน | I38: ลว. 21 มิ.ย. 62
B39: พ.ศ.2562 | H39: และงบประมาณ
A40: 12 | B40: จัดซื้อวัสดุอุปกรณ์สำหรับโครงการแข่งขันกีฬา | C40: 5273 | D40: 5273 | E40: เฉพาะเจาะจง | F40: ร้านปรีดาค้าวัสดุ | G40: =+F40 -> ร้านปรีดาค้าวัสดุ | H40: - คุณสมบัติครบถ้วน | I40: ใบสั่งซื้อ เลขที่ CNTR-0164/62
B41: ดอนสนามเกมส์ ประจำปี 2562 | F41: 5273 | G41: =+F41 -> 5273 | H41: - เสนอราคาไม่เกินวงเงิน | I41: ลว. 21 มิ.ย. 62
H42: และงบประมาณ
A43: 13 | B43: จัดซื้อค่าอำนวยการ (น้ำดื่ม น้ำแข็ง กาแฟ) สำหรับ | C43: 20000 | D43: 19775 | E43: เฉพาะเจาะจง | F43: ร้านบุญรับบริการ | G43: =+F43 -> ร้านบุญรับบริการ | H43: - คุณสมบัติครบถ้วน | I43: ใบสั่งซื้อ เลขที่ CNTR-0169/62
B44: โครงการแข่งขันกีฬา ดอนสนามเกมส์ ประจำปี | F44: 19775 | G44: =+F44 -> 19775 | H44: - เสนอราคาไม่เกินวงเงิน | I44: ลว. 21 .มิ.ย. 62
B45: 2562 | H45: และงบประมาณ
A46: 14 | B46: ซื้อถ้วยรางวัลสำหรับโครงการแข่งขันกีฬา ฉลองคัพ | C46: 25000 | D46: 13800 | E46: เฉพาะเจาะจง | F46: ชัยสปอร์ต | G46: =+F46 -> ชัยสปอร์ต | H46: - คุณสมบัติครบถ้วน | I46: ใบสั่งซื้อ เลขที่ CNTR-0170/62
B47: ประจำปี 2562 | F47: 13800 | G47: =+F47 -> 13800 | H47: - เสนอราคาไม่เกินวงเงิน | I47: ลว. 21 มิ.ย. 62
H48: และงบประมาณ
A49: 15 | B49: จ้างทำป้ายไวนิลโครงการแข่งขันกีฬา ฉลองคัพ | C49: 4392 | D49: 4392 | E49: เฉพาะเจาะจง | F49: ร้านสุดภูธร ไวนิล แอนด์สติกเกอร์ | G49: =+F49 -> ร้านสุดภูธร ไวนิล แอนด์สติกเกอร์ | H49: - คุณสมบัติครบถ้วน | I49: ใบสั่งจ้าง เลขที่ CNTR-0137/62
B50: ประจำปี 2562 | F50: 4392 | G50: =+F50 -> 4392 | H50: - เสนอราคาไม่เกินวงเงิน | I50: ลว. 6 มิ.ย. 62
H51: และงบประมาณ
A52: 16 | B52: จ้างจัดเตรียมสนามแข่งขันตามโครงการแข่งขันกีฬา | C52: 30000 | D52: 30000 | E52: เฉพาะเจาะจง | F52: นายอุดม สมเชื้อ | G52: =+F52 -> นายอุดม สมเชื้อ | H52: - คุณสมบัติครบถ้วน | I52: ใบสั่งจ้าง เลขที่ CNTR-0139/62
B53: ฉลองคัพ ประจำปี 2562 | F53: 30000 | G53: =+F53 -> 30000 | H53: - เสนอราคาไม่เกินวงเงิน | I53: ลว. 6 มิ.ย. 62
H54: และงบประมาณ
A55: 17 | B55: จ้างทำป้ายผ้าแพรพร้อมลูกโป่งพิธีเปิดการแข่งขัน | C55: 4000 | D55: 4000 | E55: เฉพาะเจาะจง | F55: นายลัทธพล วิชัยกุล | G55: =+F55 -> นายลัทธพล วิชัยกุล | H55: - คุณสมบัติครบถ้วน | I55: ใบสั่งจ้าง เลขที่ CNTR-0142/62
B56: กีฬา สำหรับโครงการแข่งขันกีฬา ฉลองคัพ | F56: 4000 | G56: =+F56 -> 4000 | H56: - เสนอราคาไม่เกินวงเงิน | I56: ลว. 7 มิ.ย. 62
B57: ประจำปี 2562 | H57: และงบประมาณ
A58: 18 | B58: จ้างเหมาเช่าเต็นท์ เก้าอี้ เครื่องเสียงพร้อมอุปกรณ์ | C58: 40000 | D58: 32000 | E58: เฉพาะเจาะจง | F58: นายสรวิส ใจห้าว | G58: =+F58 -> นายสรวิส ใจห้าว | H58: - คุณสมบัติครบถ้วน | I58: ใบสั่งจ้าง เลขที่ CNTR-0143/62
B59: และผู้บรรยายเกมส์การแข่งขันตลอดจนการตกแต่ง | F59: 32000 | G59: =+F59 -> 32000 | H59: - เสนอราคาไม่เกินวงเงิน | I59: ลว. 7 มิ.ย. 62
B60: สถานที่ สำหรับโครงการแข่งขันกีฬา ฉลองคัพ 62 | H60: และงบประมาณ
A61: 19 | B61: จ้างซ่อมแซมรถตักหน้า-ขุดหลัง | C61: 5800 | D61: 5800 | E61: เฉพาะเจาะจง | F61: อนันชัยสิชลกลการ | G61: =+F61 -> อนันชัยสิชลกลการ | H61: - คุณสมบัติครบถ้วน | I61: ใบสั่งจ้าง เลขที่ CNTR-0149/62
F62: 5800 | G62: =+F62 -> 5800 | H62: - เสนอราคาไม่เกินวงเงิน | I62: ลว. 12 มิ.ย. 62
H63: และงบประมาณ
A64: 20 | B64: จ้างเหมาบริการถ่ายเอกสาร เย็บหนังสือหรือเข้าปก | C64: 4000 | D64: 4000 | E64: เฉพาะเจาะจง | F64: สิชล ก๊อปปี้ | G64: =+F64 -> สิชล ก๊อปปี้ | H64: - คุณสมบัติครบถ้วน | I64: ใบสั่งจ้าง เลขที่ CNTR-0151/62
B65: หนังสือ | F65: 4000 | G65: =+F65 -> 4000 | H65: - เสนอราคาไม่เกินวงเงิน | I65: ลว. 13 มิ.ย. 62
H66: และงบประมาณ
A67: 21 | B67: จ้างทำป้ายไวนิลประชาสัมพันธ์ตามโครงการแข่งขัน | C67: 6048 | D67: 6048 | E67: เฉพาะเจาะจง | F67: สุดภูธร ไวนิล แอนด์ สติกเกอร์ | G67: =+F67 -> สุดภูธร ไวนิล แอนด์ สติกเกอร์ | H67: - คุณสมบัติครบถ้วน | I67: ใบสั่งจ้าง เลขที่ CNTR-0155/62
B68: กีฬาดอนสนามเกมส์ ประจำปี 2562 | F68: 6048 | G68: =+F68 -> 6048 | H68: - เสนอราคาไม่เกินวงเงิน | I68: ลว. 19 มิ.ย. 62
H69: และงบประมาณ
A70: 22 | B70: จ้างทำป้ายไวนิลประชาสัมพันธ์ในสนามแข่งขัน | C70: 3600 | D70: 3600 | E70: เฉพาะเจาะจง | F70: สุดภูธร ไวนิล แอนด์ สติกเกอร์ | G70: =+F70 -> สุดภูธร ไวนิล แอนด์ สติกเกอร์ | H70: - คุณสมบัติครบถ้วน | I70: ใบสั่งจ้าง เลขที่ CNTR-0156/62
B71: ตามโครงการแข่งขันกีฬาดอนสนามเกมส์ | F71: 3600 | G71: =+F71 -> 3600 | H71: - เสนอราคาไม่เกินวงเงิน | I71: ลว. 19 มิ.ย. 62
B72: ประจำปี 2562 | H72: และงบประมาณ
A73: 23 | B73: จ้างเหมาจัดทำเล่มสูจิบัตร ตามโครงการแข่งขัน | C73: 8000 | D73: 7800 | E73: เฉพาะเจาะจง | F73: สิชล ก๊อปปี้ | G73: =+F73 -> สิชล ก๊อปปี้ | H73: - คุณสมบัติครบถ้วน | I73: ใบสั่งจ้าง เลขที่ CNTR-0159/62
B74: กีฬาดอนสนามเกมส์ ประจำปี 2562 | F74: 7800 | G74: =+F74 -> 7800 | H74: - เสนอราคาไม่เกินวงเงิน | I74: ลว. 21 มิ.ย. 62
H75: และงบประมาณ
A76: 24 | B76: จ้างเหมาเช่าเต็นท์ โต๊ะ เก้าอี้ เครื่องเสียงพร้อมอุป- | C76: 38000 | D76: 38000 | E76: เฉพาะเจาะจง | F76: นายสรวิส ใจห้าว | G76: =+F76 -> นายสรวิส ใจห้าว | H76: - คุณสมบัติครบถ้วน | I76: ใบสั่งจ้าง เลขที่ CNTR-0161/62
B77: กรณ์ สำหรับโครงการแข่งขันกีฬา ดอนสนามเกมส์ | F77: 38000 | G77: =+F77 -> 38000 | H77: - เสนอราคาไม่เกินวงเงิน | I77: ลว. 21 มิ.ย. 62
B78: ประจำปี 2562 | H78: และงบประมาณ
A79: 25 | B79: จ้างเหมาเช่าอุปกรณในการจุดคบเพลิง สำหรับ | C79: 3000 | D79: 3000 | E79: เฉพาะเจาะจง | F79: นายนัฐกร ดำเพ็ง | G79: =+F79 -> นายนัฐกร ดำเพ็ง | H79: - คุณสมบัติครบถ้วน | I79: ใบสั่งจ้าง เลขที่ CNTR-0163/62
B80: โครงการแข่งขันกีฬา ดอนสนามเกมส์ ประจำปี | F80: 3000 | G80: =+F80 -> 3000 | H80: - เสนอราคาไม่เกินวงเงิน | I80: ลว. 21 มิ.ย. 62
B81: 2562 | H81: และงบประมาณ
A82: 26 | B82: จ้างค่าใช้จ่ายในพิธีเปิด-ปิด (ค่าริ้วขบวนพาเหรด) | C82: 8000 | D82: 8000 | E82: เฉพาะเจาะจง | F82: นายฐานวัชร์ รักษาพล | G82: =+F82 -> นายฐานวัชร์ รักษาพล | H82: - คุณสมบัติครบถ้วน | I82: ใบสั่งจ้าง เลขที่ CNTR-0165/62
B83: สำหรับโครงการแข่งขันกีฬา ดอนสนามเกมส์ | F83: 8000 | G83: =+F83 -> 8000 | H83: - เสนอราคาไม่เกินวงเงิน | I83: ลว. 21 มิ.ย. 62
B84: ประจำปี2562 | H84: และงบประมาณ
A85: 27 | B85: จ้างค่าใช้จ่ายในพิธีเปิด-ปิด (ค่าผ้าแพรและลูกโป่ง) | C85: 7000 | D85: 7000 | E85: เฉพาะเจาะจง | F85: สิชล ฟลอริส | G85: =+F85 -> สิชล ฟลอริส | H85: - คุณสมบัติครบถ้วน | I85: ใบสั่งจ้าง เลขที่ CNTR-0166/62
B86: สำหรับโครงการแข่งขันกีฬา ดอนสนามเกมส์ | F86: 7000 | G86: =+F86 -> 7000 | H86: - เสนอราคาไม่เกินวงเงิน | I86: ลว. 21 มิ.ย. 62
B87: ประจำปี2562 | H87: และงบประมาณ
A88: 28 | B88: จ้างเหมาวงโยธวาทิตสำหรับนำขบวนพาเหรด | C88: 10000 | D88: 10000 | E88: เฉพาะเจาะจง | F88: กลุ่มสาระการเรียนรู้ศิลปะ | G88: =+F88 -> กลุ่มสาระการเรียนรู้ศิลปะ | H88: - คุณสมบัติครบถ้วน | I88: ใบสั่งจ้าง เลขที่ CNTR-0167/62
B89: สำหรับโครงการแข่งขันกีฬา ดอนสนามเกมส์ | F89: 10000 | G89: =+F89 -> 10000 | H89: - เสนอราคาไม่เกินวงเงิน | I89: ลว. 21 มิ.ย. 62
B90: ประจำปี2562 | H90: และงบประมาณ
A91: 29 | B91: จ้างเหมาจัดทำเกียรติบัตรตามโครงการแข่งขัน | C91: 12000 | D91: 12000 | E91: เฉพาะเจาะจง | F91: บริษัท สิชลบัณฑิตภัณฑ์ จำกัด | G91: =+F91 -> บริษัท สิชลบัณฑิตภัณฑ์ จำกัด | H91: - คุณสมบัติครบถ้วน | I91: ใบสั่งจ้าง เลขที่ CNTR-0168/62
B92: กีฬา "ดอนสนามเกมส์" ประจำปี 2562 | F92: 10000 | G92: =+F92 -> 10000 | H92: - เสนอราคาไม่เกินวงเงิน | I92: ลว. 21 มิ.ย. 62
H93: และงบประมาณ
A94: 30 | B94: จัดซื้ออาหารเสริม (นม) โรงเรียน ประจำภาคเรียน | C94: 338615.04 | D94: 338615.04 | E94: เฉพาะเจาะจง | F94: บริษัท แมรี่แอนแดรี่ โปรดักส์ จำกัด | G94: =+F94 -> บริษัท แมรี่แอนแดรี่ โปรดักส์ จำกัด | H94: - คุณสมบัติครบถ้วน | I94: สัญญาซื้อ เลขที่ CNTR-0153/62
B95: ที่ 1/2562 ปีการศึกษา 2562 (ครั้งที่2) | F95: 338615.04 | G95: =+F95 -> 338615.04 | H95: - เสนอราคาไม่เกินวงเงิน | I95: ลว. 14 มิ.ย. 62
H96: และงบประมาณ
A97: 31 | B97: จ้างก่อสร้างโครงการก่อสร้างถนน คสล.สายใสตึก | C97: 1354000 | D97: 1211000 | E97: ประกวดราคา | F97: บริษัท ปรีชาวัสดุภัณฑ์ จำกัด | G97: =+F97 -> บริษัท ปรีชาวัสดุภัณฑ์ จำกัด | H97: - คุณสมบัติครบถ้วน | I97: สัญญาซื้อ เลขที่ CNTR-0153/62
B98: จดเขตตำบลทุ่งปรัง ม.3 | E98: อิเล็กทรอนิกส์ | F98: 840000 | G98: =+F98 -> 840000 | H98: - เสนอราคาไม่เกินวงเงิน | I98: ลว. 14 มิ.ย. 62
H99: และงบประมาณ
F100: หจก.โดม การโยธา | H100: - คุณสมบัติครบถ้วน
...

Sheet Sheet2
A1: งบหน้าสรุปผลการพิจารณาการจัดซื้อจัดจ้างขององค์การบริหารส่วนตำบลฉลอง
A2: ประจำเดือนมิถุนายน 2562
F4: รวมราคาที่พิจารณา | G4: วงเงินต่ำหรือสูง
A5: ลำดับที่ | B5: วิธีการจัดซื้อจัดจ้าง | C5: จำนวนโครงการ | D5: รวมวงเงินที่จัดซื้อจัดจ้าง | E5: รวมราคากลาง | F5: คัดเลือก | G5: กว่าราคากลาง | H5: หมายเหตุ
G6: (+ สูง) (-ต่ำกว่า)
A7: 1 | B7: จัดซื้อโดยวิธีประกาศเชิญชวนทั่วไป | C7: - | D7: - | E7: =+D7 -> - | F7: =+D7 -> - | G7: -
A8: 2 | B8: จัดจ้างโดยวิธีประกาศเชิญชวนทั่วไป | C8: - | D8: - | E8: =+D8 -> - | F8: =+D8 -> - | G8: -
A9: 3 | B9: จัดซื้อโดยวิธีการคัดเลือก | C9: - | D9: - | E9: - | F9: - | G9: -
A10: 4 | B10: จัดจ้างโดยวิธีการคัดเลือก | C10: - | D10: - | E10: =+D10 -> - | F10: =+D10 -> - | G10: -
A11: 5 | B11: จัดซื้อโดยวิธีเฉพาะเจาะจง | C11: 15 | D11: =+มิถุนายน!C7+มิถุนายน!C10+มิถุนายน!C13+มิถุนายน!C16+มิถุนายน!C19+มิถุนายน!C22+มิถุนายน!C25+มิถุนายน!C28+มิถุนายน!C31+มิถุนายน!C34+มิถุนายน!C37+มิถุนายน!C40+มิถุนายน!C43+มิถุนายน!C46+มิถุนายน!C94 -> 617305.04 | E11: =+มิถุนายน!D7+มิถุนายน!D10+มิถุนายน!D13+มิถุนายน!D16+มิถุนายน!D19+มิถุนายน!D22+มิถุนายน!D25+มิถุนายน!D31+มิถุนายน!D34+มิถุนายน!D37+มิถุนายน!D40+มิถุนายน!D43+มิถุนายน!D46+มิถุนายน!D94+มิถุนายน!D28 -> 596895.04 | F11: =+E11 -> 596895.04 | G11: =+D11-E11 -> 20410
A12: 6 | B12: จัดจ้างโดยวิธีเฉพาะเจาะจง | C12: 15 | D12: =+มิถุนายน!C49+มิถุนายน!C52+มิถุนายน!C55+มิถุนายน!C58+มิถุนายน!C61+มิถุนายน!C64+มิถุนายน!C67+มิถุนายน!C70+มิถุนายน!C73+มิถุนายน!C76+มิถุนายน!C79+มิถุนายน!C82+มิถุนายน!C85+มิถุนายน!C88+มิถุนายน!C91 -> 183840 | E12: =+มิถุนายน!D49+มิถุนายน!D52+มิถุนายน!D55+มิถุนายน!D58+มิถุนายน!D61+มิถุนายน!D64+มิถุนายน!D67+มิถุนายน!D70+มิถุนายน!D73+มิถุนายน!D76+มิถุนายน!D79+มิถุนายน!D82+มิถุนายน!D85+มิถุนายน!D88+มิถุนายน!D91 -> 175640 | F12: =+E12 -> 175640 | G12: =+D12-E12 -> 8200
A13: 7 | B13: จัดซื้อโดยวิธีตลาดอิเล็กทรอนิกส์ | C13: - | D13: - | E13: =+D13 -> - | F13: =+E13 -> - | G13: -
A14: 8 | B14: จัดจ้างโดยวิธีตลาดอิเล็กทรอนิกส์ | C14: 3 | D14: =+มิถุนายน!C97+มิถุนายน!C148+มิถุนายน!C157 -> 3297000 | E14: =+มิถุนายน!D97+มิถุนายน!D148+มิถุนายน!D157 -> 2876000 | F14: =+มิถุนายน!F98+มิถุนายน!F149+มิถุนายน!F158 -> 2073970 | G14: =+D14-E14 -> 421000
A15: 9 | B15: จัดซื้อโดยวิธีประกวดราคาอิเล็กทรอนิกส์ | C15: - | D15: - | E15: - | F15: - | G15: -
A16: 10 | B16: จัดจ้างโดยวิธีประกวดราคาอิเล็กทรอนิกส์ | C16: - | D16: - | E16: - | F16: =+D16 -> - | G16: -
B17: ได้นำข้อมูลเกี่ยวกับการจัดซื้อจัดจ้างตามแบบ สขร.๑ ( ประจำเดือนมิถุนายน 2562)
B18: เผยแพร่ เมื่อวันที่ 3 กรกฎาคม 2562 โดยวิธีปิดประกาศ และที่เว็บไซต์ www.chalong.go.th
B19: ไม่ได้นำข้อมูลเกี่ยวกับการจัดซื้อจัดจ้างตามแบบ สขร.๑ เผยแพร่ เหตุเพราะ ..........................................................................................
F21: (ลงชื่อ)..................................................ผู้รายงาน
F22: (นางสุมิตรา รักบำรุง)
F23: ปลัดองค์การบริหารส่วนตำบลฉลอง
