Workbook

Sheet Sheet1
A1: สรุปผลการดำเนินการจัดซื้อจัดจ้างในรอบเดือนพฤศจิกายน 2566
A2: องค์การบริหารส่วนตำบลฉลอง อำเภอสิชล จังหวัดนครศรีธรรมราช
A3: วันที่ 3 เดือน มกราคม พ.ศ. 2567
A4: ลำดับ | B4: งานที่จัดซื้อหรือจัดจ้าง | C4: วงเงินที่จะซื้อ | D4: ราคากลาง | E4: วิธีซื้อหรือจ้าง | F4: รายชื่อผู้เสนอราคา | G4: ผู้ได้รับการคัดเลือกและราคาที่ | H4: เหตุผลที่คัดเลือกโดยสรุป | I4: เลขที่และวันที่ของสัญญา
A5: ที่ | F5: และราคาที่เสนอ | G5: ตกลงซื้อหรือจ้าง | I5: หรือข้อตกลงในการซื้อ
C6: หรือจ้าง | I6: หรือจ้าง
A7: 1 | B7: ซื้อวัสดุก่อสร้าง ท่อระบายน้ำคอนกรีตเสริมเหล็กและบ่อพัก | C7: 272500 | D7: 272500 | E7: เฉพาะเจาะจง | F7: บ.จิตติพันธ์ คอนกรีต จำกัด | G7: =+F7 -> บ.จิตติพันธ์ คอนกรีต จำกัด | H7: - คุณสมบัติครบถ้วน | I7: ใบสั่งซื้อ เลขที่ CNTR-00028/67
F8: 272500 | G8: =+F8 -> 272500 | H8: - เสนอราคาไม่เกินวงเงิน | I8: ลว. 8 ธ.ค. 66
H9: และงบประมาณ
A10: 2 | B10: ซื้อวัสดุก่อสร้าง สำหรับช่วยเหลือประชาชนที่ได้รับความเดือดร้อน | C10: 4000 | D10: 3782 | E10: =+E7 -> เฉพาะเจาะจง | F10: หจก.ปิยะภัณฑ์ (ก้าว) | G10: =+F10 -> หจก.ปิยะภัณฑ์ (ก้าว) | H10: - คุณสมบัติครบถ้วน | I10: ใบสั่งซื้อ เลขที่ CNTR-00030/67
B11: จากสาธารณภัย | F11: 3782 | G11: =+F11 -> 3782 | H11: - เสนอราคาไม่เกินวงเงิน | I11: ลว. 13 ธ.ค. 66
H12: และงบประมาณ
A13: 3 | B13: จ้างติดตั้งระบบแลนด์สำหรับเชื่อมต่อเครื่องถ่ายเอกสาร | C13: 5000 | D13: 4645 | E13: เฉพาะเจาะจง | F13: สิชลคอมพิวเตอร์ | G13: =+F13 -> สิชลคอมพิวเตอร์ | H13: - คุณสมบัติครบถ้วน | I13: ใบสั่งจ้าง เลขที่ CNTR-00023/67
F14: 4645 | G14: =+F14 -> 4645 | H14: - เสนอราคาไม่เกินวงเงิน | I14: ลว 6 ธ.ค. 66
H15: และงบประมาณ
A16: 4 | B16: จ้างตรวจเช็คและซ่อมแซมเครื่องคอมพิวเตอร์ | C16: 1500 | D16: 1290 | E16: เฉพาะเจาะจง | F16: สิชลคอมพิวเตอร์ | G16: =+F16 -> สิชลคอมพิวเตอร์ | H16: - คุณสมบัติครบถ้วน | I16: ใบสั๋งจ้าง เลขที่ CNTR-00024/67
F17: 1290 | G17: =+F17 -> 1290 | H17: - เสนอราคาไม่เกินวงเงิน | I17: ลว. 7 ธ.ค. 66
H18: และงบประมาณ
A19: 5 | B19: จ้างตรวจเช็คและซ่อมแซมเครื่องคอมพิวเตอร์ กองคลัง จำนวน | C19: 2500 | D19: 2480 | E19: เฉพาะเจาะจง | F19: สิชลคอมพิวเตอร์ | G19: =+F19 -> สิชลคอมพิวเตอร์ | H19: - คุณสมบัติครบถ้วน | I19: ใบสั่งจ้าง เลขที่ CNTR-00025/67
B20: 2 เครื่อง | F20: 2480 | G20: =+F20 -> 2480 | H20: - เสนอราคาไม่เกินวงเงิน | I20: ลว. 7 ธ.ค. 66
H21: และงบประมาณ
A22: 6 | B22: จ้างที่ปรึกษาสำรวจความพึงพอใจของผู้รับยริการที่มีต่อการให้ | C22: 25000 | D22: 25000 | E22: เฉพาะเจาะจง | F22: มหาวิทยาลัยทักษิณ | G22: =+F22 -> มหาวิทยาลัยทักษิณ | H22: - คุณสมบัติครบถ้วน | I22: ใบสั่งจ้าง เลขที่ CNTR-00026/67
B23: บริการ งานบริการสาธารณะขององค์การบริหารส่วนตำบลฉลอง | F23: 25000 | G23: =+F23 -> 25000 | H23: - เสนอราคาไม่เกินวงเงิน | I23: ลว. 7 ธ.ค. 66
B24: ประจำปีงบประมาณ พ.ศ. 2567 | H24: และงบประมาณ
A25: 7 | B25: จ้างจัดทำเอกสารประชาสัมพันธ์ใสรูปแบบปฏิทินสำหรับประชา | C25: 136500 | D25: 136500 | E25: เฉพาะเจาะจง | F25: หจก.ณัฐการ การพิมพ์ | G25: =+F25 -> หจก.ณัฐการ การพิมพ์ | H25: - คุณสมบัติครบถ้วน | I25: ใบสั่งจ้าง เลขที่ CNTR-00029/67
B26: สัมพันธ์รายงานผลการปฏิบัติงาน ประจำงบประมาณ พ.ศ. | F26: 136500 | G26: =+F26 -> 136500 | H26: - เสนอราคาไม่เกินวงเงิน | I26: ลว. 13 ธ.ค. 66
B27: 2566 | H27: และงบประมาณ
A28: 8 | B28: จ้างจัดทำป้ายไวนิลศุนย์บริการร่วม/ศูนย์บริการแบบเบ็ดเสร็จ | C28: 1500 | D28: 1500 | E28: เฉพาะเจาะจง | F28: สิชลโฆษณา | G28: =+F28 -> สิชลโฆษณา | H28: - คุณสมบัติครบถ้วน | I28: ใบสั่งจ้าง เลขที่ CNTR-00031/67
B29: (One Stop Service : OSS) | F29: 1500 | G29: =+F29 -> 1500 | H29: - เสนอราคาไม่เกินวงเงิน | I29: ลว. 14 ธ.ค. 66
H30: และงบประมาณ
A31: 9 | B31: จ้างซ๋อมแซม/วางท่อระบายน้ำ ในพื้นที่ หมู่ที่ 6 ตำบลฉลอง | C31: 84110 | D31: 84110 | E31: เฉพาะเจาะจง | F31: นายสุรศักดิ์ ใจห้าว | G31: =+F31 -> นายสุรศักดิ์ ใจห้าว | H31: - คุณสมบัติครบถ้วน | I31: ใบสั่งจ้าง เลขที่ CNTR-00032/67
F32: 84110 | G32: =+F32 -> 84110 | H32: - เสนอราคาไม่เกินวงเงิน | I32: ลว. 19 ธ.ค. 66
H33: และงบประมาณ
A34: 10 | B34: จ้างทำป้ายประชาสัมพันธ์โครงการป้องกันและลดอุบัติเหตุทางถนน | C34: 1200 | D34: 1200 | E34: เฉพาะเจาะจง | F34: สิชลโฆษณา | G34: =+F34 -> สิชลโฆษณา | H34: - คุณสมบัติครบถ้วน | I34: ใบสั่งจ้าง เลขที่ CNTR-00033/67
B35: ช่วงเทศกาลปีใหม่ พ.ศ.2567 | F35: 1200 | G35: =+F35 -> 1200 | H35: - เสนอราคาไม่เกินวงเงิน | I35: ลว. 22 ธ.ค. 66
H36: และงบประมาณ
A37: 11 | B37: เช่าเต็นท์ (พร้อมโต๊ะ/เก้าอี้/พัดลม) สำหรับโครงการป้องกันและลด | C37: 5000 | D37: 5000 | E37: เฉพาะเจาะจง | F37: นายเชาวลิต เศษเพชร | G37: =+F37 -> นายเชาวลิต เศษเพชร | H37: - คุณสมบัติครบถ้วน | I37: ใบสั่งจ้าง เลขที่ CNTR-00034/67
B38: อุบัติเหตุทางถนนช่วงเทศกาลปีใหม่ พ.ศ.2567 | F38: 5000 | G38: =+F38 -> 5000 | H38: - เสนอราคาไม่เกินวงเงิน | I38: ลว. 22 ธ.ค. 66
H39: และงบประมาณ
A40: 12 | B40: จ้างทำป้ายไวนิลสำหรับการดำเนินการจัดกิจกรรม "ตลาดนัดท้อง | C40: 432 | D40: 432 | E40: เฉพาะเจาะจง | F40: สิชลโฆษณา | G40: =+F40 -> สิชลโฆษณา | H40: - คุณสมบัติครบถ้วน | I40: ใบสั่งจ้าง เลขที่ CNTR-00035/67
B41: ถิ่นสีเขียว" | F41: 432 | G41: =+F41 -> 432 | H41: - เสนอราคาไม่เกินวงเงิน | I41: ลว. 26 ธ.ค. 66
H42: และงบประมาณ
A43: 13 | B43: จ้างวางท่อระบายน้ำ ในพื้นที่ หมู่ที่ 5 ตำบลฉลอง | C43: 148333.51 | D43: 148333.51 | E43: เฉพาะเจาะจง | F43: นายสุภนัย ควรเรือง | G43: =+F43 -> นายสุภนัย ควรเรือง | H43: - คุณสมบัติครบถ้วน | I43: ใบสั่งจ้าง เลขที่ CNTR-00037/67
F44: 148333 | G44: =+F44 -> 148333 | H44: - เสนอราคาไม่เกินวงเงิน | I44: ลว. 27 ธ.ค. 66
H45: และงบประมาณ

Sheet Sheet2
A1: งบหน้าสรุปผลการพิจารณาการจัดซื้อจัดจ้างขององค์การบริหารส่วนตำบลฉลอง
A2: ประจำเดือนธันวาคม 2566
F4: รวมราคาที่พิจารณา | G4: วงเงินต่ำหรือสูง
A5: ลำดับที่ | B5: วิธีการจัดซื้อจัดจ้าง | C5: จำนวนโครงการ | D5: รวมวงเงินที่จัดซื้อจัดจ้าง | E5: รวมราคากลาง | F5: คัดเลือก | G5: กว่าราคากลาง | H5: หมายเหตุ
G6: (+ สูง) (-ต่ำกว่า)
A7: 1 | B7: จัดซื้อโดยวิธีประกาศเชิญชวนทั่วไป | C7: - | D7: - | E7: =+D7 -> - | F7: =+D7 -> - | G7: -
A8: 2 | B8: จัดจ้างโดยวิธีประกาศเชิญชวนทั่วไป | C8: - | D8: - | E8: =+D8 -> - | F8: =+D8 -> - | G8: -
A9: 3 | B9: จัดซื้อโดยวิธีการคัดเลือก | C9: - | D9: - | E9: - | F9: - | G9: -
A10: 4 | B10: จัดจ้างโดยวิธีการคัดเลือก | C10: - | D10: - | E10: - | F10: - | G10: -
A11: 5 | B11: จัดซื้อโดยวิธีเฉพาะเจาะจง | C11: 2 | D11: =+Sheet1!C7+Sheet1!C10 -> 276500 | E11: =+Sheet1!D7+Sheet1!D10 -> 276282 | F11: =+Sheet1!G8+Sheet1!G11 -> 276282 | G11: =+D11-E11 -> 218
A12: 6 | B12: จัดจ้างโดยวิธีเฉพาะเจาะจง | C12: 11 | D12: =+Sheet1!C13+Sheet1!C16+Sheet1!C19+Sheet1!C22+Sheet1!C25+Sheet1!C28+Sheet1!C31+Sheet1!C34+Sheet1!C37+Sheet1!C40+Sheet1!C43 -> 411075.51 | E12: =+Sheet1!D13+Sheet1!D16+Sheet1!D19+Sheet1!D22+Sheet1!D25+Sheet1!D28+Sheet1!D31+Sheet1!D34+Sheet1!D37+Sheet1!D40+Sheet1!D43 -> 410490.51 | F12: =+Sheet1!F14+Sheet1!F17+Sheet1!F20+Sheet1!F23+Sheet1!F26+Sheet1!F29+Sheet1!F32+Sheet1!F35+Sheet1!F38+Sheet1!F41+Sheet1!F44 -> 410490 | G12: =+D12-E12 -> 585
A13: 7 | B13: จัดซื้อโดยวิธีตลาดอิเล็กทรอนิกส์ | C13: - | D13: - | E13: =+D13 -> - | F13: =+E13 -> - | G13: -
A14: 8 | B14: จัดจ้างโดยวิธีตลาดอิเล็กทรอนิกส์ | C14: - | D14: - | E14: =+D14 -> - | F14: =+E14 -> - | G14: -
A15: 9 | B15: จัดซื้อโดยวิธีประกวดราคาอิเล็กทรอนิกส์ | C15: - | D15: - | E15: - | F15: - | G15: -
A16: 10 | B16: จัดจ้างโดยวิธีประกวดราคาอิเล็กทรอนิกส์ | C16: - | D16: - | E16: - | F16: - | G16: -
B17: ได้นำข้อมูลเกี่ยวกับการจัดซื้อจัดจ้างตามแบบ สขร.๑ ( ประจำเดือนธันวาคม 2566)
B18: เผยแพร่ เมื่อวันที่ 3 มกราคม 2567 โดยวิธีปิดประกาศ และที่เว็บไซต์ www.chalong.go.th
B19: ไม่ได้นำข้อมูลเกี่ยวกับการจัดซื้อจัดจ้างตามแบบ สขร.๑ เผยแพร่ เหตุเพราะ ..........................................................................................
E21: (ลงชื่อ)..................................................ผู้รายงาน
E22: (นางสุมิตรา รักบำรุง)
E23: ปลัดองค์การบริหารส่วนตำบลฉลอง
