Workbook

Sheet Sheet1
A1: สรุปผลการดำเนินการจัดซื้อจัดจ้างในรอบเดือนมิถุนายน 2569
A2: องค์การบริหารส่วนตำบลฉลอง อำเภอสิชล จังหวัดนครศรีธรรมราช
A3: วันที่ 3 เดือน กรกฎาคม พ.ศ. 2569
A4: ลำดับ | B4: งานที่จัดซื้อหรือจัดจ้าง | C4: วงเงินที่จะซื้อ | D4: ราคากลาง | E4: วิธีซื้อหรือจ้าง | F4: รายชื่อผู้เสนอราคา | G4: ผู้ได้รับการคัดเลือกและราคาที่ | H4: เหตุผลที่คัดเลือกโดยสรุป | I4: เลขที่และวันที่ของสัญญา
A5: ที่ | F5: และราคาที่เสนอ | G5: ตกลงซื้อหรือจ้าง | I5: หรือข้อตกลงในการซื้อ
C6: หรือจ้าง | I6: หรือจ้าง
A7: 1 | B7: จ้างเหมาเครื่องจักรขุดลอกทางระบายน้ำ หมู่ที่ 1 ตำบลฉลอง | C7: 36800 | D7: 36800 | E7: เฉพาะเจาะจง | F7: นายธวัชชัย ถาวรรัตน์ | G7: =+F7 -> นายธวัชชัย ถาวรรัตน์ | H7: - คุณสมบัติครบถ้วน | I7: ใบสั่งจ้าง เลขที่ CNTR-00106/69
F8: 36800 | G8: =+F8 -> 36800 | H8: - เสนอราคาไม่เกินวงเงิน | I8: ลว. 2 มิ.ย.69
H9: และงบประมาณ
A10: 2 | B10: ซื้อวัสดุคอมพิวเตอร์ (หมึกคอมพิวเตอร์) สำนักปลัด จำนวน 1 รายการ | C10: 6900 | D10: 6900 | E10: =+E7 -> เฉพาะเจาะจง | F10: ซีคอมแอนด์เซอร์วิส | G10: =+F10 -> ซีคอมแอนด์เซอร์วิส | H10: - คุณสมบัติครบถ้วน | I10: ใบสั่งซื้อ เลขที่ CNTR-00107/69
F11: 6900 | G11: =+F11 -> 6900 | H11: - เสนอราคาไม่เกินวงเงิน | I11: ลว. 10 มิ.ย. 69
H12: และงบประมาณ
A13: 3 | B13: จ้างขุดเจาะบ่อบาดาล หมู่ที่ 11 ตำบลฉลอง | C13: 423000 | D13: 449725.03 | E13: เฉพาะเจาะจง | F13: ห้างหุ้นส่วนจำกัด สิชลการไฟฟ้า 2019 | G13: =+F13 -> ห้างหุ้นส่วนจำกัด สิชลการไฟฟ้า 2019 | H13: - คุณสมบัติครบถ้วน | I13: สัญญาจ้าง เลขที่ CNTR-00108/69
F14: 422500 | G14: =+F14 -> 422500 | H14: - เสนอราคาไม่เกินวงเงิน | I14: ลว. 10 มิ.ย.69
H15: และงบประมาณ
A16: 4 | B16: จ้างก่อสร้างโครงการก่อสร้างระบบประปาหมู่บ้าน หมู่ที่ 5 | C16: 1322000 | D16: 1274743.8 | E16: ประกวดราคา | F16: ห้างหุ้นส่วนจำกัด สิชลการไฟฟ้า 2019 | G16: =+F16 -> ห้างหุ้นส่วนจำกัด สิชลการไฟฟ้า 2019 | H16: - คุณสมบัติครบถ้วน | I16: สัญญาจ้าง เลขที่ CNTR-00109/69
B17: ตำบลฉลอง | E17: อิเล็กทรอนิกส์ | F17: 1064000 | G17: =+F17 -> 1064000 | H17: - เสนอราคาไม่เกินวงเงิน | I17: ลว. 12 มิ.ย.69
E18: (e-bidding) | H18: และงบประมาณ
F19: ห้างหุ้นส่วนจำกัด ลานชล
F20: 1143000
F22: ห้างหุ้นส่วนจำกัด นครศรีฯ มอเตอร์
F23: 1312000
F25: ห้างหุ้นส่วนจำกัด นิธิกรการโยธา 2556
F26: 1248000
A28: 5 | B28: ซื้อวัสดุสำนักงาน สำนักปลัด จำนวน 16 รายการ | C28: 16029 | D28: 16029 | E28: เฉพาะเจาะจง | F28: ร้านบูรพาเครื่องเขียน | G28: =+F28 -> ร้านบูรพาเครื่องเขียน | H28: - คุณสมบัติครบถ้วน | I28: ใบสั่งซื้อ เลขที่ CNTR-00110/69
F29: 16029 | G29: =+F29 -> 16029 | H29: - เสนอราคาไม่เกินวงเงิน | I29: ลว. 17 มิ.ย.69
H30: และงบประมาณ
A31: 6 | B31: ซื้อวัสดุงานบ้านงานครัว | C31: 8123 | D31: 8123 | E31: เฉพาะเจาะจง | F31: ร้านบูรพาเครื่องเขียน | G31: =+F31 -> ร้านบูรพาเครื่องเขียน | H31: - คุณสมบัติครบถ้วน | I31: ใบสั่งซื้อ เลขที่ CNTR-00111/69
F32: 8123 | G32: =+F32 -> 8123 | H32: - เสนอราคาไม่เกินวงเงิน | I32: ลว. 17 มิ.ย.69
H33: และงบประมาณ
A34: 7 | B34: ซื้อวัสดุไฟฟ้าและวิทยุ สำนักปลัด จำนวน 1 รายการ | C34: 800 | D34: 800 | E34: เฉพาะเจาะจง | F34: ร้านบูรพาเครื่องเขียน | G34: =+F34 -> ร้านบูรพาเครื่องเขียน | H34: - คุณสมบัติครบถ้วน | I34: ใบสั่งซื้อ เลขที่ CNTR-00112/69
F35: 800 | G35: =+F35 -> 800 | H35: - เสนอราคาไม่เกินวงเงิน | I35: ลว. 17 มิ.ย.69
H36: และงบประมาณ
A37: 8 | B37: จ้างจัดทำป้ายไวนิลประชาสัมพันธ์ การดำเนินการตามมาตรการ | C37: 864 | D37: 864 | E37: เฉพาะเจาะจง | F37: สิชลโฆษณา | G37: =+F37 -> สิชลโฆษณา | H37: - คุณสมบัติครบถ้วน | I37: ใบสั่งจ้าง เลขที่ CNTR-00113/69
B38: การคัดแยกขยะครบวงจร จังหวัดนครศรีธรรมราช | F38: 864 | G38: =+F38 -> 864 | H38: - เสนอราคาไม่เกินวงเงิน | I38: ลว. 17 มิ.ย.69
H39: และงบประมาณ
A40: 9 | B40: จ้างตรวจเช็คและซ่อมแซมรถยนต์ส่วนกลาง หมายเลขทะเบียน | C40: 9620 | D40: 9620 | E40: เฉพาะเจาะจง | F40: ห้างหุ้นส่วนจำกัด พีระการยาง | G40: =+F40 -> ห้างหุ้นส่วนจำกัด พีระการยาง | H40: - คุณสมบัติครบถ้วน | I40: ใบสั่งซื้อ เลขที่ CNTR-00114/69
B41: กล 8661 นศ | F41: 9620 | G41: =+F41 -> 9620 | H41: - เสนอราคาไม่เกินวงเงิน | I41: ลว. 19 มิ.ย.69
H42: และงบประมาณ
A43: 10 | B43: ซื้อวัสดุสำนักงาน งานควบคุมภายในและการตรวจสอบภายใน | C43: 4770 | D43: 4770 | E43: เฉพาะเจาะจง | F43: ร้านบูรพาเครื่องเขียน | G43: =+F43 -> ร้านบูรพาเครื่องเขียน | H43: - คุณสมบัติครบถ้วน | I43: ใบสั่งซื้อ เลขที่ CNTR-00115/69
F44: 4770 | G44: =+F44 -> 4770 | H44: - เสนอราคาไม่เกินวงเงิน | I44: ลว. 22 มิ.ย.69
H45: และงบประมาณ
A46: 11 | B46: จ้างถ่ายเอกสาร,เย็บเล่มแผนพัฒนาท้องถิ่นฯ | C46: 2880 | D46: 2880 | E46: เฉพาะเจาะจง | F46: สิชล ก๊อปปี้ | G46: =+F46 -> สิชล ก๊อปปี้ | H46: - คุณสมบัติครบถ้วน | I46: ใบสั่งจ้าง เลขที่ CNTR-00116/69
F47: 2880 | G47: =+F47 -> 2880 | H47: - เสนอราคาไม่เกินวงเงิน | I47: ลว. 22 มิ.ย.69
H48: และงบประมาณ
A49: 12 | B49: จ้างโครงการปรับปรุงซ่อมคันคลองท่าน้อย หมู่ที่ 1 ตำบลฉลอง | C49: 903000 | D49: 1066300 | E49: วิธีคัดเลือก | F49: ห้างหุ้นส่วนจำกัด จิระวัฒน์การโยธา | G49: =+F49 -> ห้างหุ้นส่วนจำกัด จิระวัฒน์การโยธา | H49: - คุณสมบัติครบถ้วน | I49: สัญญาจ้าง เลขที่ CNTR-00117/69
F50: 902000 | G50: =+F50 -> 902000 | H50: - เสนอราคาไม่เกินวงเงิน | I50: ลว. 25 มิ.ย.69
H51: และงบประมาณ
A52: 13 | B52: จ้างตรวจเช็คและซ่อมแซมรถบรรทุกน้ำเอนกประสงค์ หมายเลข | C52: 14710 | D52: 14710 | E52: เฉพาะเจาะจง | F52: ร้านท่าหินการยางและรถยก | G52: =+F52 -> ร้านท่าหินการยางและรถยก | H52: - คุณสมบัติครบถ้วน | I52: ใบสั่งจ้าง เลขที่ CNTR-00118/69
B53: ทะเบียน 81-4247 นครศรีธรรมราช (รหัสครุภัณฑ์ 001-48- | F53: 14710 | G53: =+F53 -> 14710 | H53: - เสนอราคาไม่เกินวงเงิน | I53: ลว. 26 มิ.ย.69
B54: 0001) | H54: และงบประมาณ
A55: 14 | B55: จัดซื้อวัสดุจราจร (ป้ายสามเหลี่ยมหยุดตรวจ) | C55: 45000 | D55: 45000 | E55: เฉพาะเจาะจง | F55: บริษัท พีเอส 99 ดีเวลลอปเมนท์ จำกัด | G55: =+F55 -> บริษัท พีเอส 99 ดีเวลลอปเมนท์ จำกัด | H55: - คุณสมบัติครบถ้วน | I55: ใบสั่งซื้อ เลขที่ CNTR-00119/69
F56: 45000 | G56: =+F56 -> 45000 | H56: - เสนอราคาไม่เกินวงเงิน | I56: ลว. 26 มิ.ย.69
H57: และงบประมาณ
A58: 15 | B58: ซื้อวัสดุคอมพิวเตอร์ (หมึกคอมพิวเตอร์) สำนักปลัด จำนวน 2 | C58: 6540 | D58: 6540 | E58: เฉพาะเจาะจง | F58: ซีคอมแอนด์เซอร์วิส | G58: =+F58 -> ซีคอมแอนด์เซอร์วิส | H58: - คุณสมบัติครบถ้วน | I58: ใบสั่งจ้าง เลขที่ CNTR-00120/69
B59: รายการ | F59: 6540 | G59: =+F59 -> 6540 | H59: - เสนอราคาไม่เกินวงเงิน | I59: ลว. 26 มิ.ย.69
H60: และงบประมาณ
A61: 16 | B61: ซื้ออาหารเสริม (นม) โรงเรียน ประจำภาคเรียนที่ 1 ปีการศึกษา | C61: 297000.96 | D61: 297000.96 | E61: เฉพาะเจาะจง | F61: บริษัท แมรี่ แอน แดรี่ โปรดักส์ จำกัด | G61: =+F61 -> บริษัท แมรี่ แอน แดรี่ โปรดักส์ จำกัด | H61: - คุณสมบัติครบถ้วน | I61: ใบสั่งซื้อ เลขที่ CNTR-00121/69
B62: 2569 (ครั้งที่ ๔) | F62: 297000.96 | G62: =+F62 -> 297000.96 | H62: - เสนอราคาไม่เกินวงเงิน | I62: ลว. 30 มิ.ย.69
H63: และงบประมาณ

Sheet Sheet2
A1: งบหน้าสรุปผลการพิจารณาการจัดซื้อจัดจ้างขององค์การบริหารส่วนตำบลฉลอง
A2: ประจำเดือนมิถุนายน 2569
F4: รวมราคาที่พิจารณา | G4: วงเงินต่ำหรือสูง
A5: ลำดับที่ | B5: วิธีการจัดซื้อจัดจ้าง | C5: จำนวนโครงการ | D5: รวมวงเงินที่จัดซื้อจัดจ้าง | E5: รวมราคากลาง | F5: คัดเลือก | G5: กว่าราคากลาง | H5: หมายเหตุ
G6: (+ สูง) (-ต่ำกว่า)
A7: 1 | B7: จัดซื้อโดยวิธีประกาศเชิญชวนทั่วไป | C7: - | D7: - | E7: =+D7 -> - | F7: =+D7 -> - | G7: -
A8: 2 | B8: จัดจ้างโดยวิธีประกาศเชิญชวนทั่วไป | C8: - | D8: - | E8: =+D8 -> - | F8: =+D8 -> - | G8: -
A9: 3 | B9: จัดซื้อโดยวิธีการคัดเลือก | C9: - | D9: - | E9: - | F9: - | G9: -
A10: 4 | B10: จัดจ้างโดยวิธีการคัดเลือก | C10: 1 | D10: =+Sheet1!C49 -> 903000 | E10: =+Sheet1!D49 -> 1066300 | F10: =+Sheet1!G50 -> 902000 | G10: =+D10-E10 -> -163300
A11: 5 | B11: จัดซื้อโดยวิธีเฉพาะเจาะจง | C11: 8 | D11: =+Sheet1!C10+Sheet1!C28+Sheet1!C31+Sheet1!C34+Sheet1!C43+Sheet1!C55+Sheet1!C58+Sheet1!C61 -> 385162.96 | E11: =+Sheet1!D10+Sheet1!D28+Sheet1!D31+Sheet1!D34+Sheet1!D43+Sheet1!D55+Sheet1!D58+Sheet1!D61 -> 385162.96 | F11: =+Sheet1!G11+Sheet1!G29+Sheet1!G32+Sheet1!G35+Sheet1!G44+Sheet1!G56+Sheet1!G59+Sheet1!G62 -> 385162.96 | G11: =+D11-E11 -> 0
A12: 6 | B12: จัดจ้างโดยวิธีเฉพาะเจาะจง | C12: 6 | D12: =+Sheet1!C7+Sheet1!C13+Sheet1!C37+Sheet1!C40+Sheet1!C46+Sheet1!C52 -> 487874 | E12: =+Sheet1!D7+Sheet1!D13+Sheet1!D37+Sheet1!D40+Sheet1!D46+Sheet1!D52 -> 514599.03 | F12: =+Sheet1!G8+Sheet1!G14+Sheet1!G38+Sheet1!G41+Sheet1!G47+Sheet1!G53 -> 487374 | G12: =+D12-E12 -> -26725.03
A13: 7 | B13: จัดซื้อโดยวิธีตลาดอิเล็กทรอนิกส์ | C13: - | D13: - | E13: =+D13 -> - | F13: =+E13 -> - | G13: -
A14: 8 | B14: จัดจ้างโดยวิธีตลาดอิเล็กทรอนิกส์ | C14: - | D14: - | E14: =+D14 -> - | F14: =+E14 -> - | G14: -
A15: 9 | B15: จัดซื้อโดยวิธีประกวดราคาอิเล็กทรอนิกส์ | C15: - | D15: - | E15: - | F15: - | G15: -
A16: 10 | B16: จัดจ้างโดยวิธีประกวดราคาอิเล็กทรอนิกส์ | C16: 1 | D16: =+Sheet1!C16 -> 1322000 | E16: =+Sheet1!D16 -> 1274743.8 | F16: =+Sheet1!G17 -> 1064000 | G16: =+D16-E16 -> 47256.24
B17: ได้นำข้อมูลเกี่ยวกับการจัดซื้อจัดจ้างตามแบบ สขร.๑ ( ประจำเดือนมิถุนายน 2569)
B18: เผยแพร่ เมื่อวันที่ 3 กรกฎาคม 2569 โดยวิธีปิดประกาศ และที่เว็บไซต์ www.chalong.go.th
B19: ไม่ได้นำข้อมูลเกี่ยวกับการจัดซื้อจัดจ้างตามแบบ สขร.๑ เผยแพร่ เหตุเพราะ ..........................................................................................
E21: (ลงชื่อ)..................................................ผู้รายงาน
E22: (นางสุมิตรา รักบำรุง)
E23: ปลัดองค์การบริหารส่วนตำบลฉลอง
