Workbook

Sheet กุมภาพันธ์
A1: สรุปผลการดำเนินการจัดซื้อจัดจ้างในรอบเดือนกุมภาพันธ์ 2562
A2: องค์การบริหารส่วนตำบลฉลอง อำเภอสิชล จังหวัดนครศรีธรรมราช
A3: วันที่ 4 เดือน มีนาคม พ.ศ. 2562
A4: ลำดับ | B4: งานที่จัดซื้อหรือจัดจ้าง | C4: วงเงินที่จะซื้อ | D4: ราคากลาง | E4: วิธีซื้อหรือจ้าง | F4: รายชื่อผู้เสนอราคา | G4: ผู้ได้รับการคัดเลือกและราคาที่ | H4: เหตุผลที่คัดเลือกโดยสรุป | I4: เลขที่และวันที่ของสัญญา
A5: ที่ | F5: และราคาที่เสนอ | G5: ตกลงซื้อหรือจ้าง | I5: หรือข้อตกลงในการซื้อ
C6: หรือจ้าง | I6: หรือจ้าง
A7: 1 | B7: จัดซื้อกระเป๋าใส่เอกสารเครื่องเขียนและอุปกรณ์ | C7: 5440 | D7: 3740 | E7: เฉพาะเจาะจง | F7: ร้านปรีดาค้าวัสดุ | G7: =+F7 -> ร้านปรีดาค้าวัสดุ | H7: - คุณสมบัติครบถ้วน | I7: ใบสั่งซื้อ เลขที่ CNTR-0068/62
B8: สำหรับโครงการป้องกันและแก้ไขปัญหายาเสพติด | F8: =+D7 -> 3740 | G8: =+F8 -> 3740 | H8: - เสนอราคาไม่เกินวงเงิน | I8: ลว. 6 ก.พ. 62
H9: และงบประมาณ
A10: 2 | B10: จัดซื้อวัสดุไฟฟ้า เบรกเกอร์เปิด-ปิด เครื่องปรับอา | C10: 2750 | D10: 2750 | E10: เฉพาะเจาะจง | F10: นายเฉลิมศักดิ์ ชูแก้ว | G10: =+F10 -> นายเฉลิมศักดิ์ ชูแก้ว | H10: - คุณสมบัติครบถ้วน | I10: ใบสั่งซื้อ เลขที่ CNTR-0071/62
B11: กาศห้องกองคลัง | F11: =+D10 -> 2750 | G11: =+F11 -> 2750 | H11: - เสนอราคาไม่เกินวงเงิน | I11: ลว. 11 ก.พ. 62
H12: และงบประมาณ
A13: 3 | B13: จัดซื้อวัสดุคอมพิวเตอร์แป้นพิมพ์คอมพิวเตอร์ | C13: 289 | D13: 289 | E13: เฉพาะเจาะจง | F13: ร้านสิชลคอมพิวเตอร์แอนด์เซอร์วิส | G13: =+F13 -> ร้านสิชลคอมพิวเตอร์แอนด์เซอร์วิส | H13: - คุณสมบัติครบถ้วน | I13: ใบสั่งซื้อ เลขที่ CNTR-0074/62
B14: (คีย์บอร์ด) | F14: 289 | G14: =+F14 -> 289 | H14: - เสนอราคาไม่เกินวงเงิน | I14: ลว. 15 ก.พ. 62
H15: และงบประมาณ
A16: 4 | B16: จัดซื้อครุภัณฑ์คอมพิวเตอร์ (คอมพิวเตอร์โน๊ตบุ๊ก) | C16: 21000 | D16: 21000 | E16: เฉพาะเจาะจง | F16: ร้านสิชลคอมพิวเตอร์แอนด์เซอร์วิส | G16: =+F16 -> ร้านสิชลคอมพิวเตอร์แอนด์เซอร์วิส | H16: - คุณสมบัติครบถ้วน | I16: ใบสั่งซื้อ เลขที่ CNTR-0077/62
F17: =+D16 -> 21000 | G17: =+F17 -> 21000 | H17: - เสนอราคาไม่เกินวงเงิน | I17: ลว. 26 ก.พ. 62
H18: และงบประมาณ
A19: 5 | B19: จ้างเหมาจัดทำป้ายประชาสัมพันธ์โครงการป้องกัน | C19: 2250 | D19: 2250 | E19: เฉพาะเจาะจง | F19: ร้านสุดภูธร ไวนิล แอนด์ สติกเกอร์ | G19: =+F19 -> ร้านสุดภูธร ไวนิล แอนด์ สติกเกอร์ | H19: - คุณสมบัติครบถ้วน | I19: ใบสั่งจ้าง เลขที่ CNTR-0067/62
B20: และแก้ไขปัญหายาเสพติด | F20: =+D19 -> 2250 | G20: =+F20 -> 2250 | H20: - เสนอราคาไม่เกินวงเงิน | I20: ลว. 6 ก.พ. 62
H21: และงบประมาณ
A22: 6 | B22: จ้างทำป้ายไวนิลสมโพชพระธาตุนครศรีธรรมราช | C22: 3200 | D22: 3114 | E22: เฉพาะเจาะจง | F22: ร้านสุดภูธร ไวนิล แอนด์ สติกเกอร์ | G22: =+F22 -> ร้านสุดภูธร ไวนิล แอนด์ สติกเกอร์ | H22: - คุณสมบัติครบถ้วน | I22: ใบสั่งจ้าง เลขที่ CNTR-0069/62
F23: 3114 | G23: =+F23 -> 3114 | H23: - เสนอราคาไม่เกินวงเงิน | I23: ลว. 7 ก.พ. 62
H24: และงบประมาณ
A25: 7 | B25: จ้างเหมาซ่อมแซมปรับปรุงหลังคา-ฝ้าเพดานห้อง | C25: 6270 | D25: =+C25 -> 6270 | E25: เฉพาะเจาะจง | F25: นายเฉลิมศักดิ์ ชูแก้ว | G25: =+F25 -> นายเฉลิมศักดิ์ ชูแก้ว | H25: - คุณสมบัติครบถ้วน | I25: ใบสั่งจ้าง เลขที่ CNTR-0070/62
B26: กองคลังและห้องกองช่าง | F26: =+C25 -> 6270 | G26: =+F26 -> 6270 | H26: - เสนอราคาไม่เกินวงเงิน | I26: ลว. 8 ก.พ. 62
H27: และงบประมาณ
A28: 8 | B28: จ้างตรวจเช็คและซ่อมแซมเครื่องปรับอากาศห้อง | C28: 6500 | D28: 6000 | E28: เฉพาะเจาะจง | F28: สำฤทธิ์ สิชลแอร์ แอ่นด์ เซอร์วิส | G28: =+F28 -> สำฤทธิ์ สิชลแอร์ แอ่นด์ เซอร์วิส | H28: - คุณสมบัติครบถ้วน | I28: ใบสั่งจ้าง เลขที่ CNTR-0073/62
B29: ทำงานผู้บริหาร (ห้องนายก) | F29: =+D28 -> 6000 | G29: =+F29 -> 6000 | H29: - เสนอราคาไม่เกินวงเงิน | I29: ลว. 13 ก.พ. 62
H30: และงบประมาณ
A31: 9 | B31: จ้างจัดทำป้ายปิดประกาศเกี่ยวกับการเลือกตั้ง | C31: 55800 | D31: 55800 | E31: เฉพาะเจาะจง | F31: หมึกพิมพ์โฆษณา | G31: =+F31 -> หมึกพิมพ์โฆษณา | H31: - คุณสมบัติครบถ้วน | I31: ใบสั่งจ้าง เลขที่ CNTR-0075/62
B32: สมาชิกสภาผู้แทนราษฎร | F32: =+D31 -> 55800 | G32: =+F32 -> 55800 | H32: - เสนอราคาไม่เกินวงเงิน | I32: ลว. 20 ก.พ. 62
H33: และงบประมาณ
A34: 10 | B34: จ้างซ่อมแซมรถตักหน้า-ขุดหลัง | C34: 8700 | D34: 8700 | E34: เฉพาะเจาะจง | F34: ร้านท่าหินการยางและรถยก | G34: =+F34 -> ร้านท่าหินการยางและรถยก | H34: - คุณสมบัติครบถ้วน | I34: ใบสั่งจ้าง เลขที่ CNTR-0076/62
F35: =+C34 -> 8700 | G35: =+F35 -> 8700 | H35: - เสนอราคาไม่เกินวงเงิน | I35: ลว. 25 ก.พ. 62
H36: และงบประมาณ
A37: 11 | B37: จ้างปรับปรุงซ่อมสร้างผิวจราจรแบบแอสฟัลต์ติก | C37: 1741000 | D37: 1864000 | E37: ประกวดราคา | F37: บริษัท สยามวุฒิพันธ์ จำกัด | G37: =+F37 -> บริษัท สยามวุฒิพันธ์ จำกัด | H37: - คุณสมบัติครบถ้วน | I37: สัญญาจ้าง เลขที่ CNTR-0071/62
B38: คอนกรีตผสมยางพารา | E38: อิเล็กทรอนิกส์ | F38: 1600000 | G38: =+F38 -> 1600000 | H38: - เสนอราคาไม่เกินวงเงิน | I38: ลว. 11 ก.พ. 62
H39: และงบประมาณ
F40: หจก. ซี.ซี.จักรกล และก่อสร้าง | G40: =+F40 -> หจก. ซี.ซี.จักรกล และก่อสร้าง
...

Sheet Sheet2
A1: งบหน้าสรุปผลการพิจารณาการจัดซื้อจัดจ้างขององค์การบริหารส่วนตำบลฉลอง
A2: ประจำเดือนกุมภาพันธ์ 2562
F4: รวมราคาที่พิจารณา | G4: วงเงินต่ำหรือสูง
A5: ลำดับที่ | B5: วิธีการจัดซื้อจัดจ้าง | C5: จำนวนโครงการ | D5: รวมวงเงินที่จัดซื้อจัดจ้าง | E5: รวมราคากลาง | F5: คัดเลือก | G5: กว่าราคากลาง | H5: หมายเหตุ
G6: (+ สูง) (-ต่ำกว่า)
A7: 1 | B7: จัดซื้อโดยวิธีประกาศเชิญชวนทั่วไป | C7: - | D7: - | E7: =+D7 -> - | F7: =+D7 -> - | G7: -
A8: 2 | B8: จัดจ้างโดยวิธีประกาศเชิญชวนทั่วไป | C8: - | D8: - | E8: =+D8 -> - | F8: =+D8 -> - | G8: -
A9: 3 | B9: จัดซื้อโดยวิธีการคัดเลือก | C9: - | D9: - | E9: - | F9: - | G9: -
A10: 4 | B10: จัดจ้างโดยวิธีการคัดเลือก | C10: - | D10: - | E10: =+D10 -> - | F10: =+D10 -> - | G10: -
A11: 5 | B11: จัดซื้อโดยวิธีเฉพาะเจาะจง | C11: 4 | D11: =+กุมภาพันธ์!C7+กุมภาพันธ์!C10+กุมภาพันธ์!C13+กุมภาพันธ์!C16 -> 29479 | E11: =+กุมภาพันธ์!D7+กุมภาพันธ์!D10+กุมภาพันธ์!D13+กุมภาพันธ์!D16 -> 27779 | F11: =+กุมภาพันธ์!G8+กุมภาพันธ์!G11+กุมภาพันธ์!G14+กุมภาพันธ์!G17 -> 27779 | G11: =+D11-E11 -> 1700
A12: 6 | B12: จัดจ้างโดยวิธีเฉพาะเจาะจง | C12: 6 | D12: =+กุมภาพันธ์!C19+กุมภาพันธ์!C22+กุมภาพันธ์!C25+กุมภาพันธ์!C28+กุมภาพันธ์!C31+กุมภาพันธ์!C34 -> 82720 | E12: =+กุมภาพันธ์!D19+กุมภาพันธ์!D22+กุมภาพันธ์!D25+กุมภาพันธ์!D28+กุมภาพันธ์!D31+กุมภาพันธ์!D34 -> 82134 | F12: =+E12 -> 82134 | G12: =+D12-E12 -> 586
A13: 7 | B13: จัดซื้อโดยวิธีตลาดอิเล็กทรอนิกส์ | C13: - | D13: - | E13: =+D13 -> - | F13: =+E13 -> - | G13: -
A14: 8 | B14: จัดจ้างโดยวิธีตลาดอิเล็กทรอนิกส์ | C14: 1 | D14: =+กุมภาพันธ์!C37 -> 1741000 | E14: =+กุมภาพันธ์!D37 -> 1864000 | F14: =+กุมภาพันธ์!G38 -> 1600000 | G14: -123000
A15: 9 | B15: จัดซื้อโดยวิธีประกวดราคาอิเล็กทรอนิกส์ | C15: - | D15: - | E15: - | F15: - | G15: -
A16: 10 | B16: จัดจ้างโดยวิธีประกวดราคาอิเล็กทรอนิกส์ | C16: - | D16: - | E16: - | F16: =+D16 -> - | G16: -
B17: ได้นำข้อมูลเกี่ยวกับการจัดซื้อจัดจ้างตามแบบ สขร.๑ ( ประจำเดือนกุมภาพันธ์ 2562)
B18: เผยแพร่ เมื่อวันที่ 4 มีนาคม 2562 โดยวิธีปิดประกาศ และที่เว็บไซต์ www.chalong.go.th
B19: ไม่ได้นำข้อมูลเกี่ยวกับการจัดซื้อจัดจ้างตามแบบ สขร.๑ เผยแพร่ เหตุเพราะ ..........................................................................................
F21: (ลงชื่อ)..................................................ผู้รายงาน
F22: (นางสุมิตรา รักบำรุง)
F23: ปลัดองค์การบริหารส่วนตำบลฉลอง

Sheet Sheet1
