Workbook

Sheet Sheet1
A1: สรุปผลการดำเนินการจัดซื้อจัดจ้างในรอบเดือนสิงหาคม 2567
A2: องค์การบริหารส่วนตำบลฉลอง อำเภอสิชล จังหวัดนครศรีธรรมราช
A3: วันที่ 3 เดือน กันยายน พ.ศ. 2567
A4: ลำดับ | B4: งานที่จัดซื้อหรือจัดจ้าง | C4: วงเงินที่จะซื้อ | D4: ราคากลาง | E4: วิธีซื้อหรือจ้าง | F4: รายชื่อผู้เสนอราคา | G4: ผู้ได้รับการคัดเลือกและราคาที่ | H4: เหตุผลที่คัดเลือกโดยสรุป | I4: เลขที่และวันที่ของสัญญา
A5: ที่ | F5: และราคาที่เสนอ | G5: ตกลงซื้อหรือจ้าง | I5: หรือข้อตกลงในการซื้อ
C6: หรือจ้าง | I6: หรือจ้าง
A7: 1 | B7: จ้างปรับปรุง/บำรุงรักษาระบบไฟฟ้า อาคารห้องประชุม องค์การ | C7: 60880 | D7: 60880 | E7: เฉพาะเจาะจง | F7: ห้างหุ้นส่วนจำกัด สิชลการไฟฟ้า 2019 | G7: =+F7 -> ห้างหุ้นส่วนจำกัด สิชลการไฟฟ้า 2019 | H7: - คุณสมบัติครบถ้วน | I7: ใบสั่งจ้าง เลขที่ CNTR-00153/67
B8: บริหารส่วนตำบลฉลอง | F8: 60880 | G8: =+F8 -> 60880 | H8: - เสนอราคาไม่เกินวงเงิน | I8: ลว 2 ส.ค. 67
H9: และงบประมาณ
A10: 2 | B10: จ้างตรวจเช็คและซ่อมแซมรถยนต์ส่วนกลาง หมายเลขทะเบียน กล | C10: 2000 | D10: 1600 | E10: เฉพาะเจาะจง | F10: นายสำเริง เต็งทอง | G10: =+F10 -> นายสำเริง เต็งทอง | H10: - คุณสมบัติครบถ้วน | I10: ใบสั่งจ้าง เลขที่ CNTR-00154/67
B11: 8661 นศ | F11: 1600 | G11: =+F11 -> 1600 | H11: - เสนอราคาไม่เกินวงเงิน | I11: ลว. 2 ก.ค. 67
H12: และงบประมาณ
A13: 3 | B13: จ้างตรวจเช็คและซ่อมแซมรถบรรทุกหกล้อ หมายเลขทะเบียน | C13: 5960 | D13: 5960 | E13: เฉพาะเจาะจง | F13: นายสำเริง เต็งทอง | G13: =+F13 -> นายสำเริง เต็งทอง | H13: - คุณสมบัติครบถ้วน | I13: ใบสั่งจ้าง เลขที่ CNTR-00155/67
B14: 82-0578 นครศรีธรรมราข | F14: 5960 | G14: =+F14 -> 5960 | H14: - เสนอราคาไม่เกินวงเงิน | I14: ลว. 2 ส.ค. 67
H15: และงบประมาณ
A16: 4 | B16: จ้างซ่อมแซมระบบประปาหมู่บ้าน หมู่ที่ 10 ตำบลฉลอง | C16: 26340 | D16: 26340 | E16: เฉพาะเจาะจง | F16: ห้างหุ้นส่วนจำกัด สิชลการไฟฟ้า 2019 | G16: =+F16 -> ห้างหุ้นส่วนจำกัด สิชลการไฟฟ้า 2019 | H16: - คุณสมบัติครบถ้วน | I16: ใบสั่งจ้าง เลขที่ CNTR-00156/67
F17: 26340 | G17: =+F17 -> 26340 | H17: - เสนอราคาไม่เกินวงเงิน | I17: ลว. 2 ส.ค. 67
H18: และงบประมาณ
A19: 5 | B19: ซื้อน้ำมันเบนซิน/น้ำมันหล่อลื่นสำหรับใช้ในโครงการรวมพลังมวล | C19: 13500 | D19: 13090 | E19: เฉพาะเจาะจง | F19: นางสาวกิ่งกานต์ พิทักษ์วงศ์ | G19: =+F19 -> นางสาวกิ่งกานต์ พิทักษ์วงศ์ | H19: - คุณสมบัติครบถ้วน | I19: ใบสั่งจ้าง เลขที่ CNTR-00157/67
B20: ชนคนทำดี กิจกรรม จิดอาสาพัฒนาถนนสะอาด สวยงาม ปลอดภัย | F20: 13090 | G20: =+F20 -> 13090 | H20: - เสนอราคาไม่เกินวงเงิน | I20: ลว. 5 ส.ค.67
H21: และงบประมาณ
A22: 6 | B22: จ้างจัดทำป้ายไวนิลโครงการและป้ายนิทรรศการสำหรับโครงการ | C22: 8928 | D22: 8928 | E22: =+E19 -> เฉพาะเจาะจง | F22: สิชลโฆษณา | G22: =+F22 -> สิชลโฆษณา | H22: - คุณสมบัติครบถ้วน | I22: ใบสั่งจ้าง เลขที่ CNTR-00158/67
B23: พัฒนาศักยภาพศิลปินพื้นบ้าน | F23: 8928 | G23: =+F23 -> 8928 | H23: - เสนอราคาไม่เกินวงเงิน | I23: ลว. 6 ส.ค.67
H24: และงบประมาณ
A25: 7 | B25: จ้างประดับตกแต่งสถานที่เพื่อจัดกิจกรรมเฉลิมพระเกียรติสมเด็จ | C25: 13000 | D25: 13000 | E25: เฉพาะเจาะจง | F25: นางสาวชุมสาย อยู่ทอง | G25: =+F25 -> นางสาวชุมสาย อยู่ทอง | H25: - คุณสมบัติครบถ้วน | I25: ใบสั่งจ้าง เลขที่ CNTR-00159/67
B26: พระนางเจ้าสิริกิติ์ พระบรมราชชนนีพันปีหลวง เนื่องในโอกาสวัน | F26: 13000 | G26: =+F26 -> 13000 | H26: - เสนอราคาไม่เกินวงเงิน | I26: ลว. 7 ส.ค. 67
B27: เฉลิมพระชนมพรรษา 12 สิงหาคม 2567 | H27: และงบประมาณ
A28: 8 | B28: จ้างปรับปรุงอาคารห้องประชุม องค์การบริหารส่วนตำบลฉลอง | C28: 299000 | D28: 299000 | E28: เฉพาะเจาะจง | F28: ช่อพระนาย ดรีมโฮม | G28: =+F28 -> ช่อพระนาย ดรีมโฮม | H28: - คุณสมบัติครบถ้วน | I28: ใบสั่งจ้าง เลขที่ CNTR-00160/67
F29: 299000 | G29: =+F29 -> 299000 | H29: - เสนอราคาไม่เกินวงเงิน | I29: ลว. 9 ส.ค.67
H30: และงบประมาณ
A31: 9 | B31: ซื้อวัสดุก่อสร้างเพื่อซ่อมแซมปรับปรุงระบบประปาหมู่บ้าน หมู่ที่ 5 | C31: 38515 | D31: 38515 | E31: เฉพาะเจาะจง | F31: สิชลการไฟฟ้า | G31: =+F31 -> สิชลการไฟฟ้า | H31: - คุณสมบัติครบถ้วน | I31: ใบสั่งซื้อ เลขที่ CNTR-00161/67
B32: ตำบลฉลอง | F32: 38515 | G32: =+F32 -> 38515 | H32: - เสนอราคาไม่เกินวงเงิน | I32: ลว. 15 ส.ค.67
H33: และงบประมาณ
A34: 10 | B34: ซื้อวัสดุคอมพิวเตอร์ กองคลัง จำนวน 1 รายการ | C34: 12450 | D34: 12450 | E34: เฉพาะเจาะจง | F34: สิชลคอมพิวเตอร์ | G34: =+F34 -> สิชลคอมพิวเตอร์ | H34: - คุณสมบัติครบถ้วน | I34: ใบสั่งซื้อ เลขที่ CNTR-00162/67
F35: 12450 | G35: =+F35 -> 12450 | H35: - เสนอราคาไม่เกินวงเงิน | I35: ลว. 19 ส.ค.67
H36: และงบประมาณ
A37: 11 | B37: ซื้อวัสดุคอมพิวเตอร์ สำนักปลัด จำนวน 2 รายการ | C37: 29220 | D37: 29220 | E37: เฉพาะเจาะจง | F37: สิชลคอมพิวเตอร์ | G37: =+F37 -> สิชลคอมพิวเตอร์ | H37: - คุณสมบัติครบถ้วน | I37: ใบสั่งซื้อ เลขที่ CNTR-00163/67
F38: 29220 | G38: =+F38 -> 29220 | H38: - เสนอราคาไม่เกินวงเงิน | I38: ลว. 19 ส.ค.67
H39: และงบประมาณ
A40: 12 | B40: จ้างตรวจเช็คและซ่อมแซมเครื่องคอมพิวเตอร์ กองคลัง จำนวน 1 เครื่อง | C40: 500 | D40: 450 | E40: เฉพาะเจาะจง | F40: สิชลคอมพิวเตอร์ | G40: =+F40 -> สิชลคอมพิวเตอร์ | H40: - คุณสมบัติครบถ้วน | I40: ใบสั่งจ้าง เลขที่ CNTR-00164/67
...

Sheet Sheet2
A1: งบหน้าสรุปผลการพิจารณาการจัดซื้อจัดจ้างขององค์การบริหารส่วนตำบลฉลอง
A2: ประจำเดือนสิงหาคม 2567
F4: รวมราคาที่พิจารณา | G4: วงเงินต่ำหรือสูง
A5: ลำดับที่ | B5: วิธีการจัดซื้อจัดจ้าง | C5: จำนวนโครงการ | D5: รวมวงเงินที่จัดซื้อจัดจ้าง | E5: รวมราคากลาง | F5: คัดเลือก | G5: กว่าราคากลาง | H5: หมายเหตุ
G6: (+ สูง) (-ต่ำกว่า)
A7: 1 | B7: จัดซื้อโดยวิธีประกาศเชิญชวนทั่วไป | C7: - | D7: - | E7: =+D7 -> - | F7: =+D7 -> - | G7: -
A8: 2 | B8: จัดจ้างโดยวิธีประกาศเชิญชวนทั่วไป | C8: - | D8: - | E8: =+D8 -> - | F8: =+D8 -> - | G8: -
A9: 3 | B9: จัดซื้อโดยวิธีการคัดเลือก | C9: - | D9: - | E9: - | F9: - | G9: -
A10: 4 | B10: จัดจ้างโดยวิธีการคัดเลือก | C10: - | D10: - | E10: - | F10: - | G10: -
A11: 5 | B11: จัดซื้อโดยวิธีเฉพาะเจาะจง | C11: 12 | D11: =+Sheet1!C19+Sheet1!C31+Sheet1!C34+Sheet1!C37+Sheet1!C46+Sheet1!C49+Sheet1!C52+Sheet1!C55+Sheet1!C58+Sheet1!C61+Sheet1!C64+Sheet1!C76 -> 366678.23 | E11: =+Sheet1!D19+Sheet1!D31+Sheet1!D34+Sheet1!D37+Sheet1!D46+Sheet1!D49+Sheet1!D52+Sheet1!D55+Sheet1!D58+Sheet1!D61+Sheet1!D64+Sheet1!D76 -> 352453.23 | F11: =+Sheet1!G20+Sheet1!G32+Sheet1!G35+Sheet1!G38+Sheet1!G47+Sheet1!G50+Sheet1!G53+Sheet1!G56+Sheet1!G59+Sheet1!G62+Sheet1!G65+Sheet1!G77 -> 352453.23 | G11: =+D11-E11 -> 14225
A12: 6 | B12: จัดจ้างโดยวิธีเฉพาะเจาะจง | C12: 15 | D12: =+Sheet1!C7+Sheet1!C10+Sheet1!C13+Sheet1!C16+Sheet1!C22+Sheet1!C25+Sheet1!C28+Sheet1!C40+Sheet1!C43+Sheet1!C67+Sheet1!C70+Sheet1!C73+Sheet1!C79+Sheet1!C82+Sheet1!C85 -> 2714508 | E12: =+Sheet1!D7+Sheet1!D10+Sheet1!D13+Sheet1!D16+Sheet1!D22+Sheet1!D25+Sheet1!D28+Sheet1!D40+Sheet1!D43+Sheet1!D67+Sheet1!D70+Sheet1!D73+Sheet1!D79+Sheet1!D82+Sheet1!D85 -> 2712780.8 | F12: =+Sheet1!G8+Sheet1!G11+Sheet1!G14+Sheet1!G17+Sheet1!G23+Sheet1!G26+Sheet1!G29+Sheet1!G41+Sheet1!G44+Sheet1!G68+Sheet1!G71+Sheet1!G74+Sheet1!G80+Sheet1!G83+Sheet1!G86 -> 2709888.5 | G12: =+D12-E12 -> 1727.25
A13: 7 | B13: จัดซื้อโดยวิธีตลาดอิเล็กทรอนิกส์ | C13: - | D13: . | E13: =+D13 -> . | F13: =+E13 -> . | G13: -
A14: 8 | B14: จัดจ้างโดยวิธีตลาดอิเล็กทรอนิกส์ | C14: - | D14: - | E14: =+D14 -> - | F14: =+E14 -> - | G14: -
A15: 9 | B15: จัดซื้อโดยวิธีประกวดราคาอิเล็กทรอนิกส์ | C15: - | D15: - | E15: - | F15: - | G15: -
A16: 10 | B16: จัดจ้างโดยวิธีประกวดราคาอิเล็กทรอนิกส์ | C16: - | D16: - | E16: - | F16: - | G16: -
B17: ได้นำข้อมูลเกี่ยวกับการจัดซื้อจัดจ้างตามแบบ สขร.๑ ( ประจำเดือนสิงหาคม 2567)
B18: เผยแพร่ เมื่อวันที่ 3 กันยายน 2567 โดยวิธีปิดประกาศ และที่เว็บไซต์ www.chalong.go.th
B19: ไม่ได้นำข้อมูลเกี่ยวกับการจัดซื้อจัดจ้างตามแบบ สขร.๑ เผยแพร่ เหตุเพราะ ..........................................................................................
E21: (ลงชื่อ)..................................................ผู้รายงาน
E22: (นางสุมิตรา รักบำรุง)
E23: ปลัดองค์การบริหารส่วนตำบลฉลอง
