Workbook

Sheet Sheet1
A1: สรุปผลการดำเนินการจัดซื้อจัดจ้างในรอบเดือนมิถุนายน 2565
A2: องค์การบริหารส่วนตำบลฉลอง อำเภอสิชล จังหวัดนครศรีธรรมราช
A3: วันที่ 3 เดือน สิงหาคม พ.ศ. 2565
A4: ลำดับ | B4: งานที่จัดซื้อหรือจัดจ้าง | C4: วงเงินที่จะซื้อ | D4: ราคากลาง | E4: วิธีซื้อหรือจ้าง | F4: รายชื่อผู้เสนอราคา | G4: ผู้ได้รับการคัดเลือกและราคาที่ | H4: เหตุผลที่คัดเลือกโดยสรุป | I4: เลขที่และวันที่ของสัญญา
A5: ที่ | F5: และราคาที่เสนอ | G5: ตกลงซื้อหรือจ้าง | I5: หรือข้อตกลงในการซื้อ
C6: หรือจ้าง | I6: หรือจ้าง
A7: 1 | B7: ซื้ออาหารเสริม (นม) โรงเรียน ประจำภาคเรียนที่ 1 ปีการศึกษา | C7: 15088.4 | D7: 15088.4 | E7: เฉพาะเจาะจง | F7: สหกรณ์โคนมชะอำ-ห้วยทราย จำกัด | G7: =+F7 -> สหกรณ์โคนมชะอำ-ห้วยทราย จำกัด | H7: - คุณสมบัติครบถ้วน | I7: ใบสั่งซื้อ เลขที่ CNTR-00133/65
B8: 2565 (ครั้งที่ 2) สำหรับศูนย์พัฒนาเด็กเล็กองค์การบริหารส่วนตำบล | F8: 15088.4 | G8: =+F8 -> 15088.4 | H8: - เสนอราคาไม่เกินวงเงิน | I8: ลว. 1 ก.ค. 65
B9: ฉลอง | H9: และงบประมาณ
A10: 2 | B10: ซื้ออาหารเสริม (นม) โรงเรียน ประจำภาคเรียนที่ 1 ปีการศึกษา | C10: 291231.08 | D10: 291231.08 | E10: =+E7 -> เฉพาะเจาะจง | F10: สหกรณ์โคนมชะอำ-ห้วยทราย จำกัด | G10: =+F10 -> สหกรณ์โคนมชะอำ-ห้วยทราย จำกัด | H10: - คุณสมบัติครบถ้วน | I10: ใบสั่งซื้อ เลขที่ CNTR-00134/65
B11: 2565 (ครั้งที่ 2) สำหรับโรงเรียนในสังกัดสำนักงานคณะกรรมการ | F11: 291231.08 | G11: =+F11 -> 291231.08 | H11: - เสนอราคาไม่เกินวงเงิน | I11: ลว. 1 ก.ค. 65
B12: ศึกษาพื้นฐาน | H12: และงบประมาณ
A13: 3 | B13: ซื้อวัสดุอุปกรณ์สำหรับการซ่อมแซมห้องน้ำ | C13: 6000 | D13: 4470 | E13: เฉพาะเจาะจง | F13: หจก.ปิยภัณฑ์ (ก้าว) | G13: =+F13 -> หจก.ปิยภัณฑ์ (ก้าว) | H13: - คุณสมบัติครบถ้วน | I13: ใบสั่งซื้อ เลขที่ CNTR-00136/65
F14: 4470 | G14: =+F14 -> 4470 | H14: - เสนอราคาไม่เกินวงเงิน | I14: ลว. 4 ก.ค. 65
H15: และงบประมาณ
A16: 4 | B16: ซื้ออุปกรณ์ทำความสะอาดสำหรับโครงการห้องน้ำท้องถิ่นสะอาดและปลอดภัย | C16: 4000 | D16: 3802 | E16: เฉพาะเจาะจง | F16: ธันยาการต์ธุรกิจ | G16: =+F16 -> ธันยาการต์ธุรกิจ | H16: - คุณสมบัติครบถ้วน | I16: ใบสั่งซื้อ เลขที่ CNTR-00137/65
B17: 2565 (ครั้งที่ 1) | F17: 3802 | G17: =+F17 -> 3802 | H17: - เสนอราคาไม่เกินวงเงิน | I17: ลว. 4 ก.ค. 65
H18: และงบประมาณ
A19: 5 | B19: ซื้อวัสดุอุปกรณ์และต้นไม้สำหรับตกแต่งสถานที่ปรับภูมิทัศน์บริเวณ | C19: 4500 | D19: 3050 | E19: เฉพาะเจาะจง | F19: ธันยาการต์ธุรกิจ | G19: =+F19 -> ธันยาการต์ธุรกิจ | H19: - คุณสมบัติครบถ้วน | I19: ใบสั่งซื้อ เลขที่ CNTR-00138/65
B20: ห้องน้ำ | F20: 3050 | G20: =+F20 -> 3050 | H20: - เสนอราคาไม่เกินวงเงิน | I20: ลว. 4 ก.ค. 65
H21: และงบประมาณ
A22: 6 | B22: ซื้อเทียนพรรษาและเครื่องไทยธรรม | C22: 7500 | D22: 6245 | E22: เฉพาะเจาะจง | F22: ธันยาการต์ธุรกิจ | G22: =+F22 -> ธันยาการต์ธุรกิจ | H22: - คุณสมบัติครบถ้วน | I22: ใบสั่งซื้อ เลขที่ CNTR-00141/65
F23: 6245 | G23: =+F23 -> 6245 | H23: - เสนอราคาไม่เกินวงเงิน | I23: ลว. 7 ก.ค. 65
H24: และงบประมาณ
A25: 7 | B25: ซื้อวัสดุสำรวจ (บันได) | C25: 10000 | D25: 9940 | E25: เฉพาะเจาะจง | F25: หจก.แม๊กซ์ซิมัส บิสซิเนส | G25: =+F25 -> หจก.แม๊กซ์ซิมัส บิสซิเนส | H25: - คุณสมบัติครบถ้วน | I25: ใบสั่งซื้อ เลขที่ CNTR-00142/65
F26: 9940 | G26: =+F26 -> 9940 | H26: - เสนอราคาไม่เกินวงเงิน | I26: ลว. 7 ก.ค. 65
H27: และงบประมาณ
A28: 8 | B28: ซื้อวัสดุคอมพิวเตอร์ (หมึกเครื่องพริ้นเตอร์) สำนักปลัด จำนวน | C28: 34000 | D28: 33800 | E28: เฉพาะเจาะจง | F28: ร้านสิชลคอมพิวเตอร์แอนด์เซอร์วิส | G28: =+F28 -> ร้านสิชลคอมพิวเตอร์แอนด์เซอร์วิส | H28: - คุณสมบัติครบถ้วน | I28: ใบสั่งซื้อ เลขที่ CNTR-00143/65
B29: 5 รายการ | F29: 33800 | G29: =+F29 -> 33800 | H29: - เสนอราคาไม่เกินวงเงิน | I29: ลว. 12 ก.ค. 65
H30: และงบประมาณ
A31: 9 | B31: ซื้อวัสดุไฟฟ้าและวิทยุ | C31: 7500 | D31: 7020 | E31: เฉพาะเจาะจง | F31: ร้านสิชลคอมพิวเตอร์แอนด์เซอร์วิส | G31: =+F31 -> ร้านสิชลคอมพิวเตอร์แอนด์เซอร์วิส | H31: - คุณสมบัติครบถ้วน | I31: ใบสั่งซื้อ เลขที่ CNTR-00144/65
F32: 7020 | G32: =+F32 -> 7020 | H32: - เสนอราคาไม่เกินวงเงิน | I32: ลว. 12 ก.ค. 65
H33: และงบประมาณ
A34: 10 | B34: ซื้อวัสดุก่อสร้าง (กระเบื้อง/สังกะสี) สำหรับช่วยเหลือประชาชนที่ได้ | C34: 12000 | D34: 11196 | E34: เฉพาะเจาะจง | F34: หจก.ปิยภัณฑ์ (ก้าว) | G34: =+F34 -> หจก.ปิยภัณฑ์ (ก้าว) | H34: - คุณสมบัติครบถ้วน | I34: ใบสั่งซื้อ เลขที่ CNTR-00145/65
B35: รับความเดือดร้อนจากสาธารณภัย | F35: 11196 | G35: =+F35 -> 11196 | H35: - เสนอราคาไม่เกินวงเงิน | I35: ลว. 18 ก.ค. 65
H36: และงบประมาณ
A37: 11 | B37: ซื้อวัสดุเชื้อเพลิงและหล่อลื่น สำหรับรถตักหน้า-ขุดหลัง | C37: 1350 | D37: 1350 | E37: เฉพาะเจาะจง | F37: อนันชัยสิชลกลการ | G37: =+F37 -> อนันชัยสิชลกลการ | H37: - คุณสมบัติครบถ้วน | I37: ใบสั่งซื้อ เลขที่ CNTR-00146/65
F38: 1350 | G38: =+F38 -> 1350 | H38: - เสนอราคาไม่เกินวงเงิน | I38: ลว. 27 ก.ค. 65
H39: และงบประมาณ
A40: 12 | B40: จ้างทำป้ายประชาสัมพันธ์โครงการห้องน้ำท้องถิ่นสะอาดและปลอด | C40: 500 | D40: 450 | E40: เฉพาะเจาะจง | F40: สิชลโฆษณา | G40: =+F40 -> สิชลโฆษณา | H40: - คุณสมบัติครบถ้วน | I40: ใบสั่งจ้าง เลขที่ CNTR-00135/65
B41: ภัย | F41: 450 | G41: =+F41 -> 450 | H41: - เสนอราคาไม่เกินวงเงิน | I41: ลว. 4 ก.ค. 65
H42: และงบประมาณ
A43: 13 | B43: จ้างตรวจเช็คและซ่อมแซมครุภัณฑ์สำนักงาน เครื่องปรับอากาศ | C43: 2700 | D43: 2625 | E43: เฉพาะเจาะจง | F43: สำฤทธิ์ สิชลแอร์ แอ่น เซอร์วิส | G43: =+F43 -> สำฤทธิ์ สิชลแอร์ แอ่น เซอร์วิส | H43: - คุณสมบัติครบถ้วน | I43: ใบสั่งจ้าง เลขที่ CNTR-00139/65
B44: กองคลัง 1 เครื่อง | F44: 2625 | G44: =+F44 -> 2625 | H44: - เสนอราคาไม่เกินวงเงิน | I44: ลว. 4 ก.ค. 65
H45: และงบประมาณ
A46: 14 | B46: จ้างทำป้ายประชาสัมพันธ์โครงการฯ | C46: 500 | D46: 450 | E46: เฉพาะเจาะจง | F46: สิชลโฆษณา | G46: =+F46 -> สิชลโฆษณา | H46: - คุณสมบัติครบถ้วน | I46: ใบสั่งจ้าง เลขที่ CNTR-00140/65
F47: 450 | G47: =+F47 -> 450 | H47: - เสนอราคาไม่เกินวงเงิน | I47: ลว. 7 ก.ค. 65
H48: และงบประมาณ
A49: 15 | B49: จ้างตรวจเช็ค ซ่อมแซมรถตักหน้า-ขุดหลัง | C49: 7280 | D49: 7280 | E49: เฉพาะเจาะจง | F49: อนันชัยสิชลกลการ | G49: =+F49 -> อนันชัยสิชลกลการ | H49: - คุณสมบัติครบถ้วน | I49: ใบสั่งจ้าง เลขที่ CNTR-00147/65
F50: 7280 | G50: =+F50 -> 7280 | H50: - เสนอราคาไม่เกินวงเงิน | I50: ลว. 27 ก.ค. 65
H51: และงบประมาณ

Sheet Sheet2
A1: งบหน้าสรุปผลการพิจารณาการจัดซื้อจัดจ้างขององค์การบริหารส่วนตำบลฉลอง
A2: ประจำเดือนกรกฎาคม 2565
F4: รวมราคาที่พิจารณา | G4: วงเงินต่ำหรือสูง
A5: ลำดับที่ | B5: วิธีการจัดซื้อจัดจ้าง | C5: จำนวนโครงการ | D5: รวมวงเงินที่จัดซื้อจัดจ้าง | E5: รวมราคากลาง | F5: คัดเลือก | G5: กว่าราคากลาง | H5: หมายเหตุ
G6: (+ สูง) (-ต่ำกว่า)
A7: 1 | B7: จัดซื้อโดยวิธีประกาศเชิญชวนทั่วไป | C7: - | D7: - | E7: =+D7 -> - | F7: =+D7 -> - | G7: -
A8: 2 | B8: จัดจ้างโดยวิธีประกาศเชิญชวนทั่วไป | C8: - | D8: - | E8: =+D8 -> - | F8: =+D8 -> - | G8: -
A9: 3 | B9: จัดซื้อโดยวิธีการคัดเลือก | C9: - | D9: - | E9: - | F9: - | G9: -
A10: 4 | B10: จัดจ้างโดยวิธีการคัดเลือก | C10: - | D10: - | E10: - | F10: - | G10: -
A11: 5 | B11: จัดซื้อโดยวิธีเฉพาะเจาะจง | C11: 11 | D11: =+Sheet1!C7+Sheet1!C10+Sheet1!C13+Sheet1!C16+Sheet1!C19+Sheet1!C22+Sheet1!C25+Sheet1!C28+Sheet1!C31+Sheet1!C34+Sheet1!C37 -> 393169.48 | E11: =+Sheet1!D7+Sheet1!D10+Sheet1!D13+Sheet1!D16+Sheet1!D19+Sheet1!D22+Sheet1!D25+Sheet1!D28+Sheet1!D31+Sheet1!D34+Sheet1!D37 -> 387192.48 | F11: =+Sheet1!G8+Sheet1!G11+Sheet1!G14+Sheet1!G17+Sheet1!G20+Sheet1!G23+Sheet1!G26+Sheet1!G29+Sheet1!G32+Sheet1!G35+Sheet1!G38 -> 387192.48 | G11: =+D11-E11 -> 5977
A12: 6 | B12: จัดจ้างโดยวิธีเฉพาะเจาะจง | C12: 4 | D12: =+Sheet1!C40+Sheet1!C43+Sheet1!C46+Sheet1!C49 -> 10980 | E12: =+Sheet1!D40+Sheet1!D43+Sheet1!D46+Sheet1!D49 -> 10805 | F12: =+Sheet1!G41+Sheet1!G44+Sheet1!G47+Sheet1!G50 -> 10805 | G12: =+D12-E12 -> 175
A13: 7 | B13: จัดซื้อโดยวิธีตลาดอิเล็กทรอนิกส์ | C13: - | D13: - | E13: =+D13 -> - | F13: =+E13 -> - | G13: -
A14: 8 | B14: จัดจ้างโดยวิธีตลาดอิเล็กทรอนิกส์ | C14: - | D14: - | E14: =+D14 -> - | F14: =+E14 -> - | G14: -
A15: 9 | B15: จัดซื้อโดยวิธีประกวดราคาอิเล็กทรอนิกส์ | C15: - | D15: - | E15: - | F15: - | G15: -
A16: 10 | B16: จัดจ้างโดยวิธีประกวดราคาอิเล็กทรอนิกส์ | C16: - | D16: - | E16: - | F16: - | G16: -
B17: ได้นำข้อมูลเกี่ยวกับการจัดซื้อจัดจ้างตามแบบ สขร.๑ ( ประจำเดือนกรกฎาคม 2565)
B18: เผยแพร่ เมื่อวันที่ 3 สิงหาคม 2565 โดยวิธีปิดประกาศ และที่เว็บไซต์ www.chalong.go.th
B19: ไม่ได้นำข้อมูลเกี่ยวกับการจัดซื้อจัดจ้างตามแบบ สขร.๑ เผยแพร่ เหตุเพราะ ..........................................................................................
E21: (ลงชื่อ)..................................................ผู้รายงาน
E22: (นางสุมิตรา รักบำรุง)
E23: ปลัดองค์การบริหารส่วนตำบลฉลอง
