Workbook

Sheet Sheet1
A1: สรุปผลการดำเนินการจัดซื้อจัดจ้างในรอบเดือนกันยายน 2565
A2: องค์การบริหารส่วนตำบลฉลอง อำเภอสิชล จังหวัดนครศรีธรรมราช
A3: วันที่ 3 เดือน ตุลาคม พ.ศ. 2565
A4: ลำดับ | B4: งานที่จัดซื้อหรือจัดจ้าง | C4: วงเงินที่จะซื้อ | D4: ราคากลาง | E4: วิธีซื้อหรือจ้าง | F4: รายชื่อผู้เสนอราคา | G4: ผู้ได้รับการคัดเลือกและราคาที่ | H4: เหตุผลที่คัดเลือกโดยสรุป | I4: เลขที่และวันที่ของสัญญา
A5: ที่ | F5: และราคาที่เสนอ | G5: ตกลงซื้อหรือจ้าง | I5: หรือข้อตกลงในการซื้อ
C6: หรือจ้าง | I6: หรือจ้าง
A7: 1 | B7: ซื้อวัสดุอุปกรณ์ที่ใช้ในการอบรมสำหรับโครงการส่งเสริมอาชีพใน | C7: 19950 | D7: 9605 | E7: เฉพาะเจาะจง | F7: ธันยาการต์ธุรกิจ | G7: =+F7 -> ธันยาการต์ธุรกิจ | H7: - คุณสมบัติครบถ้วน | I7: ใบสั่งซื้อ เลขที่ CNTR-00178/65
B8: ตำบลฉลอง กิจกรรมอบรมให้ความรู้การทำผลิตภัณฑ์จากผ้ามัดย้อม | F8: 19950 | G8: =+F8 -> 19950 | H8: - เสนอราคาไม่เกินวงเงิน | I8: ลว. 1 ก.ย. 65
H9: และงบประมาณ
A10: 2 | B10: ซื้ออุปกรณ์และอะไหล่สำหรับรถส่วนกลาง หมายเลขทะเบียน กล | C10: 4000 | D10: 3900 | E10: =+E7 -> เฉพาะเจาะจง | F10: หจก.พีระการยาง | G10: =+F10 -> หจก.พีระการยาง | H10: - คุณสมบัติครบถ้วน | I10: ใบสั่งซื้อ เลขที่ CNTR-00180/65
B11: 8661 นศ | F11: 3900 | G11: =+F11 -> 3900 | H11: - เสนอราคาไม่เกินวงเงิน | I11: ลว. 8 ก.ย. 65
H12: และงบประมาณ
A13: 3 | B13: ซื้อวัสดุเครื่องเขียนและกระเป๋าบรรจุเอกสารสำหรับผู้เข้ารับการฝึก | C13: 6700 | D13: 2340 | E13: เฉพาะเจาะจง | F13: ธันยาการต์ธุรกิจ | G13: =+F13 -> ธันยาการต์ธุรกิจ | H13: - คุณสมบัติครบถ้วน | I13: ใบสั่งซื้อ เลขที่ CNTR-00186/65
B14: อบรมโครงการเพิ่มประสิทธิภาพขององค์การบริหารส่วนตำบลฉลอง | F14: 2340 | G14: =+F14 -> 2340 | H14: - เสนอราคาไม่เกินวงเงิน | I14: ลว. 13 ก.ย. 65
H15: และงบประมาณ
A16: 4 | B16: ซื้อวัสดุสำนักงาน กองช่าง จำนวน 21 รายการ | C16: 7284 | D16: 7284 | E16: เฉพาะเจาะจง | F16: ธันยาการต์ธุรกิจ | G16: =+F16 -> ธันยาการต์ธุรกิจ | H16: - คุณสมบัติครบถ้วน | I16: ใบสั่งซื้อ เลขที่ CNTR-00194/65
F17: 7284 | G17: =+F17 -> 7284 | H17: - เสนอราคาไม่เกินวงเงิน | I17: ลว. 16 ก.ย. 65
H18: และงบประมาณ
A19: 5 | B19: ซื้อวัสดุสำนักงาน กองคลัง จำนวน 8 รายการ | C19: 27711 | D19: 27711 | E19: เฉพาะเจาะจง | F19: ธันยาการต์ธุรกิจ | G19: =+F19 -> ธันยาการต์ธุรกิจ | H19: - คุณสมบัติครบถ้วน | I19: ใบสั่งซื้อ เลขที่ CNTR-00195/65
F20: 27711 | G20: =+F20 -> 27711 | H20: - เสนอราคาไม่เกินวงเงิน | I20: ลว. 16 ก.ย. 65
H21: และงบประมาณ
A22: 6 | B22: ซื้อวัสดุสำนักงาน สำนักงานปลัด จำนวน 26 รายการ | C22: 31000 | D22: 30375 | E22: เฉพาะเจาะจง | F22: ธันยาการต์ธุรกิจ | G22: =+F22 -> ธันยาการต์ธุรกิจ | H22: - คุณสมบัติครบถ้วน | I22: ใบสั่งซื้อ เลขที่ CNTR-00196/65
F23: 30375 | G23: =+F23 -> 30375 | H23: - เสนอราคาไม่เกินวงเงิน | I23: ลว. 16 ก.ย. 65
H24: และงบประมาณ
A25: 7 | B25: ซื้อวัสดุงานบ้านงานครัว จำนวน 8 รายการ | C25: 5000 | D25: 4171 | E25: เฉพาะเจาะจง | F25: ธันยาการต์ธุรกิจ | G25: =+F25 -> ธันยาการต์ธุรกิจ | H25: - คุณสมบัติครบถ้วน | I25: ใบสั่งซื้อ เลขที่ CNTR-00197/65
F26: 4171 | G26: =+F26 -> 4171 | H26: - เสนอราคาไม่เกินวงเงิน | I26: ลว. 16 ก.ย. 65
H27: และงบประมาณ
A28: 8 | B28: ซื้อวัสดุน้ำมันเชื้อเพลิงและหล่อลื่น เพื่อใช้กับรถบรรทุกหกล้อ หมาย | C28: 8220 | D28: 8220 | E28: เฉพาะเจาะจง | F28: ท่าหินการยางและรถยก | G28: =+F28 -> ท่าหินการยางและรถยก | H28: - คุณสมบัติครบถ้วน | I28: ใบสั่งซื้อ เลขที่ CNTR-00198/65
B29: เลขทะเบียน 82-0578 นศ | F29: 8220 | G29: =+F29 -> 8220 | H29: - เสนอราคาไม่เกินวงเงิน | I29: ลว. 21 ก.ย. 65
H30: และงบประมาณ
A31: 9 | B31: ซื้อวัสดุเครื่องดับเพลิง | C31: 14000 | D31: 13450 | E31: เฉพาะเจาะจง | F31: หจก.แม็กซ์ซิมัส บิสซิเนส | G31: =+F31 -> หจก.แม็กซ์ซิมัส บิสซิเนส | H31: - คุณสมบัติครบถ้วน | I31: ใบสั่งซื้อ เลขที่ CNTR-00199/65
F32: 13450 | G32: =+F32 -> 13450 | H32: - เสนอราคาไม่เกินวงเงิน | I32: ลว. 21 ก.ย. 65
H33: และงบประมาณ
A34: 10 | B34: ซื้อวัสดุเครื่องแต่งกาย | C34: 23000 | D34: 22800 | E34: เฉพาะเจาะจง | F34: หจก.แม็กซ์ซิมัส บิสซิเนส | G34: =+F34 -> หจก.แม็กซ์ซิมัส บิสซิเนส | H34: - คุณสมบัติครบถ้วน | I34: ใบสั่งซื้อ เลขที่ CNTR-00200/65
F35: 22800 | G35: =+F35 -> 22800 | H35: - เสนอราคาไม่เกินวงเงิน | I35: ลว. 21 ก.ย. 65
H36: และงบประมาณ
A37: 11 | B37: ซื้อวัสดุจราจร | C37: 28000 | D37: 27600 | E37: เฉพาะเจาะจง | F37: หจก.แม็กซ์ซิมัส บิสซิเนส | G37: =+F37 -> หจก.แม็กซ์ซิมัส บิสซิเนส | H37: - คุณสมบัติครบถ้วน | I37: ใบสั่งซื้อ เลขที่ CNTR-00201/65
F38: 27600 | G38: =+F38 -> 27600 | H38: - เสนอราคาไม่เกินวงเงิน | I38: ลว. 21 ก.ย. 65
H39: และงบประมาณ
A40: 12 | B40: จ้างทำป้ายประชาสัมพันธ์สำหรับโครงการส่งเสริมอาชีพในตำบล | C40: 450 | D40: 450 | E40: เฉพาะเจาะจง | F40: สุดภูธร ไวนิล แอนด์สติกเกอร์ | G40: =+F40 -> สุดภูธร ไวนิล แอนด์สติกเกอร์ | H40: - คุณสมบัติครบถ้วน | I40: ใบสั่งจ้าง เลขที่ CNTR-00177/65
...

Sheet Sheet2
A1: งบหน้าสรุปผลการพิจารณาการจัดซื้อจัดจ้างขององค์การบริหารส่วนตำบลฉลอง
A2: ประจำเดือนกันยายน 2565
F4: รวมราคาที่พิจารณา | G4: วงเงินต่ำหรือสูง
A5: ลำดับที่ | B5: วิธีการจัดซื้อจัดจ้าง | C5: จำนวนโครงการ | D5: รวมวงเงินที่จัดซื้อจัดจ้าง | E5: รวมราคากลาง | F5: คัดเลือก | G5: กว่าราคากลาง | H5: หมายเหตุ
G6: (+ สูง) (-ต่ำกว่า)
A7: 1 | B7: จัดซื้อโดยวิธีประกาศเชิญชวนทั่วไป | C7: - | D7: - | E7: =+D7 -> - | F7: =+D7 -> - | G7: -
A8: 2 | B8: จัดจ้างโดยวิธีประกาศเชิญชวนทั่วไป | C8: - | D8: - | E8: =+D8 -> - | F8: =+D8 -> - | G8: -
A9: 3 | B9: จัดซื้อโดยวิธีการคัดเลือก | C9: - | D9: - | E9: - | F9: - | G9: -
A10: 4 | B10: จัดจ้างโดยวิธีการคัดเลือก | C10: - | D10: - | E10: - | F10: - | G10: -
A11: 5 | B11: จัดซื้อโดยวิธีเฉพาะเจาะจง | C11: 11 | D11: =+Sheet1!C7+Sheet1!C10+Sheet1!C13+Sheet1!C16+Sheet1!C19+Sheet1!C22+Sheet1!C25+Sheet1!C28+Sheet1!C31+Sheet1!C34+Sheet1!C37 -> 174865 | E11: =+Sheet1!D7+Sheet1!D10+Sheet1!D13+Sheet1!D16+Sheet1!D19+Sheet1!D22+Sheet1!D25+Sheet1!D28+Sheet1!D31+Sheet1!D34+Sheet1!D37 -> 157456 | F11: =+Sheet1!G8+Sheet1!G11+Sheet1!G14+Sheet1!G17+Sheet1!G20+Sheet1!G23+Sheet1!G26+Sheet1!G29+Sheet1!G32+Sheet1!G35+Sheet1!G38 -> 167801 | G11: =+D11-E11 -> 17409
A12: 6 | B12: จัดจ้างโดยวิธีเฉพาะเจาะจง | C12: 13 | D12: =+Sheet1!C40+Sheet1!C43+Sheet1!C46+Sheet1!C49+Sheet1!C52+Sheet1!C55+Sheet1!C58+Sheet1!C61+Sheet1!C64+Sheet1!C67+Sheet1!C70+Sheet1!C73+Sheet1!C76 -> 380030 | E12: =+Sheet1!D40+Sheet1!D43+Sheet1!D46+Sheet1!D49+Sheet1!D52+Sheet1!D55+Sheet1!D58+Sheet1!D61+Sheet1!D64+Sheet1!D67+Sheet1!D70+Sheet1!D73+Sheet1!D76 -> 373818.01 | F12: =+Sheet1!G41+Sheet1!G44+Sheet1!G47+Sheet1!G50+Sheet1!G53+Sheet1!G56+Sheet1!G59+Sheet1!G62+Sheet1!G65+Sheet1!G68+Sheet1!G71+Sheet1!G74+Sheet1!G77 -> 378268.01 | G12: =+D12-E12 -> 6211.99
A13: 7 | B13: จัดซื้อโดยวิธีตลาดอิเล็กทรอนิกส์ | C13: - | D13: - | E13: =+D13 -> - | F13: =+E13 -> - | G13: -
A14: 8 | B14: จัดจ้างโดยวิธีตลาดอิเล็กทรอนิกส์ | C14: - | D14: - | E14: =+D14 -> - | F14: =+E14 -> - | G14: -
A15: 9 | B15: จัดซื้อโดยวิธีประกวดราคาอิเล็กทรอนิกส์ | C15: - | D15: - | E15: - | F15: - | G15: -
A16: 10 | B16: จัดจ้างโดยวิธีประกวดราคาอิเล็กทรอนิกส์ | C16: - | D16: - | E16: - | F16: - | G16: -
B17: ได้นำข้อมูลเกี่ยวกับการจัดซื้อจัดจ้างตามแบบ สขร.๑ ( ประจำเดือนกันยายน 2565)
B18: เผยแพร่ เมื่อวันที่ 3 ตุลาคม 2565 โดยวิธีปิดประกาศ และที่เว็บไซต์ www.chalong.go.th
B19: ไม่ได้นำข้อมูลเกี่ยวกับการจัดซื้อจัดจ้างตามแบบ สขร.๑ เผยแพร่ เหตุเพราะ ..........................................................................................
E21: (ลงชื่อ)..................................................ผู้รายงาน
E22: (นางสุมิตรา รักบำรุง)
E23: ปลัดองค์การบริหารส่วนตำบลฉลอง
