Workbook

Sheet สิงหาคม
A1: สรุปผลการดำเนินการจัดซื้อจัดจ้างในรอบเดือนสิงหาคม 2563
A2: องค์การบริหารส่วนตำบลฉลอง อำเภอสิชล จังหวัดนครศรีธรรมราช
A3: วันที่ 3 เดือน กันยายน พ.ศ. 2563
A4: ลำดับ | B4: งานที่จัดซื้อหรือจัดจ้าง | C4: วงเงินที่จะซื้อ | D4: ราคากลาง | E4: วิธีซื้อหรือจ้าง | F4: รายชื่อผู้เสนอราคา | G4: ผู้ได้รับการคัดเลือกและราคาที่ | H4: เหตุผลที่คัดเลือกโดยสรุป | I4: เลขที่และวันที่ของสัญญา
A5: ที่ | F5: และราคาที่เสนอ | G5: ตกลงซื้อหรือจ้าง | I5: หรือข้อตกลงในการซื้อ
C6: หรือจ้าง | I6: หรือจ้าง
A7: 1 | B7: ซื้อกระเบื้องสำหรับช่วยเหลือประชาชนที่ได้รับความ | C7: 20000 | D7: 19104 | E7: เฉพาะเจาะจง | F7: หจก.จิตติภัณฑ์ วัสดุก่อสร้าง | G7: =+F7 -> หจก.จิตติภัณฑ์ วัสดุก่อสร้าง | H7: - คุณสมบัติครบถ้วน | I7: ใบสั่งซื้อ เลขที่ CNTR-0141/63
B8: เดือดร้อนจากสาธารณะภัย | F8: 19104 | G8: =+F8 -> 19104 | H8: - เสนอราคาไม่เกินวงเงิน | I8: ลว. 3 ส.ค. 63
H9: และงบประมาณ
A10: 2 | B10: ซื้อกระเบื้องสำหรับช่วยเหลือประชาชนที่ได้รับความ | C10: 2000 | D10: 1896 | E10: เฉพาะเจาะจง | F10: หจก.จิตติภัณฑ์ วัสดุก่อสร้าง | G10: =+F10 -> หจก.จิตติภัณฑ์ วัสดุก่อสร้าง | H10: - คุณสมบัติครบถ้วน | I10: ใบสั่งซื้อ เลขที่ CNTR-0142/63
B11: เดือดร้อนจากสาธารณะภัย | F11: =+D10 -> 1896 | G11: =+F11 -> 1896 | H11: - เสนอราคาไม่เกินวงเงิน | I11: ลว. 4 ส.ค. 63
H12: และงบประมาณ
A13: 3 | B13: ซื้อท่อ คสล. | C13: 200025.8 | D13: 200025.8 | E13: เฉพาะเจาะจง | F13: หจก.จิดตติพันธ์ คอนกรีต | G13: =+F13 -> หจก.จิดตติพันธ์ คอนกรีต | H13: - คุณสมบัติครบถ้วน | I13: ใบสั่งซื้อ เลขที่ CNTR-0143/63
F14: 200025.8 | G14: =+F14 -> 200025.8 | H14: - เสนอราคาไม่เกินวงเงิน | I14: ลว. 7 ส.ค. 63
H15: และงบประมาณ
A16: 4 | B16: ซื้อวัสดุน้ำมันเชื้อเพลิงและหล่อลื่น (กองช่าง) | C16: 50000 | D16: 50000 | E16: เฉพาะเจาะจง | F16: บริษัท ซัสโก้ จำกัด (มหาชน) | G16: =+F16 -> บริษัท ซัสโก้ จำกัด (มหาชน) | H16: - คุณสมบัติครบถ้วน | I16: ใบสั่งซื้อ เลขที่ CNTR-0146/63
F17: =+D16 -> 50000 | G17: =+F17 -> 50000 | H17: - เสนอราคาไม่เกินวงเงิน | I17: ลว. 17 ส.ค. 63
H18: และงบประมาณ
A19: 5 | B19: ซื้อวัสดุน้ำมันเชื้อเพลิงและหล่อลื่น (น้ำมันไฮดรอ | C19: 3000 | D19: 3000 | E19: เฉพาะเจาะจง | F19: ร้านอนันชัยสิชลกลการ | G19: =+F19 -> ร้านอนันชัยสิชลกลการ | H19: - คุณสมบัติครบถ้วน | I19: ใบสั่งซื้อ เลขที่ CNTR-0147/63
B20: ลิค) 18 ลิตร รถตักหน้า-ขุดหลัง รหัสครุภัณฑ์ | F20: 3000 | G20: =+F20 -> 3000 | H20: - เสนอราคาไม่เกินวงเงิน | I20: ลว. 17 ส.ค. 63
B21: 011-55-0001 | H21: และงบประมาณ
A22: 6 | B22: ซื้อวัสดุอุปกรณ์ในการอบรมสำหรับโครงการส่งเสริม | C22: 19950 | D22: 9715 | E22: เฉพาะเจาะจง | F22: ปรีดาค้าวัสดุ | G22: =+F22 -> ปรีดาค้าวัสดุ | H22: - คุณสมบัติครบถ้วน | I22: ใบสั่งซื้อ เลขที่ CNTR-0149/63
B23: อาชีพในตำบลฉลอง กิจกรรมอบรมให้ความรู้การทำ | F23: 9715 | G23: =+F23 -> 9715 | H23: - เสนอราคาไม่เกินวงเงิน | I23: ลว. 17 ส.ค. 63
B24: ผ้ามัดย้อม | H24: และงบประมาณ
A25: 7 | B25: ซื้อครุภัณฑคอมพิวเตอร์ (เครื่องสำรองไฟฟ้า) | C25: 5800 | D25: 5800 | E25: เฉพาะเจาะจง | F25: ร้านสิชลคอมพิวเตอร์แอนด์เซอร์วิส | G25: =+F25 -> ร้านสิชลคอมพิวเตอร์แอนด์เซอร์วิส | H25: - คุณสมบัติครบถ้วน | I25: ใบสั่งซื้อ เลขที่ CNTR-0150/63
B26: กองช่าง จำนวน 1 เครื่อง | F26: 5790 | G26: =+F26 -> 5790 | H26: - เสนอราคาไม่เกินวงเงิน | I26: ลว. 19 ส.ค. 63
H27: และงบประมาณ
A28: 8 | B28: ซื้อครุภัณฑคอมพิวเตอร์ All In One สำหรับงาน | C28: 23000 | D28: 23000 | E28: เฉพาะเจาะจง | F28: ร้านสิชลคอมพิวเตอร์แอนด์เซอร์วิส | G28: =+F28 -> ร้านสิชลคอมพิวเตอร์แอนด์เซอร์วิส | H28: - คุณสมบัติครบถ้วน | I28: ใบสั่งซื้อ เลขที่ CNTR-0151/63
B29: ประมวลผล กองช่าง จำนวน 1 เครื่อง | F29: 22900 | G29: =+F29 -> 22900 | H29: - เสนอราคาไม่เกินวงเงิน | I29: ลว. 19 ส.ค. 63
H30: และงบประมาณ
A31: 9 | B31: ซื้ออุปกรณ์อ่านบัตรเอนกประสงค์ (Smart Card | C31: 700 | D31: 700 | E31: เฉพาะเจาะจง | F31: ร้านสิชลคอมพิวเตอร์แอนด์เซอร์วิส | G31: =+F31 -> ร้านสิชลคอมพิวเตอร์แอนด์เซอร์วิส | H31: - คุณสมบัติครบถ้วน | I31: ใบสั่งซื้อ เลขที่ CNTR-0153/63
B32: Reader) กองช่าง จำนวน 1 เครื่อง | F32: 700 | G32: =+F32 -> 700 | H32: - เสนอราคาไม่เกินวงเงิน | I32: ลว. 21 ส.ค. 63
H33: และงบประมาณ
A34: 10 | B34: ซื้อวัสดุก่อสร้าง (หินคลุกและหินท้ายราง) | C34: 208650 | D34: 208650 | E34: เฉพาะเจาะจง | F34: หจก.จิตติภัณฑ์ วัสดุก่อสร้าง | G34: =+F34 -> หจก.จิตติภัณฑ์ วัสดุก่อสร้าง | H34: - คุณสมบัติครบถ้วน | I34: ใบสั่งซื้อ เลขที่ CNTR-0154/63
F35: 208650 | G35: =+F35 -> 208650 | H35: - เสนอราคาไม่เกินวงเงิน | I35: ลว. 24 ส.ค. 63
H36: และงบประมาณ
A37: 11 | B37: ซื้อวัสดุวิทยาศาสตร์หรือการแพทย์ สำหรับใช้ใน | C37: 22000 | D37: 21190 | E37: เฉพาะเจาะจง | F37: หจก.แม็กซ์ซิมัส บิสซิเนส | G37: =+F37 -> หจก.แม็กซ์ซิมัส บิสซิเนส | H37: - คุณสมบัติครบถ้วน | I37: ใบสั่งซื้อ เลขที่ CNTR-0157/63
B38: ศพด.อบต.ฉลอง | F38: 21190 | G38: =+F38 -> 21190 | H38: - เสนอราคาไม่เกินวงเงิน | I38: ลว. 24 ส.ค. 63
H39: และงบประมาณ
A40: 12 | B40: ซื้อวัสดุสำนักงาน สำหรับใช้ใน ศพด.อบต.ฉลอง | C40: 2000 | D40: 1776 | E40: เฉพาะเจาะจง | F40: หจก.แม็กซ์ซิมัส บิสซิเนส | G40: =+F40 -> หจก.แม็กซ์ซิมัส บิสซิเนส | H40: - คุณสมบัติครบถ้วน | I40: ใบสั่งซื้อ เลขที่ CNTR-0158/63
...

Sheet Sheet2
A1: งบหน้าสรุปผลการพิจารณาการจัดซื้อจัดจ้างขององค์การบริหารส่วนตำบลฉลอง
A2: ประจำเดือนสิงหาคม 2563
F4: รวมราคาที่พิจารณา | G4: วงเงินต่ำหรือสูง
A5: ลำดับที่ | B5: วิธีการจัดซื้อจัดจ้าง | C5: จำนวนโครงการ | D5: รวมวงเงินที่จัดซื้อจัดจ้าง | E5: รวมราคากลาง | F5: คัดเลือก | G5: กว่าราคากลาง | H5: หมายเหตุ
G6: (+ สูง) (-ต่ำกว่า)
A7: 1 | B7: จัดซื้อโดยวิธีประกาศเชิญชวนทั่วไป | C7: - | D7: - | E7: =+D7 -> - | F7: =+D7 -> - | G7: -
A8: 2 | B8: จัดจ้างโดยวิธีประกาศเชิญชวนทั่วไป | C8: - | D8: - | E8: =+D8 -> - | F8: =+D8 -> - | G8: -
A9: 3 | B9: จัดซื้อโดยวิธีการคัดเลือก | C9: - | D9: - | E9: - | F9: - | G9: -
A10: 4 | B10: จัดจ้างโดยวิธีการคัดเลือก | C10: - | D10: - | E10: =+D10 -> - | F10: =+D10 -> - | G10: -
A11: 5 | B11: จัดซื้อโดยวิธีเฉพาะเจาะจง | C11: 15 | D11: =+สิงหาคม!C7+สิงหาคม!C10+สิงหาคม!C13+สิงหาคม!C16+สิงหาคม!C19+สิงหาคม!C22+สิงหาคม!C25+สิงหาคม!C28+สิงหาคม!C31+สิงหาคม!C34+สิงหาคม!C37+สิงหาคม!C40+สิงหาคม!C43+สิงหาคม!C46+สิงหาคม!C49 -> 629533.15 | E11: =+สิงหาคม!D7+สิงหาคม!D10+สิงหาคม!D13+สิงหาคม!D16+สิงหาคม!D19+สิงหาคม!D22+สิงหาคม!D25+สิงหาคม!D28+สิงหาคม!D31+สิงหาคม!D34+สิงหาคม!D37+สิงหาคม!D40+สิงหาคม!D43+สิงหาคม!D46+สิงหาคม!D49 -> 614945.8 | F11: =+สิงหาคม!G8+สิงหาคม!G11+สิงหาคม!G14+สิงหาคม!G17+สิงหาคม!G20+สิงหาคม!G23+สิงหาคม!G26+สิงหาคม!G29+สิงหาคม!G32+สิงหาคม!G35+สิงหาคม!G38+สิงหาคม!G41+สิงหาคม!G44+สิงหาคม!G47+สิงหาคม!G50 -> 614835.8 | G11: -
A12: 6 | B12: จัดจ้างโดยวิธีเฉพาะเจาะจง | C12: 6 | D12: =+สิงหาคม!C52+สิงหาคม!C55+สิงหาคม!C58+สิงหาคม!C61+สิงหาคม!C64+สิงหาคม!C67 -> 24850 | E12: =+สิงหาคม!D52+สิงหาคม!D55+สิงหาคม!D58+สิงหาคม!D61+สิงหาคม!D64+สิงหาคม!D67 -> 24254.61 | F12: =+สิงหาคม!G53+สิงหาคม!G56+สิงหาคม!G59+สิงหาคม!G62+สิงหาคม!G65+สิงหาคม!G68 -> 24254.61 | G12: =+D12-E12 -> 595.39
A13: 7 | B13: จัดซื้อโดยวิธีตลาดอิเล็กทรอนิกส์ | C13: - | D13: - | E13: =+D13 -> - | F13: =+E13 -> - | G13: -
A14: 8 | B14: จัดจ้างโดยวิธีตลาดอิเล็กทรอนิกส์ | C14: - | D14: - | E14: - | F14: - | G14: -
A15: 9 | B15: จัดซื้อโดยวิธีประกวดราคาอิเล็กทรอนิกส์ | C15: - | D15: - | E15: - | F15: - | G15: -
A16: 10 | B16: จัดจ้างโดยวิธีประกวดราคาอิเล็กทรอนิกส์ | C16: - | D16: - | E16: - | F16: - | G16: -
B17: ได้นำข้อมูลเกี่ยวกับการจัดซื้อจัดจ้างตามแบบ สขร.๑ ( ประจำเดือนสิงหาคม 2563)
B18: เผยแพร่ เมื่อวันที่ 3 สิงหาคม 2563 โดยวิธีปิดประกาศ และที่เว็บไซต์ www.chalong.go.th
B19: ไม่ได้นำข้อมูลเกี่ยวกับการจัดซื้อจัดจ้างตามแบบ สขร.๑ เผยแพร่ เหตุเพราะ ..........................................................................................
F21: (ลงชื่อ)..................................................ผู้รายงาน
F22: (นางสุมิตรา รักบำรุง)
F23: ปลัดองค์การบริหารส่วนตำบลฉลอง
