Workbook

Sheet Sheet1
A1: สรุปผลการดำเนินการจัดซื้อจัดจ้างในรอบเดือนมิถุนายน 2566
A2: องค์การบริหารส่วนตำบลฉลอง อำเภอสิชล จังหวัดนครศรีธรรมราช
A3: วันที่ 3 เดือน กรกฎาคม พ.ศ. 2566
A4: ลำดับ | B4: งานที่จัดซื้อหรือจัดจ้าง | C4: วงเงินที่จะซื้อ | D4: ราคากลาง | E4: วิธีซื้อหรือจ้าง | F4: รายชื่อผู้เสนอราคา | G4: ผู้ได้รับการคัดเลือกและราคาที่ | H4: เหตุผลที่คัดเลือกโดยสรุป | I4: เลขที่และวันที่ของสัญญา
A5: ที่ | F5: และราคาที่เสนอ | G5: ตกลงซื้อหรือจ้าง | I5: หรือข้อตกลงในการซื้อ
C6: หรือจ้าง | I6: หรือจ้าง
A7: 1 | B7: ซื้อวัสดุไฟฟ้า จำนวน 8 รายการ | C7: 32956 | D7: 32956 | E7: เฉพาะเจาะจง | F7: สิชลการไฟฟ้า | G7: =+F7 -> สิชลการไฟฟ้า | H7: - คุณสมบัติครบถ้วน | I7: ใบสั่งซื้อ เลขที่ CNTR-00149/66
F8: 32956 | G8: =+F8 -> 32956 | H8: - เสนอราคาไม่เกินวงเงิน | I8: ลว. 9 มิ.ย. 66
H9: และงบประมาณ
A10: 2 | B10: ซื้อวัสดุก่อสร้างสำหรับช่วยเหลือประชาชนที่ได้รับความเดือดร้อน | C10: 8000 | D10: 7948 | E10: =+E7 -> เฉพาะเจาะจง | F10: หจก.ปิยะภัณฑ์ (ก้าว) | G10: =+F10 -> หจก.ปิยะภัณฑ์ (ก้าว) | H10: - คุณสมบัติครบถ้วน | I10: ใบสั่งซื้อ เลขที่ CNTR-00151/66
B11: จากสาธารณภัย | F11: 7948 | G11: =+F11 -> 7948 | H11: - เสนอราคาไม่เกินวงเงิน | I11: ลว. 13 มิ.ย. 66
E12: =+Sheet1!D13+Sheet1!D16+Sheet1!D19+Sheet1!D22+Sheet1!D25+Sheet1!D2 -> 25530 | H12: และงบประมาณ
A13: 3 | B13: จ้างจัดสถานที่เพื่อจัดกิจกรรมเฉลิมพระเกียรติสมเด็จพระนางเจ้าฯ | C13: 12000 | D13: 12000 | E13: เฉพาะเจาะจง | F13: หจก.แม็กซ์ซิมัสบิสซิเนส | G13: =+F13 -> หจก.แม็กซ์ซิมัสบิสซิเนส | H13: - คุณสมบัติครบถ้วน | I13: ใบสั่งจ้าง เลขที่ CNTR-00147/66
B14: พระบรมราชินี เนื่องในโอกาสวันเฉลิมพระชนมพรรษา 3 มิถุนายน | F14: 12000 | G14: =+F14 -> 12000 | H14: - เสนอราคาไม่เกินวงเงิน | I14: ลว. 1 มิ.ย. 66
B15: 2566 | H15: และงบประมาณ
A16: 4 | B16: จ้างตรวจเช็คและซ่อมแซมรถบรรทุกน้ำเอนกประสงค์ หมายเลข | C16: 1000 | D16: 780 | E16: เฉพาะเจาะจง | F16: ร้านพรจักรไดนาโม | G16: =+F16 -> ร้านพรจักรไดนาโม | H16: - คุณสมบัติครบถ้วน | I16: ใบสั่งจ้าง เลขที่ CNTR-00148/66
B17: ทะเบียน 81-4247 นศ | F17: 780 | G17: =+F17 -> 780 | H17: - เสนอราคาไม่เกินวงเงิน | I17: ลว. 6 มิ.ย. 66
H18: และงบประมาณ
A19: 5 | B19: จ้างถ่ายเอกสาร ค่าเย็บหนังสือหรือเข้าปกหนังสือ | C19: 4900 | D19: 4900 | E19: เฉพาะเจาะจง | F19: สิชล ก๊อปปี้ | G19: =+F19 -> สิชล ก๊อปปี้ | H19: - คุณสมบัติครบถ้วน | I19: ใบสั่งจ้าง เลขที่ CNTR-00150/66
F20: 4900 | G20: =+F20 -> 4900 | H20: - เสนอราคาไม่เกินวงเงิน | I20: ลว. 9 มิ.ย. 66
H21: และงบประมาณ
A22: 6 | B22: จ้างตรวจเช็คและซ่อมแซมเครื่องสำรองไฟกล้องวงจรปิด CCTV | C22: 3500 | D22: 3400 | E22: เฉพาะเจาะจง | F22: บริษัท ไฮเทคนคร กรุ๊ป จำกัด | G22: =+F22 -> บริษัท ไฮเทคนคร กรุ๊ป จำกัด | H22: - คุณสมบัติครบถ้วน | I22: ใบสั่งจ้าง เลขที่ CNTR-00152/66
F23: 3400 | G23: =+F23 -> 3400 | H23: - เสนอราคาไม่เกินวงเงิน | I23: ลว. 23 มิ.ย. 66
H24: และงบประมาณ
A25: 7 | B25: จ้างตรวจเช็คและซ่อมแซมรถยนต์ส่วนกลาง หมายเลขทะเบียน | C25: 4500 | D25: 4450 | E25: เฉพาะเจาะจง | F25: ร้านพรจักรไดนาโม | G25: =+F25 -> ร้านพรจักรไดนาโม | H25: - คุณสมบัติครบถ้วน | I25: ใบสั่งจ้าง เลขที่ CNTR-00153/66
B26: กง 9261 นศ | F26: 4450 | G26: =+F26 -> 4450 | H26: - เสนอราคาไม่เกินวงเงิน | I26: ลว. 23 มิ.ย. 66
H27: และงบประมาณ
A28: 8 | B28: จ้างซ่อมแซม/บำรุงรักษาครุภัณฑ์คอมพิวเตอร์ จำนวน 1 เครื่อง | C28: 4620 | D28: 4620 | E28: เฉพาะเจาะจง | F28: ซีคอมแอนด์เซอร์วิส | G28: =+F28 -> ซีคอมแอนด์เซอร์วิส | H28: - คุณสมบัติครบถ้วน | I28: ใบสั่งจ้าง เลขที่ CNTR-00154/66
F29: 4620 | G29: =+F29 -> 4620 | H29: - เสนอราคาไม่เกินวงเงิน | I29: ลว. 23 มิ.ย. 66
H30: และงบประมาณ

Sheet Sheet2
A1: งบหน้าสรุปผลการพิจารณาการจัดซื้อจัดจ้างขององค์การบริหารส่วนตำบลฉลอง
A2: ประจำเดือนมิถุนายน 2566
F4: รวมราคาที่พิจารณา | G4: วงเงินต่ำหรือสูง
A5: ลำดับที่ | B5: วิธีการจัดซื้อจัดจ้าง | C5: จำนวนโครงการ | D5: รวมวงเงินที่จัดซื้อจัดจ้าง | E5: รวมราคากลาง | F5: คัดเลือก | G5: กว่าราคากลาง | H5: หมายเหตุ
G6: (+ สูง) (-ต่ำกว่า)
A7: 1 | B7: จัดซื้อโดยวิธีประกาศเชิญชวนทั่วไป | C7: - | D7: - | E7: =+D7 -> - | F7: =+D7 -> - | G7: -
A8: 2 | B8: จัดจ้างโดยวิธีประกาศเชิญชวนทั่วไป | C8: - | D8: - | E8: =+D8 -> - | F8: =+D8 -> - | G8: -
A9: 3 | B9: จัดซื้อโดยวิธีการคัดเลือก | C9: - | D9: - | E9: - | F9: - | G9: -
A10: 4 | B10: จัดจ้างโดยวิธีการคัดเลือก | C10: - | D10: - | E10: - | F10: - | G10: -
A11: 5 | B11: จัดซื้อโดยวิธีเฉพาะเจาะจง | C11: 2 | D11: =+Sheet1!C7+Sheet1!C10 -> 40956 | E11: =+Sheet1!D7+Sheet1!D10 -> 40904 | F11: =+Sheet1!G8+Sheet1!G11 -> 40904 | G11: =+D11-E11 -> 52
A12: 6 | B12: จัดจ้างโดยวิธีเฉพาะเจาะจง | C12: 6 | D12: =+Sheet1!C13+Sheet1!C16+Sheet1!C19+Sheet1!C22+Sheet1!C25+Sheet1!C28 -> 30520 | E12: =+Sheet1!D13+Sheet1!D16+Sheet1!D19+Sheet1!D22+Sheet1!D25+Sheet1!D28 -> 30150 | F12: =+Sheet1!G14+Sheet1!G17+Sheet1!G20+Sheet1!G23+Sheet1!G26+Sheet1!G29 -> 30150 | G12: =+D12-E12 -> 370
A13: 7 | B13: จัดซื้อโดยวิธีตลาดอิเล็กทรอนิกส์ | C13: - | D13: - | E13: =+D13 -> - | F13: =+E13 -> - | G13: -
A14: 8 | B14: จัดจ้างโดยวิธีตลาดอิเล็กทรอนิกส์ | C14: - | D14: - | E14: =+D14 -> - | F14: =+E14 -> - | G14: -
A15: 9 | B15: จัดซื้อโดยวิธีประกวดราคาอิเล็กทรอนิกส์ | C15: - | D15: - | E15: - | F15: - | G15: -
A16: 10 | B16: จัดจ้างโดยวิธีประกวดราคาอิเล็กทรอนิกส์ | C16: - | D16: - | E16: - | F16: - | G16: -
B17: ได้นำข้อมูลเกี่ยวกับการจัดซื้อจัดจ้างตามแบบ สขร.๑ ( ประจำเดือนมิถุนายน 2566)
B18: เผยแพร่ เมื่อวันที่ 3 กรกฎาคม 2566 โดยวิธีปิดประกาศ และที่เว็บไซต์ www.chalong.go.th
B19: ไม่ได้นำข้อมูลเกี่ยวกับการจัดซื้อจัดจ้างตามแบบ สขร.๑ เผยแพร่ เหตุเพราะ ..........................................................................................
E21: (ลงชื่อ)..................................................ผู้รายงาน
E22: (นางสุมิตรา รักบำรุง)
E23: ปลัดองค์การบริหารส่วนตำบลฉลอง
