Workbook

Sheet Sheet1
A1: สรุปผลการดำเนินการจัดซื้อจัดจ้างในรอบเดือนพฤษภาคม 2567
A2: องค์การบริหารส่วนตำบลฉลอง อำเภอสิชล จังหวัดนครศรีธรรมราช
A3: วันที่ 5 เดือน มิถุนายน พ.ศ. 2567
A4: ลำดับ | B4: งานที่จัดซื้อหรือจัดจ้าง | C4: วงเงินที่จะซื้อ | D4: ราคากลาง | E4: วิธีซื้อหรือจ้าง | F4: รายชื่อผู้เสนอราคา | G4: ผู้ได้รับการคัดเลือกและราคาที่ | H4: เหตุผลที่คัดเลือกโดยสรุป | I4: เลขที่และวันที่ของสัญญา
A5: ที่ | F5: และราคาที่เสนอ | G5: ตกลงซื้อหรือจ้าง | I5: หรือข้อตกลงในการซื้อ
C6: หรือจ้าง | I6: หรือจ้าง
A7: 1 | B7: จ้างตรวจเช็คและซ่อมแซมเครื่องคอมพิวเตอร์ | C7: 300 | D7: 300 | E7: เฉพาะเจาะจง | F7: สิชลคอมพิวเตอร์ | G7: =+F7 -> สิชลคอมพิวเตอร์ | H7: - คุณสมบัติครบถ้วน | I7: ใบสั่งจ้าง เลขที่ CNTR-00102/67
F8: 300 | G8: =+F8 -> 300 | H8: - เสนอราคาไม่เกินวงเงิน | I8: ลว 15 พ.ค. 67
H9: และงบประมาณ
A10: 2 | B10: ซื้ออาหารเสริม (นม) โรงเรียน ประจำภาคเรียนที่ 1 ปีการศึกษา | C10: 33726.55 | D10: 33726.55 | E10: เฉพาะเจาะจง | F10: บริษัท แมรี่ แอน แดรี่ โปรดักส์ จำกัด | G10: =+F10 -> บริษัท แมรี่ แอน แดรี่ โปรดักส์ จำกัด | H10: - คุณสมบัติครบถ้วน | I10: ใบสั่งซื้อ เลขที่ CNTR-00103/67
B11: 2567 (ครั้งที่ 1) | F11: 33726.55 | G11: =+F11 -> 33726.55 | H11: - เสนอราคาไม่เกินวงเงิน | I11: ลว. 15 พ.ค. 67
H12: และงบประมาณ
A13: 3 | B13: จ้างโครงการบุกเบิกถนนสายซอยมิยาซาว่า หมู่ที่ 8 ตำบลฉลอง | C13: 467000 | D13: 535073.59 | E13: เฉพาะเจาะจง | F13: ห้างหุ้นส่วนจำกัด คงแก้ว ธุรกิจ | G13: =+F13 -> ห้างหุ้นส่วนจำกัด คงแก้ว ธุรกิจ | H13: - คุณสมบัติครบถ้วน | I13: สัญญาจ้าง เลขที่ CNTR-00104/67
F14: 466000 | G14: =+F14 -> 466000 | H14: - เสนอราคาไม่เกินวงเงิน | I14: ลว. 16 พ.ค. 67
H15: และงบประมาณ
A16: 4 | B16: ซื้อวัสดุสำนักงาน กองช่าง จำนวน 10 รายการ | C16: 9230 | D16: 9230 | E16: เฉพาะเจาะจง | F16: ปรีดาค้าวัสดุ | G16: =+F16 -> ปรีดาค้าวัสดุ | H16: - คุณสมบัติครบถ้วน | I16: ใบสั่งซื้อ เลขที่ CNTR-00105/67
F17: 9230 | G17: =+F17 -> 9230 | H17: - เสนอราคาไม่เกินวงเงิน | I17: ลว. 16 พ.ค. 67
H18: และงบประมาณ
A19: 5 | B19: จ้างตรวจเช็คและซ่อมแซมรถบรรทุกน้ำเอนกประสงค์ | C19: 4500 | D19: 4190 | E19: เฉพาะเจาะจง | F19: นายสำเริง เต็งทอง | G19: =+F19 -> นายสำเริง เต็งทอง | H19: - คุณสมบัติครบถ้วน | I19: ใบสั่งจ้าง เลขที่ CNTR-00106/67
F20: 4190 | G20: =+F20 -> 4190 | H20: - เสนอราคาไม่เกินวงเงิน | I20: ลว. 17 พ.ค.67
H21: และงบประมาณ
A22: 6 | B22: ซื้อวัสดุสำนักงาน กองคลัง จำนวน 11 รายการ | C22: 8700 | D22: 8659 | E22: =+E19 -> เฉพาะเจาะจง | F22: ปรีดาค้าวัสดุ | G22: =+F22 -> ปรีดาค้าวัสดุ | H22: - คุณสมบัติครบถ้วน | I22: ใบสั่งจ้าง เลขที่ CNTR-00107/67
F23: 8659 | G23: =+F23 -> 8659 | H23: - เสนอราคาไม่เกินวงเงิน | I23: ลว. 17 พ.ค.67
H24: และงบประมาณ
A25: 7 | B25: ซื้อครุภัณฑ์สำนักงาน (กล้องวงจรปิด แบบ Analog จำนวน 1 ชุด | C25: 25000 | D25: 25000 | E25: เฉพาะเจาะจง | F25: Newxa Service | G25: =+F25 -> Newxa Service | H25: - คุณสมบัติครบถ้วน | I25: ใบสั๋งซื้อ เลขที่ CNTR-00108/67
B26: พร้อมติดตั้ง) | F26: 25000 | G26: =+F26 -> 25000 | H26: - เสนอราคาไม่เกินวงเงิน | I26: ลว. 23 พ.ค. 67
H27: และงบประมาณ
A28: 8 | B28: ซื้อวัสดุการเกษตร | C28: 2500 | D28: 2115 | E28: เฉพาะเจาะจง | F28: ณ กันธีร์การค้า | G28: =+F28 -> ณ กันธีร์การค้า | H28: - คุณสมบัติครบถ้วน | I28: ใบสั่งซื้อ เลขที่ CNTR-00109/67
F29: 2115 | G29: =+F29 -> 2115 | H29: - เสนอราคาไม่เกินวงเงิน | I29: ลว. 23 พ.ค. 67
H30: และงบประมาณ
A31: 9 | B31: ซื้อวัสดุก่อสร้างสำหรับช่วยเหลือประชาชนที่ได้รับความเดือดร้อน | C31: 11000 | D31: 10609 | E31: เฉพาะเจาะจง | F31: หจก.ปิยะภัณฑ์ (ก้าว) | G31: =+F31 -> หจก.ปิยะภัณฑ์ (ก้าว) | H31: - คุณสมบัติครบถ้วน | I31: ใบสั่งซื้อ เลขที่ CNTR-00110/67
B32: จากสาธารณภัย | F32: 10609 | G32: =+F32 -> 10609 | H32: - เสนอราคาไม่เกินวงเงิน | I32: ลว. 27 พ.ค.67
H33: และงบประมาณ
A34: 10 | B34: จ้างผูกผ้าบริเวณรั้วที่ทำการองค์การบริหารส่วนตำบลฉลอง | C34: 3000 | D34: 3000 | E34: เฉพาะเจาะจง | F34: นางสาวชุมสาย อยู่ทอง | G34: =+F34 -> นางสาวชุมสาย อยู่ทอง | H34: - คุณสมบัติครบถ้วน | I34: ใบสั่งจ้าง เลขที่ CNTR-00111/67
B35: เนื่องในกิจกรรมเฉลิมพระเกียรติสมเด็จพระนางเจ้าฯ พระบรม | F35: 3000 | G35: =+F35 -> 3000 | H35: - เสนอราคาไม่เกินวงเงิน | I35: ลว. 29 พ.ค.67
B36: ราชินี เนื่องในโอกาสวันเฉลิมพระชนมพรรษา 3 มิถุนายน 2567 | H36: และงบประมาณ
A37: 11 | B37: ซื้ออาหารเสริม (นม) โรงเรียน ประจำภาคเรียนที่ 1 ปีการศึกษา | C37: 335130.01 | D37: 335130.01 | E37: เฉพาะเจาะจง | F37: บริษัท แมรี่ แอน แดรี่ โปรดักส์ จำกัด | G37: =+F37 -> บริษัท แมรี่ แอน แดรี่ โปรดักส์ จำกัด | H37: - คุณสมบัติครบถ้วน | I37: ใบสั่งซื้อ เลขที่ CNTR-00113/67
B38: 2567 (ครั้งที่ 2) | F38: 335130.01 | G38: =+F38 -> 335130.01 | H38: - เสนอราคาไม่เกินวงเงิน | I38: ลว. 31 พ.ค. 67
H39: และงบประมาณ

Sheet Sheet2
A1: งบหน้าสรุปผลการพิจารณาการจัดซื้อจัดจ้างขององค์การบริหารส่วนตำบลฉลอง
A2: ประจำเดือนพฤษภาคม 2567
F4: รวมราคาที่พิจารณา | G4: วงเงินต่ำหรือสูง
A5: ลำดับที่ | B5: วิธีการจัดซื้อจัดจ้าง | C5: จำนวนโครงการ | D5: รวมวงเงินที่จัดซื้อจัดจ้าง | E5: รวมราคากลาง | F5: คัดเลือก | G5: กว่าราคากลาง | H5: หมายเหตุ
G6: (+ สูง) (-ต่ำกว่า)
A7: 1 | B7: จัดซื้อโดยวิธีประกาศเชิญชวนทั่วไป | C7: - | D7: - | E7: =+D7 -> - | F7: =+D7 -> - | G7: -
A8: 2 | B8: จัดจ้างโดยวิธีประกาศเชิญชวนทั่วไป | C8: - | D8: - | E8: =+D8 -> - | F8: =+D8 -> - | G8: -
A9: 3 | B9: จัดซื้อโดยวิธีการคัดเลือก | C9: - | D9: - | E9: - | F9: - | G9: -
A10: 4 | B10: จัดจ้างโดยวิธีการคัดเลือก | C10: - | D10: - | E10: - | F10: - | G10: -
A11: 5 | B11: จัดซื้อโดยวิธีเฉพาะเจาะจง | C11: 5 | D11: =+Sheet1!C10+Sheet1!C16+Sheet1!C22+Sheet1!C25+Sheet1!C28+Sheet1!C31+Sheet1!C37 -> 425286.56 | E11: =+Sheet1!D10+Sheet1!D16+Sheet1!D22+Sheet1!D25+Sheet1!D28+Sheet1!D31+Sheet1!D37 -> 424469.56 | F11: =+Sheet1!G11+Sheet1!G17+Sheet1!G23+Sheet1!G26+Sheet1!G29+Sheet1!G32+Sheet1!G38 -> 424469.56 | G11: =+D11-E11 -> 817
A12: 6 | B12: จัดจ้างโดยวิธีเฉพาะเจาะจง | C12: 17 | D12: =+Sheet1!C7+Sheet1!C13+Sheet1!C19+Sheet1!C34 -> 474800 | E12: =+Sheet1!D7+Sheet1!D13+Sheet1!D19+Sheet1!D34 -> 542563.59 | F12: =+Sheet1!G8+Sheet1!G14+Sheet1!G20+Sheet1!G35 -> 473490 | G12: =+D12-E12 -> -67763.59
A13: 7 | B13: จัดซื้อโดยวิธีตลาดอิเล็กทรอนิกส์ | C13: - | D13: . | E13: =+D13 -> . | F13: =+E13 -> . | G13: -
A14: 8 | B14: จัดจ้างโดยวิธีตลาดอิเล็กทรอนิกส์ | C14: - | D14: - | E14: =+D14 -> - | F14: =+E14 -> - | G14: -
A15: 9 | B15: จัดซื้อโดยวิธีประกวดราคาอิเล็กทรอนิกส์ | C15: - | D15: - | E15: - | F15: - | G15: -
A16: 10 | B16: จัดจ้างโดยวิธีประกวดราคาอิเล็กทรอนิกส์ | C16: - | D16: - | E16: - | F16: - | G16: -
B17: ได้นำข้อมูลเกี่ยวกับการจัดซื้อจัดจ้างตามแบบ สขร.๑ ( ประจำเดือนพฤษภาคม 2567)
B18: เผยแพร่ เมื่อวันที่ 5 มิถุนายน 2567 โดยวิธีปิดประกาศ และที่เว็บไซต์ www.chalong.go.th
B19: ไม่ได้นำข้อมูลเกี่ยวกับการจัดซื้อจัดจ้างตามแบบ สขร.๑ เผยแพร่ เหตุเพราะ ..........................................................................................
E21: (ลงชื่อ)..................................................ผู้รายงาน
E22: (นางสุมิตรา รักบำรุง)
E23: ปลัดองค์การบริหารส่วนตำบลฉลอง
