Workbook

Sheet กันยายน
A1: สรุปผลการดำเนินการจัดซื้อจัดจ้างในรอบเดือนกันยายน 2562
A2: องค์การบริหารส่วนตำบลฉลอง อำเภอสิชล จังหวัดนครศรีธรรมราช
A3: วันที่ 3 เดือน ตุลาคม พ.ศ. 2562
A4: ลำดับ | B4: งานที่จัดซื้อหรือจัดจ้าง | C4: วงเงินที่จะซื้อ | D4: ราคากลาง | E4: วิธีซื้อหรือจ้าง | F4: รายชื่อผู้เสนอราคา | G4: ผู้ได้รับการคัดเลือกและราคาที่ | H4: เหตุผลที่คัดเลือกโดยสรุป | I4: เลขที่และวันที่ของสัญญา
A5: ที่ | F5: และราคาที่เสนอ | G5: ตกลงซื้อหรือจ้าง | I5: หรือข้อตกลงในการซื้อ
C6: หรือจ้าง | I6: หรือจ้าง
A7: 1 | B7: จัดซื้อววัสดุก่อสร้าง ท่อ คสล. | C7: 123178.4 | D7: 123178.4 | E7: เฉพาะเจาะจง | F7: หจก.จิตติภัณฑ์ วัสดุก่อสร้าง | G7: =+F7 -> หจก.จิตติภัณฑ์ วัสดุก่อสร้าง | H7: - คุณสมบัติครบถ้วน | I7: ใบสั่งซื้อ เลขที่ CNTR-0206/62
F8: =+D7 -> 123178.4 | G8: =+F8 -> 123178.4 | H8: - เสนอราคาไม่เกินวงเงิน | I8: ลว. 4 ก.ย. 62
H9: และงบประมาณ
A10: 2 | B10: จัดซื้อครุภัณฑ์คอมพิวเตอร์ กองคลัง จำนวน 2 | C10: 8800 | D10: 8790 | E10: เฉพาะเจาะจง | F10: สิชลคอมพิวเตอร์แอนด์เซอร์วิส | G10: =+F10 -> สิชลคอมพิวเตอร์แอนด์เซอร์วิส | H10: - คุณสมบัติครบถ้วน | I10: ใบสั่งซื้อ เลขที่ CNTR-0210/62
B11: รายการ | F11: =+D10 -> 8790 | G11: =+F11 -> 8790 | H11: - เสนอราคาไม่เกินวงเงิน | I11: ลว. 3 ก.ย. 62
H12: และงบประมาณ
A13: 3 | B13: จัดซื้อวัสดุก่อสร้าง (หินคลุก) จำนวน 700 ลบ.ม. | C13: 299600 | D13: 299600 | E13: เฉพาะเจาะจง | F13: หจก.จิตติภัณฑ์ วัสดุก่อสร้าง | G13: =+F13 -> หจก.จิตติภัณฑ์ วัสดุก่อสร้าง | H13: - คุณสมบัติครบถ้วน | I13: ใบสั่งซื้อ เลขที่ CNTR-0211/62
F14: 299600 | G14: =+F14 -> 299600 | H14: - เสนอราคาไม่เกินวงเงิน | I14: ลว. 11 ก.ย. 62
H15: และงบประมาณ
A16: 4 | B16: จัดซื้อวัสดุและอุปกรณ์ทำความสะอาดและอื่น ๆ | C16: 3000 | D16: 1180 | E16: เฉพาะเจาะจง | F16: ร้านปรีดาค้าวัสดุ | G16: =+F16 -> ร้านปรีดาค้าวัสดุ | H16: - คุณสมบัติครบถ้วน | I16: ใบสั่งซื้อ เลขที่ CNTR-0212/62
B17: โครงการห้องน้ำท้องถิ่นสะอาดและปลอดภัย | F17: =+D16 -> 1180 | G17: =+F17 -> 1180 | H17: - เสนอราคาไม่เกินวงเงิน | I17: ลว. 11 ก.ย. 62
B18: ระยะที่ 2 | H18: และงบประมาณ
A19: 5 | B19: จัดซื้อวัสดุ/อุปกรณ์และต้นไม้สำหรับตกแต่งสถานที่ | C19: 5000 | D19: 4860 | E19: เฉพาะเจาะจง | F19: ร้านปรีดาค้าวัสดุ | G19: =+F19 -> ร้านปรีดาค้าวัสดุ | H19: - คุณสมบัติครบถ้วน | I19: ใบสั่งซื้อ เลขที่ CNTR-0213/62
B20: ปรับภูมิทัศน์บริเวณห้องน้ำสำหรับโครงการห้องน้ำ | F20: =+D19 -> 4860 | G20: =+F20 -> 4860 | H20: - เสนอราคาไม่เกินวงเงิน | I20: ลว. 11 ก.ย. 62
B21: ท้องถิ่นสะอาดและปลอดภัย ระยะที่ 2 | H21: และงบประมาณ
A22: 6 | B22: จัดซื้อวัสดุการเกษตร จำนวน 8 รายการ | C22: 6500 | D22: 6468 | E22: เฉพาะเจาะจง | F22: นายพลเชฎฐ์ วรฉัตรพัฒนาพร | G22: =+F22 -> นายพลเชฎฐ์ วรฉัตรพัฒนาพร | H22: - คุณสมบัติครบถ้วน | I22: ใบสั่งซื้อ เลขที่ CNTR-0214/62
F23: 6468 | G23: 6468 | H23: - เสนอราคาไม่เกินวงเงิน | I23: ลว. 11 ก.ย. 62
H24: และงบประมาณ
A25: 7 | B25: จัดซื้อวัสดุคอมพิวเตอร์ หมึกเครื่องพริ้นเตอร์ | C25: 26000 | D25: 25979 | E25: เฉพาะเจาะจง | F25: สิชลคอมพิวเตอร์แอนด์เซอร์วิส | G25: =+F25 -> สิชลคอมพิวเตอร์แอนด์เซอร์วิส | H25: - คุณสมบัติครบถ้วน | I25: ใบสั่งซื้อ เลขที่ CNTR-0217/62
B26: สำนักงานปลัด 5 รายการ | F26: 25979 | G26: =+F26 -> 25979 | H26: - เสนอราคาไม่เกินวงเงิน | I26: ลว. 13 ก.ย. 62
H27: และงบประมาณ
A28: 8 | B28: จัดซื้อวัสดุก่อสร้าง คอนกรีตผสมเสร็จรูปลูกบาศก์ | C28: 19400 | D28: 19400 | E28: เฉพาะเจาะจง | F28: หจก. จิตติภัณฑ์ วัสดุก่อสร้าง | G28: =+F28 -> หจก. จิตติภัณฑ์ วัสดุก่อสร้าง | H28: - คุณสมบัติครบถ้วน | I28: ใบสั่งซื้อ เลขที่ CNTR-0218/62
B29: และเหล็กวายเมท | F29: 19400 | G29: =+F29 -> 19400 | H29: - เสนอราคาไม่เกินวงเงิน | I29: ลว. 13 ก.ย. 62
H30: และงบประมาณ
A31: 9 | B31: จัดซื้อครุภัณฑ์ เครื่องปรับอากาศ 1 เครื่อง | C31: 55900 | D31: 55900 | E31: เฉพาะเจาะจง | F31: ฉลองการไฟฟ้า | G31: =+F31 -> ฉลองการไฟฟ้า | H31: - คุณสมบัติครบถ้วน | I31: ใบสั่งซื้อ เลขที่ CNTR-0222/62
F32: 55900 | G32: =+F32 -> 55900 | H32: - เสนอราคาไม่เกินวงเงิน | I32: ลว. 20 ก.ย. 62
H33: และงบประมาณ
A34: 10 | B34: จัดซื้อวัสดุก่อสร้างสำหรับสร้างสนามเด็กเล่นสร้าง | C34: 8000 | D34: 7860 | E34: เฉพาะเจาะจง | F34: ร้านธันยาการต์ธุรกิจ | G34: =+F34 -> ร้านธันยาการต์ธุรกิจ | H34: - คุณสมบัติครบถ้วน | I34: ใบสั่งซื้อ เลขที่ CNTR-0223/62
B35: ปัญญา ณ อบต.ฉลอง | F35: 7860 | G35: =+F35 -> 7860 | H35: - เสนอราคาไม่เกินวงเงิน | I35: ลว. 20 ก.ย. 62
H36: และงบประมาณ
A37: 11 | B37: จัดซื้อครุภัณฑ์เครื่องกรองน้ำพร้อมติดตั้ง จำนวน | C37: 27000 | D37: 27000 | E37: เฉพาะเจาะจง | F37: บ.สยาม เดนทิสท์ มาสเตอร์ เซอร์วิส จ. | G37: =+F37 -> บ.สยาม เดนทิสท์ มาสเตอร์ เซอร์วิส จ. | H37: - คุณสมบัติครบถ้วน | I37: ใบสั่งซื้อ เลขที่ CNTR-0224/62
B38: 1 เครื่อง ศพด. อบต.ฉลอง | F38: 27000 | G38: =+F38 -> 27000 | H38: - เสนอราคาไม่เกินวงเงิน | I38: ลว. 20 ก.ย. 62
H39: และงบประมาณ
A40: 12 | B40: จัดซื้อวัสดุสำนักงาน กองช่าง จำนวน 5 รายการ | C40: 1714 | D40: 1714 | E40: เฉพาะเจาะจง | F40: ร้านปรีดาค้าวัสดุ | G40: =+F40 -> ร้านปรีดาค้าวัสดุ | H40: - คุณสมบัติครบถ้วน | I40: ใบสั่งซื้อ เลขที่ CNTR-0226/62
F41: 1714 | G41: =+F41 -> 1714 | H41: - เสนอราคาไม่เกินวงเงิน | I41: ลว. 23 ก.ย. 62
H42: และงบประมาณ
A43: 13 | B43: จัดซื้อวัสดุงานบ้านงานครัว จำนวน 6 รายการ | C43: 7000 | D43: 6995 | E43: เฉพาะเจาะจง | F43: ร้านปรีดาค้าวัสดุ | G43: =+F43 -> ร้านปรีดาค้าวัสดุ | H43: - คุณสมบัติครบถ้วน | I43: ใบสั่งซื้อ เลขที่ CNTR-0227/62
F44: 6995 | G44: =+F44 -> 6995 | H44: - เสนอราคาไม่เกินวงเงิน | I44: ลว. 23 ก.ย. 62
H45: และงบประมาณ
A46: 14 | B46: จัดซื้อวัสดุสำนักงานปลัด จำนวน 31 รายการ | C46: 32000 | D46: 31590 | E46: เฉพาะเจาะจง | F46: ร้านปรีดาค้าวัสดุ | G46: =+F46 -> ร้านปรีดาค้าวัสดุ | H46: - คุณสมบัติครบถ้วน | I46: ใบสั่งซื้อ เลขที่ CNTR-0228/62
F47: 31590 | G47: =+F47 -> 31590 | H47: - เสนอราคาไม่เกินวงเงิน | I47: ลว. 23 ก.ย. 62
H48: และงบประมาณ
A49: 15 | B49: จัดซื้อวัสดุสำนักงาน สำนักงานปลัด จำนวน 31 | C49: 16367 | D49: 16367 | E49: เฉพาะเจาะจง | F49: ร้านปรีดาค้าวัสดุ | G49: =+F49 -> ร้านปรีดาค้าวัสดุ | H49: - คุณสมบัติครบถ้วน | I49: ใบสั่งซื้อ เลขที่ CNTR-0229/62
B50: รายการ | F50: 16367 | G50: =+F50 -> 16367 | H50: - เสนอราคาไม่เกินวงเงิน | I50: ลว. 23 ก.ย. 62
H51: และงบประมาณ
A52: 16 | B52: จ้างเหมาซ่อมแซมรถตักหน้า-ขุดหลัง | C52: 14050 | D52: 14050 | E52: เฉพาะเจาะจง | F52: นายอัคคเดช จิตมั่น | G52: =+F52 -> นายอัคคเดช จิตมั่น | H52: - คุณสมบัติครบถ้วน | I52: ใบสั่งจ้าง เลขที่ CNTR-0204/62
F53: 14050 | G53: =+F53 -> 14050 | H53: - เสนอราคาไม่เกินวงเงิน | I53: ลว. 2 ก.ย. 62
H54: และงบประมาณ
A55: 17 | B55: จ้าเหมาติตตั้งไฟฟ้าสาธารณะ 82 จุด ต.ฉลอง | C55: 179700 | D55: 168000 | E55: เฉพาะเจาะจง | F55: นายนัฐกร ดำเพ็ง | G55: =+F55 -> นายนัฐกร ดำเพ็ง | H55: - คุณสมบัติครบถ้วน | I55: สัญญาจ้าง เลขที่ CNTR-0205/62
F56: 168000 | G56: =+F56 -> 168000 | H56: - เสนอราคาไม่เกินวงเงิน | I56: ลว. 3 ก.ย. 62
H57: และงบประมาณ
A58: 18 | B58: จ้างเหมาทำป้ายไวนิลโครงการจัดเวทีประชาคม | C58: 450 | D58: 450 | E58: เฉพาะเจาะจง | F58: สุดภูธร ไวนิล แอนด์ สติกเกอร์ | G58: =+F58 -> สุดภูธร ไวนิล แอนด์ สติกเกอร์ | H58: - คุณสมบัติครบถ้วน | I58: ใบสั่งจ้าง เลขที่ CNTR-0207/62
F59: 450 | G59: =+F59 -> 450 | H59: - เสนอราคาไม่เกินวงเงิน | I59: ลว. 6 ก.ย. 62
H60: และงบประมาณ
A61: 19 | B61: จ้างเหมาต่อเติมอาคาร ศพด. อบต.ฉลอง | C61: 170000 | D61: 170000 | E61: เฉพาะเจาะจง | F61: นายวิรัตน์ รุ่งเรือง | G61: =+F61 -> นายวิรัตน์ รุ่งเรือง | H61: - คุณสมบัติครบถ้วน | I61: สัญญาจ้าง เลขที่ CNTR-0209/62
F62: 170000 | G62: =+F62 -> 170000 | H62: - เสนอราคาไม่เกินวงเงิน | I62: ลว. 9 ก.ย. 62
H63: และงบประมาณ
A64: 20 | B64: จ้างเหมาปรับปรุงซ่อมแซมไฟฟ้าสาธารณะ ต.ฉลอง | C64: 92900 | D64: 92000 | E64: เฉพาะเจาะจง | F64: นายพงศธร ชัยเมือง | G64: =+F64 -> นายพงศธร ชัยเมือง | H64: - คุณสมบัติครบถ้วน | I64: สัญญาจ้าง เลขที่ CNTR-0216/62
F65: 92000 | G65: =+F65 -> 92000 | H65: - เสนอราคาไม่เกินวงเงิน | I65: ลว. 12 ก.ย. 62
H66: และงบประมาณ
A67: 21 | B67: จ้างเหมาบำรุงรักษาและซ่อมแซมเครื่องปรับอากาศ | C67: 1500 | D67: 1500 | E67: เฉพาะเจาะจง | F67: ร้านสัมฤทธิ์ สิชล แอร์ แอ่น เซอร์วิส | G67: =+F67 -> ร้านสัมฤทธิ์ สิชล แอร์ แอ่น เซอร์วิส | H67: - คุณสมบัติครบถ้วน | I67: ใบสั่งจ้าง เลขที่ CNTR-0219/62
B68: จำนวน 1 เครื่อง | F68: 1500 | G68: =+F68 -> 1500 | H68: - เสนอราคาไม่เกินวงเงิน | I68: ลว. 17 ก.ย. 62
H69: และงบประมาณ
A70: 22 | B70: จ้างเหมาตรวจเช็คและซ่อมเปลี่ยนอะไหล่เครื่อง | C70: 22000 | D70: 21500 | E70: เฉพาะเจาะจง | F70: ร้าน ซี.เค. ซัพพลาย โอ.เอ | G70: =+F70 -> ร้าน ซี.เค. ซัพพลาย โอ.เอ | H70: - คุณสมบัติครบถ้วน | I70: ใบสั่งจ้าง เลขที่ CNTR-0221/62
B71: ถ่ายเอกสาร | F71: 21500 | G71: =+F71 -> 21500 | H71: - เสนอราคาไม่เกินวงเงิน | I71: ลว. 19 ก.ย. 62
H72: และงบประมาณ
A73: 23 | B73: จ้างเหมาตรวจเช็ครถยนต์ส่วนกลาง กรณีครบระยะ | C73: 2244.86 | D73: 2244.86 | E73: เฉพาะเจาะจง | F73: บริษัท สุราษฏร์ ปิยะ จำกัด | G73: =+F73 -> บริษัท สุราษฏร์ ปิยะ จำกัด | H73: - คุณสมบัติครบถ้วน | I73: ใบสั่งจ้าง เลขที่ CNTR-0220/62
B74: ทาง 30,000 กม. ทะเบียน กล 8661 นศ | F74: 2244.86 | G74: =+F74 -> 2244.86 | H74: - เสนอราคาไม่เกินวงเงิน | I74: ลว. 17 ก.ย. 62
H75: และงบประมาณ
A76: 24 | B76: จ้างเหมาตรวจเช็คและซ่อมแซมรถยนต์ส่วนกลาง | C76: 6000 | D76: 5550 | E76: เฉพาะเจาะจง | F76: หจก. เอส.ซี.ไทร์ | G76: =+F76 -> หจก. เอส.ซี.ไทร์ | H76: - คุณสมบัติครบถ้วน | I76: ใบสั่งจ้าง เลขที่ CNTR-0225/62
F77: 5550 | G77: =+F77 -> 5550 | H77: - เสนอราคาไม่เกินวงเงิน | I77: ลว. 23 ก.ย. 62
H78: และงบประมาณ
A79: 25 | B79: จ้างเหมาถ่ายเอกสาร เย็บหนังสือ หรือเข้าปกหนังสือ | C79: 2400 | D79: 2360 | E79: เฉพาะเจาะจง | F79: สิชล ก๊อปปี้ | G79: =+F79 -> สิชล ก๊อปปี้ | H79: - คุณสมบัติครบถ้วน | I79: ใบสั่งจ้าง เลขที่ CNTR-0231/62
F80: 2360 | G80: =+F80 -> 2360 | H80: - เสนอราคาไม่เกินวงเงิน | I80: ลว. 26 ก.ย. 62
H81: และงบประมาณ
A82: 26 | B82: จ้างก่อสร้าง ถนน คสล. สายราชปราศัย ม.9 | C82: 550000 | D82: 445000 | E82: ประกวดราคา | F82: บ.รักษาความปลอดภัยสยามนคร จ. | G82: =+F82 -> บ.รักษาความปลอดภัยสยามนคร จ. | H82: - คุณสมบัติครบถ้วน | I82: สัญญาจ้าง เลขที่ CNTR-0215/62
E83: อิเล็กทรอนิกส์ | F83: 324000 | G83: =+F83 -> 324000 | H83: - เสนอราคาไม่เกินวงเงิน | I83: ลว. 11 ก.ย. 62
H84: และงบประมาณ
F85: หจก. ซี.ซี จักรกลและก่อสร้าง | H85: - คุณสมบัติครบถ้วน
F86: 349900 | H86: - เสนอราคาไม่เกินวงเงิน
H87: และงบประมาณ
F88: หจก.จิตติภัณฑ์ ก่อสร้าง | H88: - คุณสมบัติครบถ้วน
F89: 421000 | H89: - เสนอราคาไม่เกินวงเงิน
H90: และงบประมาณ
F91: หจก. จักรมณี การโยธา | H91: - คุณสมบัติครบถ้วน
F92: 400500 | H92: - เสนอราคาไม่เกินวงเงิน
H93: และงบประมาณ
F94: หจก.วังศิลา ณ นครคอนกรีต | H94: - คุณสมบัติครบถ้วน
F95: 378000 | H95: - เสนอราคาไม่เกินวงเงิน
H96: และงบประมาณ
A97: 27 | B97: จ้างก่อสร้าง ถนน คสล.สายนายวิโรจน์-บ้านนาย | C97: 779000 | D97: 621000 | E97: ประกวดราคา | F97: หจก.ซี.ซี.จักรกลและก่อสร้าง | G97: =+F97 -> หจก.ซี.ซี.จักรกลและก่อสร้าง | H97: - คุณสมบัติครบถ้วน | I97: สัญญาจ้าง เลขที่ CNTR-0230/62
B98: สมบวน ม.6 | E98: อิเล็กทรอนิกส์ | F98: 460000 | G98: =+F98 -> 460000 | H98: - เสนอราคาไม่เกินวงเงิน | I98: ลว. 26 ก.ย. 62
H99: และงบประมาณ
F100: หจก.วังศิลา ณ นครคอนกรีต | H100: - คุณสมบัติครบถ้วน
...

Sheet Sheet2
A1: งบหน้าสรุปผลการพิจารณาการจัดซื้อจัดจ้างขององค์การบริหารส่วนตำบลฉลอง
A2: ประจำเดือนกันยายน 2562
F4: รวมราคาที่พิจารณา | G4: วงเงินต่ำหรือสูง
A5: ลำดับที่ | B5: วิธีการจัดซื้อจัดจ้าง | C5: จำนวนโครงการ | D5: รวมวงเงินที่จัดซื้อจัดจ้าง | E5: รวมราคากลาง | F5: คัดเลือก | G5: กว่าราคากลาง | H5: หมายเหตุ
G6: (+ สูง) (-ต่ำกว่า)
A7: 1 | B7: จัดซื้อโดยวิธีประกาศเชิญชวนทั่วไป | C7: - | D7: - | E7: =+D7 -> - | F7: =+D7 -> - | G7: -
A8: 2 | B8: จัดจ้างโดยวิธีประกาศเชิญชวนทั่วไป | C8: - | D8: - | E8: =+D8 -> - | F8: =+D8 -> - | G8: -
A9: 3 | B9: จัดซื้อโดยวิธีการคัดเลือก | C9: - | D9: - | E9: - | F9: - | G9: -
A10: 4 | B10: จัดจ้างโดยวิธีการคัดเลือก | C10: - | D10: - | E10: =+D10 -> - | F10: =+D10 -> - | G10: -
A11: 5 | B11: จัดซื้อโดยวิธีเฉพาะเจาะจง | C11: 15 | D11: =+กันยายน!C7+กันยายน!C10+กันยายน!C13+กันยายน!C16+กันยายน!C19+กันยายน!C22+กันยายน!C25+กันยายน!C28+กันยายน!C31+กันยายน!C34+กันยายน!C37+กันยายน!C40+กันยายน!C43+กันยายน!C46+กันยายน!C49 -> 639459.4 | E11: =+กันยายน!D7+กันยายน!D10+กันยายน!D13+กันยายน!D16+กันยายน!D19+กันยายน!D22+กันยายน!D25+กันยายน!D28+กันยายน!D31+กันยายน!D34+กันยายน!D37+กันยายน!D40+กันยายน!D43+กันยายน!D46+กันยายน!C49 -> 636881.4 | F11: =+E11 -> 636881.4 | G11: =+D11-E11 -> 2578
A12: 6 | B12: จัดจ้างโดยวิธีเฉพาะเจาะจง | C12: 10 | D12: =+กันยายน!C52+กันยายน!C55+กันยายน!C58+กันยายน!C61+กันยายน!C64+กันยายน!C67+กันยายน!C73+กันยายน!C76+กันยายน!C79+กันยายน!C70 -> 491244.86 | E12: =+กันยายน!D52+กันยายน!D55+กันยายน!D58+กันยายน!D61+กันยายน!D64+กันยายน!D67+กันยายน!D73+กันยายน!D76+กันยายน!D79+กันยายน!D70 -> 477654.86 | F12: =+E12 -> 477654.86 | G12: =+D12-E12 -> 13590
A13: 7 | B13: จัดซื้อโดยวิธีตลาดอิเล็กทรอนิกส์ | C13: - | D13: - | E13: =+D13 -> - | F13: =+E13 -> - | G13: -
A14: 8 | B14: จัดจ้างโดยวิธีตลาดอิเล็กทรอนิกส์ | C14: - | D14: - | E14: - | F14: - | G14: -
A15: 9 | B15: จัดซื้อโดยวิธีประกวดราคาอิเล็กทรอนิกส์ | C15: - | D15: - | E15: - | F15: - | G15: -
A16: 10 | B16: จัดจ้างโดยวิธีประกวดราคาอิเล็กทรอนิกส์ | C16: 2 | D16: =+กันยายน!C82+กันยายน!C97 -> 1329000 | E16: =+กันยายน!D82+กันยายน!D97 -> 1066000 | F16: =+กันยายน!F83+กันยายน!F98 -> 784000 | G16: =+D16-E16 -> 263000
B17: ได้นำข้อมูลเกี่ยวกับการจัดซื้อจัดจ้างตามแบบ สขร.๑ ( ประจำเดือนสิงหาคม 2562)
B18: เผยแพร่ เมื่อวันที่ 3 ตุลาคม 2562 โดยวิธีปิดประกาศ และที่เว็บไซต์ www.chalong.go.th
B19: ไม่ได้นำข้อมูลเกี่ยวกับการจัดซื้อจัดจ้างตามแบบ สขร.๑ เผยแพร่ เหตุเพราะ ..........................................................................................
F21: (ลงชื่อ)..................................................ผู้รายงาน
F22: (นางสุมิตรา รักบำรุง)
F23: ปลัดองค์การบริหารส่วนตำบลฉลอง
