Workbook

Sheet Sheet1
A1: สรุปผลการดำเนินการจัดซื้อจัดจ้างในรอบเดือนเมษายน 2565
A2: องค์การบริหารส่วนตำบลฉลอง อำเภอสิชล จังหวัดนครศรีธรรมราช
A3: วันที่ 2 เดือน มิถุนายน พ.ศ. 2565
A4: ลำดับ | B4: งานที่จัดซื้อหรือจัดจ้าง | C4: วงเงินที่จะซื้อ | D4: ราคากลาง | E4: วิธีซื้อหรือจ้าง | F4: รายชื่อผู้เสนอราคา | G4: ผู้ได้รับการคัดเลือกและราคาที่ | H4: เหตุผลที่คัดเลือกโดยสรุป | I4: เลขที่และวันที่ของสัญญา
A5: ที่ | F5: และราคาที่เสนอ | G5: ตกลงซื้อหรือจ้าง | I5: หรือข้อตกลงในการซื้อ
C6: หรือจ้าง | I6: หรือจ้าง
A7: 1 | B7: ซื้อวัสดุก่อสร้าง หินคลุก 700 ลบ.ม. และหินท้ายราง 200 ลบ.ม. | C7: 386163 | D7: =+C7 -> 386163 | E7: เฉพาะเจาะจง | F7: หจก.จิตติภัณฑ์ วัสดุก่อสร้าง | G7: =+F7 -> หจก.จิตติภัณฑ์ วัสดุก่อสร้าง | H7: - คุณสมบัติครบถ้วน | I7: ใบสั่งซื้อ เลขที่ CNTR-00093/65
F8: 386163 | G8: =+F8 -> 386163 | H8: - เสนอราคาไม่เกินวงเงิน | I8: ลว. 9 พ.ค. 65
H9: และงบประมาณ
A10: 2 | B10: ซื้อวัสดุสำนักงานกองช่าง จำนวน 11 รายการ | C10: 8260 | D10: 8260 | E10: =+E7 -> เฉพาะเจาะจง | F10: ธันยาการต์ธุรกิจ | G10: =+F10 -> ธันยาการต์ธุรกิจ | H10: - คุณสมบัติครบถ้วน | I10: ใบสั่งซื้อ เลขที่ CNTR-00094/65
F11: 8260 | G11: =+F11 -> 8260 | H11: - เสนอราคาไม่เกินวงเงิน | I11: ลว. 9 พ.ค. 65
H12: และงบประมาณ
A13: 3 | B13: ซื้อกระเบื้องสำหรับช่วยเหลือประชาชนที่ได้รับความเดือดร้อนจาก | C13: 7000 | D13: 6140 | E13: เฉพาะเจาะจง | F13: หจก.ปิยะภัณฑ์ (ก้าว) | G13: =+F13 -> หจก.ปิยะภัณฑ์ (ก้าว) | H13: - คุณสมบัติครบถ้วน | I13: ใบสั่งซื้อ เลขที่ CNTR-00099/65
B14: สาธารณภัย | F14: 6140 | G14: =+F14 -> 6140 | H14: - เสนอราคาไม่เกินวงเงิน | I14: ลว. 12 พ.ค. 65
H15: และงบประมาณ
A16: 4 | B16: ซื้อดินปลูก สำหรับโครงการ รวมพลังมวลชนคนทำดี กิจกรรมวัน | C16: 3500 | D16: 2500 | E16: เฉพาะเจาะจง | F16: หจก.แม็กซ์ซิมัส บิสซิเนส | G16: =+F16 -> หจก.แม็กซ์ซิมัส บิสซิเนส | H16: - คุณสมบัติครบถ้วน | I16: ใบสั่งซื้อ เลขที่ CNTR-00105/65
B17: ต้นไม้ประจำปีของชาติ พ.ศ.2565 | F17: 2500 | G17: =+F17 -> 2500 | H17: - เสนอราคาไม่เกินวงเงิน | I17: ลว. 17 พ.ค. 65
H18: และงบประมาณ
A19: 5 | B19: ซื้อกระเบื้องสำหรับช่วยเหลือประชาชนที่ได้รับความเดือดร้อนจาก | C19: 8500 | D19: 8215 | E19: เฉพาะเจาะจง | F19: หจก.ปิยะภัณฑ์ (ก้าว) | G19: =+F19 -> หจก.ปิยะภัณฑ์ (ก้าว) | H19: - คุณสมบัติครบถ้วน | I19: ใบสั่งซื้อ เลขที่ CNTR-00106/65
B20: สาธารณภัย | F20: 8215 | G20: =+F20 -> 8215 | H20: - เสนอราคาไม่เกินวงเงิน | I20: ลว. 20 พ.ค. 65
H21: และงบประมาณ
A22: 6 | B22: ซื้อวัสดุวิทยาศาสตร์หรือการแพทย์ เพื่อป้องกันโรคติดเชื้อไวรัส | C22: 15600 | D22: 15600 | E22: เฉพาะเจาะจง | F22: นครอุปกรณ์การแพทย์ | G22: =+F22 -> นครอุปกรณ์การแพทย์ | H22: - คุณสมบัติครบถ้วน | I22: ใบสั่งซื้อ เลขที่ CNTR-00108/65
B23: โคโรนา 2016 (COVID--19) | F23: 15600 | G23: =+F23 -> 15600 | H23: - เสนอราคาไม่เกินวงเงิน | I23: ลว. 27 พ.ค. 65
H24: และงบประมาณ
A25: 7 | B25: จ้างจัดสถานที่เพื่อจัดกิจกรรมเฉลิมพระเกียรติฯ | C25: 12000 | D25: 12000 | E25: เฉพาะเจาะจง | F25: นายประทีป มะโนวงศ์ | G25: =+F25 -> นายประทีป มะโนวงศ์ | H25: - คุณสมบัติครบถ้วน | I25: ใบสั่งจ้าง เลขที่ CNTR-00095/65
F26: 12000 | G26: =+F26 -> 12000 | H26: - เสนอราคาไม่เกินวงเงิน | I26: ลว. 9 พ.ค. 65
H27: และงบประมาณ
A28: 8 | B28: จ้างตรวจเช็คและซ่อมแซมรถตักหน้า-ขุดหลัง หมายเลขทะเบียน | C28: 2290 | D28: 2290 | E28: เฉพาะเจาะจง | F28: อนันชัยสิชลกลการ | G28: =+F28 -> อนันชัยสิชลกลการ | H28: - คุณสมบัติครบถ้วน | I28: ใบสั่งจ้าง เลขที่ CNTR-00092/65
B29: ตค 1867 นครศรีธรรมราช | F29: 2290 | G29: =+F29 -> 2290 | H29: - เสนอราคาไม่เกินวงเงิน | I29: ลว. 6 พ.ค. 65
H30: และงบประมาณ
A31: 9 | B31: จ้างตรวจเช็คและซ่อมแซมรถยนต์ส่วนกลาง หมายเลขทะเบียน กง | C31: 3000 | D31: 2800 | E31: เฉพาะเจาะจง | F31: ร้านท่าหินการยางและรถยก | G31: =+F31 -> ร้านท่าหินการยางและรถยก | H31: - คุณสมบัติครบถ้วน | I31: ใบสั่งจ้าง เลขที่ CNTR-00096/65
B32: 9261 นศ | F32: 2800 | G32: =+F32 -> 2800 | H32: - เสนอราคาไม่เกินวงเงิน | I32: ลว. 10 พ.ค. 65
H33: และงบประมาณ
A34: 10 | B34: จ้างทำป้ายประชาสัมพันธ์สำหรับโครงการรวมพลังมวลชนคนทำดี | C34: 450 | D34: 450 | E34: เฉพาะเจาะจง | F34: สิชลโฆษณา | G34: =+F34 -> สิชลโฆษณา | H34: - คุณสมบัติครบถ้วน | I34: ใบสั่งจ้าง เลขที่ CNTR-00103/65
B35: กิจกรรมวันต้นไม้ประจำปี ของชาติ พ.ศ.2565 | F35: 450 | G35: =+F35 -> 450 | H35: - เสนอราคาไม่เกินวงเงิน | I35: ลว. 17 พ.ค. 65
H36: และงบประมาณ
A37: 11 | B37: จ้างทำอาหารและเครื่องดื่มสำหรับโครงการรวมพลังมวลชนคนทำดี | C37: 6000 | D37: 6000 | E37: เฉพาะเจาะจง | F37: นางสาวเมทินี โพธิ์ทอง | G37: =+F37 -> นางสาวเมทินี โพธิ์ทอง | H37: - คุณสมบัติครบถ้วน | I37: ใบสั่งจ้าง เลขที่ CNTR-00104/65
B38: กิจกรรมวันต้นไม้ประจำปี ของชาติ พ.ศ.2565 | F38: 6000 | G38: =+F38 -> 6000 | H38: - เสนอราคาไม่เกินวงเงิน | I38: ลว. 17 พ.ค. 65
H39: และงบประมาณ
A40: 12 | B40: จ้างทำป้ายไวนิลสำหรับโครงการจัดเวทีประชาคมระดับตำบลฯ | C40: 450 | D40: 450 | E40: เฉพาะเจาะจง | F40: สิชลโฆษณา | G40: =+F40 -> สิชลโฆษณา | H40: - คุณสมบัติครบถ้วน | I40: ใบสั่งจ้าง เลขที่ CNTR-00107/65
F41: 450 | G41: =+F41 -> 450 | H41: - เสนอราคาไม่เกินวงเงิน | I41: ลว. 26 พ.ค. 65
H42: และงบประมาณ
A43: 13 | B43: จ้างทำป้ายไวนิลพระฉายาลักษณ์สมเด็จพระนางเจ้าฯ พระบรม | C43: 1700 | D43: 1650 | E43: เฉพาะเจาะจง | F43: สิชลโฆษณา | G43: =+F43 -> สิชลโฆษณา | H43: - คุณสมบัติครบถ้วน | I43: ใบสั่งจ้าง เลขที่ CNTR-00109/65
B44: ราชินี | F44: 1650 | G44: =+F44 -> 1650 | H44: - เสนอราคาไม่เกินวงเงิน | I44: ลว. 31 พ.ค. 65
H45: และงบประมาณ
A46: 14 | B46: จ้างเหมาเครื่องจักร รถแบ็คโฮ ซ่อมแซมถนนสาธารณะที่ได้รับความ | C46: 378725.31 | D46: 378710 | E46: เฉพาะเจาะจง | F46: นายภากร โชติชุติหิรัญ | G46: =+F46 -> นายภากร โชติชุติหิรัญ | H46: - คุณสมบัติครบถ้วน | I46: สัญญาจ้าง เลขที่ CNTR-00091/65
B47: เสียหายจากอุทกภัย | F47: 378700 | G47: =+F47 -> 378700 | H47: - เสนอราคาไม่เกินวงเงิน | I47: ลว. 3 พ.ค. 65
H48: และงบประมาณ
A49: 15 | B49: จ้างก่อสร้างถนนคอนกรีตเสริมเหล็ก สายซอยมิยาซาว่า-ทุ่งพังกำ | C49: 355000 | D49: 363000 | E49: เฉพาะเจาะจง | F49: บ.ปรีชาวัสดุภัณฑ์ จำกัด | G49: =+F49 -> บ.ปรีชาวัสดุภัณฑ์ จำกัด | H49: - คุณสมบัติครบถ้วน | I49: สัญญาจ้าง เลขที่ CNTR-00097/65
B50: หมู่ที่ 8 ตำบลฉลอง | F50: 355000 | G50: =+F50 -> 355000 | H50: - เสนอราคาไม่เกินวงเงิน | I50: ลว. 12 พ.ค. 65
H51: และงบประมาณ
A52: 16 | B52: จ้างก่อสร้างถนนคอนกรีตเสริมเหล็ก สายราชปราศรัย หมู่ที่ 9 | C52: 449000 | D52: 459000 | E52: เฉพาะเจาะจง | F52: บ.ปรีชาวัสดุภัณฑ์ จำกัด | G52: =+F52 -> บ.ปรีชาวัสดุภัณฑ์ จำกัด | H52: - คุณสมบัติครบถ้วน | I52: สัญญาจ้าง เลขที่ CNTR-00098/65
B53: ตำบลฉลอง | F53: 449000 | G53: =+F53 -> 449000 | H53: - เสนอราคาไม่เกินวงเงิน | I53: ลว. 12 พ.ค. 65
H54: และงบประมาณ
A55: 17 | B55: จ้างก่อสร้างถนนคอนกรีตเสริมเหล็ก สายใสตึก-จดเขตตำบลทุ่งปรัง | C55: 355000 | D55: 363000 | E55: เฉพาะเจาะจง | F55: หจก.จิตติภัณฑ์ วัสดุก่อสร้าง | G55: =+F55 -> หจก.จิตติภัณฑ์ วัสดุก่อสร้าง | H55: - คุณสมบัติครบถ้วน | I55: สัญญาจ้าง เลขที่ CNTR-00100/65
B56: หมู่ที่ 3 ตำบลฉลอง | F56: 354000 | G56: =+F56 -> 354000 | H56: - เสนอราคาไม่เกินวงเงิน | I56: ลว. 17 พ.ค. 65
H57: และงบประมาณ
A58: 18 | B58: จ้างก่อสร้างคูระบายน้ำ บ้านนายฉลอง-คูชลประทาน หมู่ที่ 6 | C58: 491000 | D58: 511000 | E58: เฉพาะเจาะจง | F58: หจก.จิตติภัณฑ์ วัสดุก่อสร้าง | G58: =+F58 -> หจก.จิตติภัณฑ์ วัสดุก่อสร้าง | H58: - คุณสมบัติครบถ้วน | I58: สัญญาจ้าง เลขที่ CNTR-00101/65
F59: 490000 | G59: =+F59 -> 490000 | H59: - เสนอราคาไม่เกินวงเงิน | I59: ลว. 17 พ.ค. 65
H60: และงบประมาณ
A61: 19 | B61: จ้างก่อสร้างถนนคอนกรีตเสริมเหล็ก สายซอยบ้านนายสุเทพ-นาย | C61: 449000 | D61: 459000 | E61: เฉพาะเจาะจง | F61: หจก.จิตติภัณฑ์ วัสดุก่อสร้าง | G61: =+F61 -> หจก.จิตติภัณฑ์ วัสดุก่อสร้าง | H61: - คุณสมบัติครบถ้วน | I61: สัญญาจ้าง เลขที่ CNTR-00102/65
B62: น้อม หมู่ที่ 7 ตำบลฉลอง | F62: 448000 | G62: =+F62 -> 448000 | H62: - เสนอราคาไม่เกินวงเงิน | I62: ลว. 17 พ.ค. 65
H63: และงบประมาณ

Sheet Sheet2
A1: งบหน้าสรุปผลการพิจารณาการจัดซื้อจัดจ้างขององค์การบริหารส่วนตำบลฉลอง
A2: ประจำเดือนพฤษภาคม 2565
F4: รวมราคาที่พิจารณา | G4: วงเงินต่ำหรือสูง
A5: ลำดับที่ | B5: วิธีการจัดซื้อจัดจ้าง | C5: จำนวนโครงการ | D5: รวมวงเงินที่จัดซื้อจัดจ้าง | E5: รวมราคากลาง | F5: คัดเลือก | G5: กว่าราคากลาง | H5: หมายเหตุ
G6: (+ สูง) (-ต่ำกว่า)
A7: 1 | B7: จัดซื้อโดยวิธีประกาศเชิญชวนทั่วไป | C7: - | D7: - | E7: =+D7 -> - | F7: =+D7 -> - | G7: -
A8: 2 | B8: จัดจ้างโดยวิธีประกาศเชิญชวนทั่วไป | C8: - | D8: - | E8: =+D8 -> - | F8: =+D8 -> - | G8: -
A9: 3 | B9: จัดซื้อโดยวิธีการคัดเลือก | C9: - | D9: - | E9: - | F9: - | G9: -
A10: 4 | B10: จัดจ้างโดยวิธีการคัดเลือก | C10: - | D10: - | E10: - | F10: - | G10: -
A11: 5 | B11: จัดซื้อโดยวิธีเฉพาะเจาะจง | C11: 6 | D11: =+Sheet1!C7+Sheet1!C10+Sheet1!C13+Sheet1!C16+Sheet1!C19+Sheet1!C22 -> 429023 | E11: =+Sheet1!D7+Sheet1!D10+Sheet1!D13+Sheet1!D16+Sheet1!D19+Sheet1!D22 -> 426878 | F11: =+Sheet1!G8+Sheet1!G11+Sheet1!G14+Sheet1!G17+Sheet1!G20+Sheet1!G23 -> 426878 | G11: =+D11-E11 -> 2145
A12: 6 | B12: จัดจ้างโดยวิธีเฉพาะเจาะจง | C12: 13 | D12: =+Sheet1!C25+Sheet1!C28+Sheet1!C31+Sheet1!C34+Sheet1!C37+Sheet1!C40+Sheet1!C43+Sheet1!C46+Sheet1!C49+Sheet1!C52+Sheet1!C55+Sheet1!C58+Sheet1!C61 -> 2503615.3 | E12: =+Sheet1!D25+Sheet1!D28+Sheet1!D31+Sheet1!D34+Sheet1!D37+Sheet1!D40+Sheet1!D43+Sheet1!D46+Sheet1!D49+Sheet1!D52+Sheet1!D55+Sheet1!D58+Sheet1!D61 -> 2559350 | F12: =+Sheet1!G26+Sheet1!G29+Sheet1!G32+Sheet1!G35+Sheet1!G38+Sheet1!G41+Sheet1!G44+Sheet1!G47+Sheet1!G50+Sheet1!G53+Sheet1!G56+Sheet1!G59+Sheet1!G62 -> 2500340 | G12: =+D12-E12 -> -55734.69
A13: 7 | B13: จัดซื้อโดยวิธีตลาดอิเล็กทรอนิกส์ | C13: - | D13: - | E13: =+D13 -> - | F13: =+E13 -> - | G13: -
A14: 8 | B14: จัดจ้างโดยวิธีตลาดอิเล็กทรอนิกส์ | C14: - | D14: - | E14: - | F14: - | G14: -
A15: 9 | B15: จัดซื้อโดยวิธีประกวดราคาอิเล็กทรอนิกส์ | C15: - | D15: - | E15: - | F15: - | G15: -
A16: 10 | B16: จัดจ้างโดยวิธีประกวดราคาอิเล็กทรอนิกส์ | C16: - | D16: - | E16: - | F16: - | G16: -
B17: ได้นำข้อมูลเกี่ยวกับการจัดซื้อจัดจ้างตามแบบ สขร.๑ ( ประจำเดือนพฤษภาคม 2565)
B18: เผยแพร่ เมื่อวันที่ 2 มิถุนายน 2565 โดยวิธีปิดประกาศ และที่เว็บไซต์ www.chalong.go.th
B19: ไม่ได้นำข้อมูลเกี่ยวกับการจัดซื้อจัดจ้างตามแบบ สขร.๑ เผยแพร่ เหตุเพราะ ..........................................................................................
E21: (ลงชื่อ)..................................................ผู้รายงาน
E22: (นางสุมิตรา รักบำรุง)
E23: ปลัดองค์การบริหารส่วนตำบลฉลอง

Sheet Sheet3
