Workbook

Sheet Sheet3
A1: สรุปผลการดำเนินการจัดซื้อจัดจ้างในรอบเดือนพฤษภาคม 2564
A2: องค์การบริหารส่วนตำบลฉลอง อำเภอสิชล จังหวัดนครศรีธรรมราช
A3: วันที่ 2 เดือน มิถุนายน พ.ศ. 2564
A4: ลำดับ | B4: งานที่จัดซื้อหรือจัดจ้าง | C4: วงเงินที่จะซื้อ | D4: ราคากลาง | E4: วิธีซื้อหรือจ้าง | F4: รายชื่อผู้เสนอราคา | G4: ผู้ได้รับการคัดเลือกและราคาที่ | H4: เหตุผลที่คัดเลือกโดยสรุป | I4: เลขที่และวันที่ของสัญญา
A5: ที่ | F5: และราคาที่เสนอ | G5: ตกลงซื้อหรือจ้าง | I5: หรือข้อตกลงในการซื้อ
C6: หรือจ้าง | I6: หรือจ้าง
A7: 1 | B7: ซื้อวัสดุวิทยาศาสตร์หรือการแพทย์เพื่อป้องกันโรค | C7: 376000 | D7: 376000 | E7: เฉพาะเจาะจง | F7: หจก.แม็กซ์ซิมัส บิสซิเนส | G7: =+F7 -> หจก.แม็กซ์ซิมัส บิสซิเนส | H7: - คุณสมบัติครบถ้วน | I7: ใบสั่งซื้อ เลขที่ CNTR-0096/64
B8: ติดเชื้อไวรัสโคโรนา 2019 (COVID-19) ให้กับประชา | F8: =+D7 -> 376000 | G8: =+F8 -> 376000 | H8: - เสนอราคาไม่เกินวงเงิน | I8: ลว. 3 พ.ค. 64
B9: ชนในพื้นที่ตำบลฉลอง | H9: และงบประมาณ
A10: 2 | B10: ซื้อวัสดุก่อสร้าง หินคลุก 650 ลบ.ม. | C10: 303933.5 | D10: 303933.5 | E10: เฉพาะเจาะจง | F10: หจก.จิตติภัณฑ์ วัสดุก่อสร้าง | G10: =+F10 -> หจก.จิตติภัณฑ์ วัสดุก่อสร้าง | H10: - คุณสมบัติครบถ้วน | I10: ใบสั่งซื้อ เลขที่ CNTR-0099/64
F11: =+D10 -> 303933.5 | G11: =+F11 -> 303933.5 | H11: - เสนอราคาไม่เกินวงเงิน | I11: ลว. 17 พ.ค. 64
H12: และงบประมาณ
A13: 3 | B13: ซื้อวัสดุยานพาหนะและขนส่ง แบตเตอรี่ รถบรรทุก | C13: 5700 | D13: 5700 | E13: เฉพาะเจาะจง | F13: หจก.เอส.ซี.ไทร์ | G13: =+F13 -> หจก.เอส.ซี.ไทร์ | H13: - คุณสมบัติครบถ้วน | I13: ใบสั่งซื้อ เลขที่ CNTR-0101/64
B14: ขนาด 6 ล้อ 6 ตัน | F14: 5700 | G14: =+F14 -> 5700 | H14: - เสนอราคาไม่เกินวงเงิน | I14: ลว. 17 พ.ค. 64
H15: และงบประมาณ
A16: 4 | B16: ซื้ออาหารเสริม (นม) โรงเรียนประจำภาคเรียนที่ | C16: 75264 | D16: 75264 | E16: เฉพาะเจาะจง | F16: บ.แมรี่ แอน แดรี่ โปรดักส์ จำกัด | G16: =+F16 -> บ.แมรี่ แอน แดรี่ โปรดักส์ จำกัด | H16: - คุณสมบัติครบถ้วน | I16: ใบสั่งซื้อ เลขที่ CNTR-0108/64
F17: =+D16 -> 75264 | G17: =+F17 -> 75264 | H17: - เสนอราคาไม่เกินวงเงิน | I17: ลว. 18 พ.ค. 64
H18: และงบประมาณ
A19: 5 | B19: ซื้อกระเบื้องสำหรับช่วยเหลือประชาชนที่ได้รับความ | C19: 9000 | D19: 8613 | E19: เฉพาะเจาะจง | F19: หจก.จิตติภัณฑ์ วัสดุก่อสร้าง | G19: =+F19 -> หจก.จิตติภัณฑ์ วัสดุก่อสร้าง | H19: - คุณสมบัติครบถ้วน | I19: ใบสั่งซื้อ เลขที่ CNTR-0105/64
B20: เดือดร้อนจากสาธารณภัย | F20: 8613 | G20: =+F20 -> 8613 | H20: - เสนอราคาไม่เกินวงเงิน | I20: ลว. 20 พ.ค. 64
H21: และงบประมาณ
A22: 6 | B22: ซื้อวัสดุคอมพิวเตอร์ กองคลัง 13 รายการ | C22: 85419 | D22: 85419 | E22: เฉพาะเจาะจง | F22: ร้านสิชลคอมพิวเตอร์แอนด์เซอร์วิส | G22: =+F22 -> ร้านสิชลคอมพิวเตอร์แอนด์เซอร์วิส | H22: - คุณสมบัติครบถ้วน | I22: ใบสั่งซื้อ เลขที่ CNTR-0106/64
F23: 85419 | G23: =+F23 -> 85419 | H23: - เสนอราคาไม่เกินวงเงิน | I23: ลว. 25 พ.ค. 64
H24: และงบประมาณ
A25: 7 | B25: จ้างตรวจเช็คและซ่อมแซมรถยนต์ส่วนกลาง | C25: 6600 | D25: 6600 | E25: เฉพาะเจาะจง | F25: หจก.เอส.ซี.ไทร์ | G25: =+F25 -> หจก.เอส.ซี.ไทร์ | H25: - คุณสมบัติครบถ้วน | I25: ใบสั่งจ้าง เลขที่ CNTR-0097/64
B26: ทะเบียน กง 9261 นศ | F26: 6600 | G26: =+F26 -> 6600 | H26: - เสนอราคาไม่เกินวงเงิน | I26: ลว. 12 พ.ค. 64
H27: และงบประมาณ
A28: 8 | B28: จ้างซ่อมแซมระบบประปาหมู่บ้าน หมู่ที่ 8 ต.ฉลอง | C28: 90000 | D28: 88000 | E28: เฉพาะเจาะจง | F28: อารีย์เกษตรภัณฑ์ | G28: =+F28 -> อารีย์เกษตรภัณฑ์ | H28: - คุณสมบัติครบถ้วน | I28: ใบสั่งจ้าง เลขที่ CNTR-0098/64
F29: 88000 | G29: =+F29 -> 88000 | H29: - เสนอราคาไม่เกินวงเงิน | I29: ลว. 14 พ.ค. 64
H30: และงบประมาณ
A31: 9 | B31: จ้างตรวจเช็คและซ่อมแซมรถตักหน้า-ขุดหลัง หมาย | C31: 3430 | D31: 3430 | E31: เฉพาะเจาะจง | F31: อนันชัยสิชลกลการ | G31: =+F31 -> อนันชัยสิชลกลการ | H31: - คุณสมบัติครบถ้วน | I31: ใบสั่งจ้าง เลขที่ CNTR-0100/64
B32: เลขทะเบียน ตค 1867 | F32: 3430 | G32: =+F32 -> 3430 | H32: - เสนอราคาไม่เกินวงเงิน | I32: ลว. 17 พ.ค. 64
H33: และงบประมาณ
A34: 10 | B34: จ้างตรวจเช็คและซ่อมเปลี่ยนอะไหล่เครื่องถ่าย | C34: 21500 | D34: 21500 | E34: เฉพาะเจาะจง | F34: ร้านซีเค ซัพพลาย โอ.เอ | G34: =+F34 -> ร้านซีเค ซัพพลาย โอ.เอ | H34: - คุณสมบัติครบถ้วน | I34: ใบสั่งจ้าง เลขที่ CNTR-0102/64
B35: เอกสาร | F35: 21500 | G35: =+F35 -> 21500 | H35: - เสนอราคาไม่เกินวงเงิน | I35: ลว. 18 พ.ค. 64
H36: และงบประมาณ
A37: 11 | B37: จ้างก่อสร้างโครงการพัฒนาแหล่งท่องเที่ยวน้ำตก | C37: 1506000 | D37: 1500000 | E37: ประกวดราคา | F37: หจก.นครพงษ์ภัณฑ์การโยธา | G37: =+F37 -> หจก.นครพงษ์ภัณฑ์การโยธา | H37: - คุณสมบัติครบถ้วน | I37: สัญญาจ้าง เลขที่ CNTR-0104/64
B38: ในหนานโดยก่อสร้างอาคารอเนกประสงค์ ม.5 | E38: อิเล็กทรอนิกส์ | F38: 1370000 | G38: =+F38 -> 1370000 | H38: - เสนอราคาไม่เกินวงเงิน | I38: ลว. 19 พ.ค. 64
E39: (e-bidding) | H39: และงบประมาณ
F40: หจก.วิไล ขนอม เทรดดิ้ง | G40: =+F40 -> หจก.วิไล ขนอม เทรดดิ้ง
...

Sheet Sheet2
A1: งบหน้าสรุปผลการพิจารณาการจัดซื้อจัดจ้างขององค์การบริหารส่วนตำบลฉลอง
A2: ประจำเดือนพฤษภาคม 2564
F4: รวมราคาที่พิจารณา | G4: วงเงินต่ำหรือสูง
A5: ลำดับที่ | B5: วิธีการจัดซื้อจัดจ้าง | C5: จำนวนโครงการ | D5: รวมวงเงินที่จัดซื้อจัดจ้าง | E5: รวมราคากลาง | F5: คัดเลือก | G5: กว่าราคากลาง | H5: หมายเหตุ
G6: (+ สูง) (-ต่ำกว่า)
A7: 1 | B7: จัดซื้อโดยวิธีประกาศเชิญชวนทั่วไป | C7: - | D7: - | E7: =+D7 -> - | F7: =+D7 -> - | G7: -
A8: 2 | B8: จัดจ้างโดยวิธีประกาศเชิญชวนทั่วไป | C8: - | D8: - | E8: =+D8 -> - | F8: =+D8 -> - | G8: -
A9: 3 | B9: จัดซื้อโดยวิธีการคัดเลือก | C9: - | D9: - | E9: - | F9: - | G9: -
A10: 4 | B10: จัดจ้างโดยวิธีการคัดเลือก | C10: - | D10: - | E10: =+D10 -> - | F10: =+D10 -> - | G10: -
A11: 5 | B11: จัดซื้อโดยวิธีเฉพาะเจาะจง | C11: 6 | D11: =+Sheet3!C7+Sheet3!C10+Sheet3!C13+Sheet3!C16+Sheet3!C19+Sheet3!C22 -> 855316.5 | E11: =+Sheet3!D7+Sheet3!D10+Sheet3!D13+Sheet3!D16+Sheet3!D19+Sheet3!D22 -> 854929.5 | F11: =+Sheet3!G8+Sheet3!G11+Sheet3!G14+Sheet3!G17+Sheet3!G20+Sheet3!G23 -> 854929.5 | G11: =+D11-E11 -> 387
A12: 6 | B12: จัดจ้างโดยวิธีเฉพาะเจาะจง | C12: 4 | D12: =+Sheet3!C25+Sheet3!C28+Sheet3!C31+Sheet3!C34 -> 121530 | E12: =+Sheet3!D25+Sheet3!D28+Sheet3!D31+Sheet3!D34 -> 119530 | F12: =+Sheet3!G26+Sheet3!G29+Sheet3!G32+Sheet3!G35 -> 119530 | G12: =+D12-E12 -> 2000
A13: 7 | B13: จัดซื้อโดยวิธีตลาดอิเล็กทรอนิกส์ | C13: - | D13: - | E13: =+D13 -> - | F13: =+E13 -> - | G13: -
A14: 8 | B14: จัดจ้างโดยวิธีตลาดอิเล็กทรอนิกส์ | C14: - | D14: - | E14: - | F14: - | G14: -
A15: 9 | B15: จัดซื้อโดยวิธีประกวดราคาอิเล็กทรอนิกส์ | C15: - | D15: - | E15: - | F15: - | G15: -
A16: 10 | B16: จัดจ้างโดยวิธีประกวดราคาอิเล็กทรอนิกส์ | C16: 2 | D16: =+Sheet3!C37+Sheet3!C46 -> 6211000 | E16: =+Sheet3!D37+Sheet3!D46 -> 5575325.9 | F16: =+Sheet3!G38+Sheet3!G47 -> 4298000 | G16: =+D16-E16 -> 635674.09
B17: ได้นำข้อมูลเกี่ยวกับการจัดซื้อจัดจ้างตามแบบ สขร.๑ ( ประจำเดือนพฤษภาคม 2564)
B18: เผยแพร่ เมื่อวันที่ 2 มิถุนายน 2564 โดยวิธีปิดประกาศ และที่เว็บไซต์ www.chalong.go.th
B19: ไม่ได้นำข้อมูลเกี่ยวกับการจัดซื้อจัดจ้างตามแบบ สขร.๑ เผยแพร่ เหตุเพราะ ..........................................................................................
F21: (ลงชื่อ)..................................................ผู้รายงาน
F22: (นางสุมิตรา รักบำรุง)
F23: ปลัดองค์การบริหารส่วนตำบลฉลอง
