Workbook

Sheet Sheet1
A1: สรุปผลการดำเนินการจัดซื้อจัดจ้างในรอบเดือนมกราคม 2565
A2: องค์การบริหารส่วนตำบลฉลอง อำเภอสิชล จังหวัดนครศรีธรรมราช
A3: วันที่ 2 เดือน กุมภาพันธ์ พ.ศ. 2565
A4: ลำดับ | B4: งานที่จัดซื้อหรือจัดจ้าง | C4: วงเงินที่จะซื้อ | D4: ราคากลาง | E4: วิธีซื้อหรือจ้าง | F4: รายชื่อผู้เสนอราคา | G4: ผู้ได้รับการคัดเลือกและราคาที่ | H4: เหตุผลที่คัดเลือกโดยสรุป | I4: เลขที่และวันที่ของสัญญา
A5: ที่ | F5: และราคาที่เสนอ | G5: ตกลงซื้อหรือจ้าง | I5: หรือข้อตกลงในการซื้อ
C6: หรือจ้าง | I6: หรือจ้าง
A7: 1 | B7: ซื้ออาหารเสริม (นม) โรงเรียนประจำภาคเรียนที่ 2/2564 ครั้งที่2 | C7: 138155.94 | D7: 138155.94 | E7: เฉพาะเจาะจง | F7: สหกรณ์โคนม ชะอำ-ห้วยทราย จำกัด | G7: =+F7 -> สหกรณ์โคนม ชะอำ-ห้วยทราย จำกัด | H7: - คุณสมบัติครบถ้วน | I7: ใบสั่งซื้อ เลขที่ CNTR-00043/65
F8: 138155.94 | G8: =+F8 -> 138155.94 | H8: - เสนอราคาไม่เกินวงเงิน | I8: ลว. 4 ม.ค. 65
H9: และงบประมาณ
A10: 2 | B10: ซื้อครุภัณฑ์สำนักงาน (โต๊ะทำงานเหล็ก ขนาด 5 ฟุต พร้อมเก้าอี้) | C10: 10000 | D10: 10000 | E10: =+E7 -> เฉพาะเจาะจง | F10: ธันยาการต์ธุรกิจ | G10: =+F10 -> ธันยาการต์ธุรกิจ | H10: - คุณสมบัติครบถ้วน | I10: ใบสั่งซื้อ เลขที่ CNTR-00044/65
F11: 10000 | G11: =+F11 -> 10000 | H11: - เสนอราคาไม่เกินวงเงิน | I11: ลว. 7 ม.ค. 65
H12: และงบประมาณ
A13: 3 | B13: ซื้อครุภัณฑ์สำนักงาน เก้าอี้สำนักงาน กองช่าง | C13: 17500 | D13: 17250 | E13: เฉพาะเจาะจง | F13: ธันยาการต์ธุรกิจ | G13: =+F13 -> ธันยาการต์ธุรกิจ | H13: - คุณสมบัติครบถ้วน | I13: ใบสั่งซื้อ เลขที่ CNTR-00046/65
F14: 17250 | G14: =+F14 -> 17250 | H14: - เสนอราคาไม่เกินวงเงิน | I14: ลว. 7 ม.ค. 65
H15: และงบประมาณ
A16: 4 | B16: ซื้อครุภัณฑ์สำนักงาน (โต๊ะ เก้าอี้ ผู้บริหารและ เก้าอี้สำนักงาน) | C16: 109900 | D16: 109900 | E16: เฉพาะเจาะจง | F16: ธันยาการต์ธุรกิจ | G16: =+F16 -> ธันยาการต์ธุรกิจ | H16: - คุณสมบัติครบถ้วน | I16: ใบสั่งซื้อ เลขที่ CNTR-00051/65
F17: 109900 | G17: =+F17 -> 109900 | H17: - เสนอราคาไม่เกินวงเงิน | I17: ลว. 27 ม.ค. 65
H18: และงบประมาณ
A19: 5 | B19: ซื้อวัสดุคอมพิวเตอร์ กองคลัง | C19: 16120 | D19: 16120 | E19: เฉพาะเจาะจง | F19: ร้านสิชลคอมพิวเตอร์แอนด์เซอร์วิส | G19: =+F19 -> ร้านสิชลคอมพิวเตอร์แอนด์เซอร์วิส | H19: - คุณสมบัติครบถ้วน | I19: ใบสั่งซื้อ เลขที่ CNTR-00052/65
F20: 16120 | G20: =+F20 -> 16120 | H20: - เสนอราคาไม่เกินวงเงิน | I20: ลว. 28 ม.ค. 65
H21: และงบประมาณ
A22: 6 | B22: จ้างตรวจเช็คและซ่อมแซมรถบรรทุกน้ำเอนกประสงค์ หมายเลขทะ | C22: 1500 | D22: 1480 | E22: เฉพาะเจาะจง | F22: ร้านพรจักรไดนาโม | G22: =+F22 -> ร้านพรจักรไดนาโม | H22: - คุณสมบัติครบถ้วน | I22: ใบสั่งจ้าง เลขที่ CNTR-00047/65
B23: เบียน 81-4247 นศ รหัสครุภัณฑ์ 003-49-0001 จำนวน 1 คัน | F23: 1480 | G23: =+F23 -> 1480 | H23: - เสนอราคาไม่เกินวงเงิน | I23: ลว. 20 ม.ค. 65
H24: และงบประมาณ
A25: 7 | B25: จ้างประชาสัมพันธ์ตามโครงการจัดงานประเพณีให้ทานไฟ | C25: 8000 | D25: 7650 | E25: เฉพาะเจาะจง | F25: สิชล โฆษณา | G25: =+F25 -> สิชล โฆษณา | H25: - คุณสมบัติครบถ้วน | I25: ใบสั่งจ้าง เลขที่ CNTR-00049/65
B26: ประจำปี 2565 | F26: 7650 | G26: =+F26 -> 7650 | H26: - เสนอราคาไม่เกินวงเงิน | I26: ลว. 26 ม.ค. 65
H27: และงบประมาณ
A28: 8 | B28: จ้างเช่าอุปกรณ์การจัดงานโครงการจัดงานประเพณีให้ทานไฟ | C28: 92000 | D28: 92000 | E28: เฉพาะเจาะจง | F28: นายเชาวลิต เศษเพชร | G28: =+F28 -> นายเชาวลิต เศษเพชร | H28: - คุณสมบัติครบถ้วน | I28: ใบสั่งจ้าง เลขที่ CNTR-00050/65
B29: ประจำปี 2565 | F29: 92000 | G29: =+F29 -> 92000 | H29: - เสนอราคาไม่เกินวงเงิน | I29: ลว. 26 ม.ค. 65
H30: และงบประมาณ
A31: 9 | B31: จ้างก่อสร้างปรับปรุงซ่อมแซมถนนแอสฟัลท์ติก รหัสสายทาง นศ.ถ. | C31: 7606000 | D31: 7061395.2 | E31: คัดเลือก | F31: ห้างหุ้นส่วนจำกัด ไตรทอง นครศรี | G31: =+F31 -> ห้างหุ้นส่วนจำกัด ไตรทอง นครศรี | H31: - คุณสมบัติครบถ้วน | I31: สัญญาจ้าง เลขที่ CNTR-00045/65
B32: 75-002 จากสายแยก 4105-วัดกลาง บ้านท่าวควาย หมู่ที่ 1 | F32: 7050000 | G32: =+F32 -> 7050000 | H32: - เสนอราคาไม่เกินวงเงิน | I32: ลว. 7 ม.ค. 65
H33: และงบประมาณ
F34: ห้างหุ้นส่วนจำกัด แซนซันการโยธา | G34: =+F34 -> ห้างหุ้นส่วนจำกัด แซนซันการโยธา | H34: - คุณสมบัติครบถ้วน
F35: 7060000 | G35: =+F35 -> 7060000 | H35: - เสนอราคาไม่เกินวงเงิน
H36: และงบประมาณ

Sheet Sheet2
A1: งบหน้าสรุปผลการพิจารณาการจัดซื้อจัดจ้างขององค์การบริหารส่วนตำบลฉลอง
A2: ประจำเดือนมกราคม 2565
F4: รวมราคาที่พิจารณา | G4: วงเงินต่ำหรือสูง
A5: ลำดับที่ | B5: วิธีการจัดซื้อจัดจ้าง | C5: จำนวนโครงการ | D5: รวมวงเงินที่จัดซื้อจัดจ้าง | E5: รวมราคากลาง | F5: คัดเลือก | G5: กว่าราคากลาง | H5: หมายเหตุ
G6: (+ สูง) (-ต่ำกว่า)
A7: 1 | B7: จัดซื้อโดยวิธีประกาศเชิญชวนทั่วไป | C7: - | D7: - | E7: =+D7 -> - | F7: =+D7 -> - | G7: -
A8: 2 | B8: จัดจ้างโดยวิธีประกาศเชิญชวนทั่วไป | C8: - | D8: - | E8: =+D8 -> - | F8: =+D8 -> - | G8: -
A9: 3 | B9: จัดซื้อโดยวิธีการคัดเลือก | C9: - | D9: - | E9: - | F9: - | G9: -
A10: 4 | B10: จัดจ้างโดยวิธีการคัดเลือก | C10: 1 | D10: 7606000 | E10: 7061395.2 | F10: 7050000 | G10: =+D10-E10 -> 544604.76
A11: 5 | B11: จัดซื้อโดยวิธีเฉพาะเจาะจง | C11: 5 | D11: =+Sheet1!C7+Sheet1!C10+Sheet1!C13+Sheet1!C16+Sheet1!C19 -> 291675.94 | E11: =+Sheet1!D7+Sheet1!D10+Sheet1!D13+Sheet1!D16+Sheet1!D19 -> 291425.94 | F11: =+Sheet1!G8+Sheet1!G11+Sheet1!G14+Sheet1!G17+Sheet1!G20 -> 291425.94 | G11: =+D11-E11 -> 250
A12: 6 | B12: จัดจ้างโดยวิธีเฉพาะเจาะจง | C12: 3 | D12: =+Sheet1!C22+Sheet1!C25+Sheet1!C28 -> 101500 | E12: =+Sheet1!D22+Sheet1!D25+Sheet1!D28 -> 101130 | F12: =+Sheet1!G23+Sheet1!G26+Sheet1!G29 -> 101130 | G12: =+D12-E12 -> 370
A13: 7 | B13: จัดซื้อโดยวิธีตลาดอิเล็กทรอนิกส์ | C13: - | D13: - | E13: =+D13 -> - | F13: =+E13 -> - | G13: -
A14: 8 | B14: จัดจ้างโดยวิธีตลาดอิเล็กทรอนิกส์ | C14: - | D14: - | E14: - | F14: - | G14: -
A15: 9 | B15: จัดซื้อโดยวิธีประกวดราคาอิเล็กทรอนิกส์ | C15: - | D15: - | E15: - | F15: - | G15: -
A16: 10 | B16: จัดจ้างโดยวิธีประกวดราคาอิเล็กทรอนิกส์ | C16: - | D16: - | E16: - | F16: - | G16: -
B17: ได้นำข้อมูลเกี่ยวกับการจัดซื้อจัดจ้างตามแบบ สขร.๑ ( ประจำเดือนมกราคม 2565)
B18: เผยแพร่ เมื่อวันที่ 2 กุมภาพันธ์ 2565 โดยวิธีปิดประกาศ และที่เว็บไซต์ www.chalong.go.th
B19: ไม่ได้นำข้อมูลเกี่ยวกับการจัดซื้อจัดจ้างตามแบบ สขร.๑ เผยแพร่ เหตุเพราะ ..........................................................................................
E21: (ลงชื่อ)..................................................ผู้รายงาน
E22: (นางสุมิตรา รักบำรุง)
E23: ปลัดองค์การบริหารส่วนตำบลฉลอง

Sheet Sheet3

Sheet Sheet4
