Workbook

Sheet มิถุนายน
A1: สรุปผลการดำเนินการจัดซื้อจัดจ้างในรอบเดือนมิถุนายน 2563
A2: องค์การบริหารส่วนตำบลฉลอง อำเภอสิชล จังหวัดนครศรีธรรมราช
A3: วันที่ 2 เดือน กรกฎาคม พ.ศ. 2563
A4: ลำดับ | B4: งานที่จัดซื้อหรือจัดจ้าง | C4: วงเงินที่จะซื้อ | D4: ราคากลาง | E4: วิธีซื้อหรือจ้าง | F4: รายชื่อผู้เสนอราคา | G4: ผู้ได้รับการคัดเลือกและราคาที่ | H4: เหตุผลที่คัดเลือกโดยสรุป | I4: เลขที่และวันที่ของสัญญา
A5: ที่ | F5: และราคาที่เสนอ | G5: ตกลงซื้อหรือจ้าง | I5: หรือข้อตกลงในการซื้อ
C6: หรือจ้าง | I6: หรือจ้าง
A7: 1 | B7: ซื้อวัสดุอุปกรณ์สำหรับการฉีดวัคซีนป้องกันโรคพิษ | C7: 72000 | D7: 72000 | E7: เฉพาะเจาะจง | F7: อิทธิเดชสัตวแพทย์ | G7: =+F7 -> อิทธิเดชสัตวแพทย์ | H7: - คุณสมบัติครบถ้วน | I7: ใบสั่งซื้อ เลขที่ CNTR-0106/63
B8: สุนัขบ้า | F8: 72000 | G8: =+F8 -> 72000 | H8: - เสนอราคาไม่เกินวงเงิน | I8: ลว. 2 มิ.ย. 63
H9: และงบประมาณ
A10: 2 | B10: ซื้อหมึกเครื่องถ่ายเอกสาร จำนวน 2 กล่อง | C10: 10000 | D10: 9700 | E10: เฉพาะเจาะจง | F10: ร้านซีเค ซัพพลาย โอ.เอ | G10: =+F10 -> ร้านซีเค ซัพพลาย โอ.เอ | H10: - คุณสมบัติครบถ้วน | I10: ใบสั่งซื้อ เลขที่ CNTR-0107/63
F11: =+D10 -> 9700 | G11: =+F11 -> 9700 | H11: - เสนอราคาไม่เกินวงเงิน | I11: ลว. 4 มิ.ย 63
H12: และงบประมาณ
A13: 3 | B13: ซื้อหญ้าเทียมสำหรับตกแต่งสถานที่ลงนามถวายพระ | C13: 10000 | D13: 9000 | E13: เฉพาะเจาะจง | F13: นางสาวสุภาพร สมเขาใหญ่ | G13: =+F13 -> นางสาวสุภาพร สมเขาใหญ่ | H13: - คุณสมบัติครบถ้วน | I13: ใบสั่งซื้อ เลขที่ CNTR-0110/63
B14: พรฯ | F14: 9000 | G14: =+F14 -> 9000 | H14: - เสนอราคาไม่เกินวงเงิน | I14: ลว. 10 มิ.ย. 63
H15: และงบประมาณ
A16: 4 | B16: ซื้อวัสดุคอมพิวเตอร์กองคลัง | C16: 18920 | D16: 18920 | E16: เฉพาะเจาะจง | F16: ร้านสิชลคอมพิวเตอร์แอนด์เซอร์วิส | G16: =+F16 -> ร้านสิชลคอมพิวเตอร์แอนด์เซอร์วิส | H16: - คุณสมบัติครบถ้วน | I16: ใบสั่งซื้อ เลขที่ CNTR-0115/63
F17: =+D16 -> 18920 | G17: =+F17 -> 18920 | H17: - เสนอราคาไม่เกินวงเงิน | I17: ลว. 17 มิ.ย. 63
H18: และงบประมาณ
A19: 5 | B19: ซื้อวัสดุคอมพิวเตอร์กองช่าง จำนวน 4 รายการ | C19: 1409 | D19: 1409 | E19: เฉพาะเจาะจง | F19: ร้านสิชลคอมพิวเตอร์แอนด์เซอร์วิส | G19: =+F19 -> ร้านสิชลคอมพิวเตอร์แอนด์เซอร์วิส | H19: - คุณสมบัติครบถ้วน | I19: ใบสั่งซื้อ เลขที่ CNTR-0117/63
F20: 1409 | G20: =+F20 -> 1409 | H20: - เสนอราคาไม่เกินวงเงิน | I20: ลว. 19 มิ.ย. 63
H21: และงบประมาณ
A22: 6 | B22: ซื้ออาหารเสริม (นม) โรงเรียน ประจำภาคเรียนที่ | C22: 61741.16 | D22: 61741.16 | E22: เฉพาะเจาะจง | F22: บริษัท แมรี่ แอน แดรี่ โปรดักส์ จำกัด | G22: =+F22 -> บริษัท แมรี่ แอน แดรี่ โปรดักส์ จำกัด | H22: - คุณสมบัติครบถ้วน | I22: ใบสั่งซื้อ เลขที่ CNTR-0121/63
B23: 1/2563 ประจำปีการศึกษา 2563 | F23: 61741.16 | G23: =+F23 -> 61741.16 | H23: - เสนอราคาไม่เกินวงเงิน | I23: ลว. 30 มิ.ย. 63
H24: และงบประมาณ
A25: 7 | B25: จ้างตรวจเช็คและซ่อมเปลี่ยนอะไหล่เครื่องถ่ายเอก | C25: 12000 | D25: 12000 | E25: เฉพาะเจาะจง | F25: ร้าน ซีเค ซัพพลาย โอ.เอ | G25: =+F25 -> ร้าน ซีเค ซัพพลาย โอ.เอ | H25: - คุณสมบัติครบถ้วน | I25: ใบสั่งจ้าง เลขที่ CNTR-0111/63
B26: สาร หมายเลขครุภัณฑ์ 417-59-0003 | F26: 12000 | G26: =+F26 -> 12000 | H26: - เสนอราคาไม่เกินวงเงิน | I26: ลว. 10 มิ.ย. 63
H27: และงบประมาณ
A28: 8 | B28: จ้างเหมารถไถเกลี่ยหินขนาดไม่น้อยกว่า 70 แรงม้า | C28: 12500 | D28: 12500 | E28: เฉพาะเจาะจง | F28: นายพงศธร ชัยเมือง | G28: =+F28 -> นายพงศธร ชัยเมือง | H28: - คุณสมบัติครบถ้วน | I28: ใบสั่งจ้าง เลขที่ CNTR-0114/63
F29: 12500 | G29: =+F29 -> 12500 | H29: - เสนอราคาไม่เกินวงเงิน | I29: ลว. 15 มิ.ย. 63
H30: และงบประมาณ
A31: 9 | B31: จ้างตรวจเช็คและซ่อมแซมเครื่องคอมพิวเตอร์สำนัก | C31: 1500 | D31: 1420 | E31: เฉพาะเจาะจง | F31: ร้านสิชลคอมพิวเตอร์แอนด์เซอร์วิส | G31: =+F31 -> ร้านสิชลคอมพิวเตอร์แอนด์เซอร์วิส | H31: - คุณสมบัติครบถ้วน | I31: ใบสั่งจ้าง เลขที่ CNTR-0116/63
B32: ปลัด รหัสครุภัณฑ์ 416-53-0032 | F32: 1420 | G32: =+F32 -> 1420 | H32: - เสนอราคาไม่เกินวงเงิน | I32: ลว. 18 มิ.ย. 63
H33: และงบประมาณ
A34: 10 | B34: จ้างซ่อมแซมบำรุงรักษาครุภัณฑ์คอมพิวเตอร์ กอง | C34: 3640 | D34: 3640 | E34: เฉพาะเจาะจง | F34: ร้านสิชลคอมพิวเตอร์แอนด์เซอร์วิส | G34: =+F34 -> ร้านสิชลคอมพิวเตอร์แอนด์เซอร์วิส | H34: - คุณสมบัติครบถ้วน | I34: ใบสั่งจ้าง เลขที่ CNTR-0118/63
B35: ช่าง จำนวน 2 เตรื่อง | F35: 3640 | G35: =+F35 -> 3640 | H35: - เสนอราคาไม่เกินวงเงิน | I35: ลว. 19 มิ.ย. 63
H36: และงบประมาณ
A37: 11 | B37: จ้างตรวจเช็คและซ๋อมแซมรถบรรทุกน้ำเอนกประ | C37: 23500 | D37: 23005 | E37: เฉพาะเจาะจง | F37: ร้านท่าหินการยางและรถยก | G37: =+F37 -> ร้านท่าหินการยางและรถยก | H37: - คุณสมบัติครบถ้วน | I37: ใบสั่งจ้าง เลขที่ CNTR-0119/63
B38: สงค์ หมายเลขทะเบียน 81-4247 นศ รหัสครุภัณฑ์ | F38: =+D37 -> 23005 | G38: =+F38 -> 23005 | H38: - เสนอราคาไม่เกินวงเงิน | I38: ลว. 19 มิ.ย. 63
B39: 003-49-0001 | H39: และงบประมาณ
A40: 12 | B40: จ้างก่อสร้างถนนคอนกรีตเสริมเหล็ก สายบ้านนาหัน | C40: 474000 | D40: 497000 | E40: เฉพาะเจาะจง | F40: หจก.แม็กซ์ซิมัส บิสซิเนส | G40: =+F40 -> หจก.แม็กซ์ซิมัส บิสซิเนส | H40: - คุณสมบัติครบถ้วน | I40: สัญญาจ้าง เลขที่ CNTR-0108/63
B41: ชายเขาพรง ม.3 | F41: 474000 | G41: =+F41 -> 474000 | H41: - เสนอราคาไม่เกินวงเงิน | I41: ลว. 9 มิ.ย. 63
H42: และงบประมาณ
A43: 13 | B43: จ้างก่อสร้างถนนคอนกรีตเสริมเหล็ก สายซอยวังหิน | C43: 474000 | D43: 476000 | E43: เฉพาะเจาะจง | F43: หจก.แม็กซ์ซิมัส บิสซิเนส | G43: =+F43 -> หจก.แม็กซ์ซิมัส บิสซิเนส | H43: - คุณสมบัติครบถ้วน | I43: สัญญาจ้าง เลขที่ CNTR-0109/63
B44: ม.9 | F44: 474000 | G44: =+F44 -> 474000 | H44: - เสนอราคาไม่เกินวงเงิน | I44: ลว. 9 มิ.ย. 63
H45: และงบประมาณ
A46: 14 | B46: จ้างก่อสร้างโครงการปรับภูมิทัศน์พัฒนาแหล่ง | C46: 9192000 | D46: 9435330.7 | E46: ประกวดราคา | F46: บริษัท นันทวรรธไชย 2002 จำกัด | G46: =+F46 -> บริษัท นันทวรรธไชย 2002 จำกัด | H46: - คุณสมบัติครบถ้วน | I46: สัญญาจ้าง เลขที่ CNTR-0113/63
B47: ท่องเที่ยวน้ำตกในหนาน ม.5 ประกอบด้วยก่อสร้าง | E47: อิเล็กทรอนิกส์ | F47: 9192000 | G47: =+F47 -> 9192000 | H47: - เสนอราคาไม่เกินวงเงิน | I47: ลว. 12 มิ.ย. 63
B48: ถนนแอสฟัลต์ติกคอนกรีต | E48: (e-bidding) | H48: และงบประมาณ
A49: 15 | B49: จ้างก่อสร้างโครงการก่อสร้างถนนคอนกรีตเสริม | C49: 975000 | D49: 904000 | E49: ประกวดราคา | F49: หจก.จิตติภัณฑ์ก่อสร้าง | G49: =+F49 -> หจก.จิตติภัณฑ์ก่อสร้าง | H49: - คุณสมบัติครบถ้วน | I49: สัญญาจ้าง เลขที่ CNTR-0120/63
B50: เหล็กสายซอยนายเนื่อง หมู่ที่ 1 | E50: อิเล็กทรอนิกส์ | F50: 898000 | G50: =+F50 -> 898000 | H50: - เสนอราคาไม่เกินวงเงิน | I50: ลว. 25 มิ.ย. 63
E51: (e-bidding) | H51: และงบประมาณ

Sheet Sheet2
A1: งบหน้าสรุปผลการพิจารณาการจัดซื้อจัดจ้างขององค์การบริหารส่วนตำบลฉลอง
A2: ประจำเดือนมิถุนายน 2563
F4: รวมราคาที่พิจารณา | G4: วงเงินต่ำหรือสูง
A5: ลำดับที่ | B5: วิธีการจัดซื้อจัดจ้าง | C5: จำนวนโครงการ | D5: รวมวงเงินที่จัดซื้อจัดจ้าง | E5: รวมราคากลาง | F5: คัดเลือก | G5: กว่าราคากลาง | H5: หมายเหตุ
G6: (+ สูง) (-ต่ำกว่า)
A7: 1 | B7: จัดซื้อโดยวิธีประกาศเชิญชวนทั่วไป | C7: - | D7: - | E7: =+D7 -> - | F7: =+D7 -> - | G7: -
A8: 2 | B8: จัดจ้างโดยวิธีประกาศเชิญชวนทั่วไป | C8: - | D8: - | E8: =+D8 -> - | F8: =+D8 -> - | G8: -
A9: 3 | B9: จัดซื้อโดยวิธีการคัดเลือก | C9: - | D9: - | E9: - | F9: - | G9: -
A10: 4 | B10: จัดจ้างโดยวิธีการคัดเลือก | C10: - | D10: - | E10: =+D10 -> - | F10: =+D10 -> - | G10: -
A11: 5 | B11: จัดซื้อโดยวิธีเฉพาะเจาะจง | C11: 6 | D11: =+มิถุนายน!C7+มิถุนายน!C10+มิถุนายน!C13+มิถุนายน!C16+มิถุนายน!C19+มิถุนายน!C22 -> 174070.16 | E11: =+มิถุนายน!D7+มิถุนายน!D10+มิถุนายน!D13+มิถุนายน!D16+มิถุนายน!D19+มิถุนายน!D22 -> 172770.16 | F11: =+มิถุนายน!G8+มิถุนายน!G11+มิถุนายน!G14+มิถุนายน!G17+มิถุนายน!G20+มิถุนายน!G23 -> 172770.16 | G11: =+D11-E11 -> 1300
A12: 6 | B12: จัดจ้างโดยวิธีเฉพาะเจาะจง | C12: 7 | D12: =+มิถุนายน!C25+มิถุนายน!C28+มิถุนายน!C31+มิถุนายน!C34+มิถุนายน!C37+มิถุนายน!C40+มิถุนายน!C43 -> 1001140 | E12: =+มิถุนายน!D25+มิถุนายน!D28+มิถุนายน!D31+มิถุนายน!D34+มิถุนายน!D37+มิถุนายน!D40+มิถุนายน!D43 -> 1025565 | F12: =+มิถุนายน!G26+มิถุนายน!G29+มิถุนายน!G32+มิถุนายน!G35+มิถุนายน!G38+มิถุนายน!G41+มิถุนายน!G44 -> 1000565 | G12: -24425
A13: 7 | B13: จัดซื้อโดยวิธีตลาดอิเล็กทรอนิกส์ | C13: - | D13: - | E13: =+D13 -> - | F13: =+E13 -> - | G13: -
A14: 8 | B14: จัดจ้างโดยวิธีตลาดอิเล็กทรอนิกส์ | C14: 2 | D14: =+มิถุนายน!C46+มิถุนายน!C49 -> 10167000 | E14: =+มิถุนายน!D46+มิถุนายน!D49 -> 10339331 | F14: =+มิถุนายน!G47+มิถุนายน!G50 -> 10090000 | G14: =+D14-E14 -> -172330.71
A15: 9 | B15: จัดซื้อโดยวิธีประกวดราคาอิเล็กทรอนิกส์ | C15: - | D15: - | E15: - | F15: - | G15: -
A16: 10 | B16: จัดจ้างโดยวิธีประกวดราคาอิเล็กทรอนิกส์ | C16: - | D16: - | E16: - | F16: - | G16: -
B17: ได้นำข้อมูลเกี่ยวกับการจัดซื้อจัดจ้างตามแบบ สขร.๑ ( ประจำเดือนมิถุนายน 2563)
B18: เผยแพร่ เมื่อวันที่ 2 กรกฎาคม 2563 โดยวิธีปิดประกาศ และที่เว็บไซต์ www.chalong.go.th
B19: ไม่ได้นำข้อมูลเกี่ยวกับการจัดซื้อจัดจ้างตามแบบ สขร.๑ เผยแพร่ เหตุเพราะ ..........................................................................................
F21: (ลงชื่อ)..................................................ผู้รายงาน
F22: (นางสุมิตรา รักบำรุง)
F23: ปลัดองค์การบริหารส่วนตำบลฉลอง
