Workbook

Sheet Sheet1
A1: สรุปผลการดำเนินการจัดซื้อจัดจ้างในรอบเดือนเมษายน 2566
A2: องค์การบริหารส่วนตำบลฉลอง อำเภอสิชล จังหวัดนครศรีธรรมราช
A3: วันที่ 2 เดือน พฤษภาคม พ.ศ. 2566
A4: ลำดับ | B4: งานที่จัดซื้อหรือจัดจ้าง | C4: วงเงินที่จะซื้อ | D4: ราคากลาง | E4: วิธีซื้อหรือจ้าง | F4: รายชื่อผู้เสนอราคา | G4: ผู้ได้รับการคัดเลือกและราคาที่ | H4: เหตุผลที่คัดเลือกโดยสรุป | I4: เลขที่และวันที่ของสัญญา
A5: ที่ | F5: และราคาที่เสนอ | G5: ตกลงซื้อหรือจ้าง | I5: หรือข้อตกลงในการซื้อ
C6: หรือจ้าง | I6: หรือจ้าง
A7: 1 | B7: ซื้อวัสดุคอมพิวเตอร์ กองช่าง จำนวน 1 รายการ | C7: 1790 | D7: 1790 | E7: เฉพาะเจาะจง | F7: ร้านสิชลคอมพิวเตอร์แอนด์เซอร์วิส | G7: =+F7 -> ร้านสิชลคอมพิวเตอร์แอนด์เซอร์วิส | H7: - คุณสมบัติครบถ้วน | I7: ใบสั่งซื้อ เลขที่ CNTR-00111/66
F8: 1790 | G8: =+F8 -> 1790 | H8: - เสนอราคาไม่เกินวงเงิน | I8: ลว. 26 เม.ย. 66
H9: และงบประมาณ
A10: 2 | B10: จ้างทำป้ายประชาสัมพันธ์โครงการป้องกันและลดอุบัติเหตุทางถนน | C10: 1200 | D10: 1200 | E10: =+E7 -> เฉพาะเจาะจง | F10: สิชลโฆษณา | G10: =+F10 -> สิชลโฆษณา | H10: - คุณสมบัติครบถ้วน | I10: ใบสั่งจ้าง เลขที่ CNTR-00101/66
B11: ช่วงเทศกาลสงกรานต์ | F11: 1200 | G11: =+F11 -> 1200 | H11: - เสนอราคาไม่เกินวงเงิน | I11: ลว. 7 เม.ย. 66
H12: และงบประมาณ
A13: 3 | B13: เช่าเต็นท์ (พร้อมโต๊ะ/เก้าอี้/พัดลม) สำหรับโครงการป้องกันและลด | C13: 5000 | D13: 5000 | E13: เฉพาะเจาะจง | F13: นายเชาวลิต เศษเพชร | G13: =+F13 -> นายเชาวลิต เศษเพชร | H13: - คุณสมบัติครบถ้วน | I13: ใบสั่งจ้าง เลขที่ CNTR-00102/66
B14: อุบัติเหตุทางถนนช่วงเทศกาลสงกรานต์ พ.ศ.2566 | F14: 5000 | G14: =+F14 -> 5000 | H14: - เสนอราคาไม่เกินวงเงิน | I14: ลว. 7 เม.ย. 66
H15: และงบประมาณ
A16: 4 | B16: จ้างตรวจเช็คและซ่อมแซมรถบรรทุกหกล้อ หมายเลขทะเบียน | C16: 20600 | D16: 20600 | E16: เฉพาะเจาะจง | F16: นายสำเริง เต็งทอง | G16: =+F16 -> นายสำเริง เต็งทอง | H16: - คุณสมบัติครบถ้วน | I16: ใบสั่งจ้าง เลขที่ CNTR-00103/66
B17: 82-0578 นครศรีธรรมราช | F17: 20600 | G17: =+F17 -> 20600 | H17: - เสนอราคาไม่เกินวงเงิน | I17: ลว. 7 เม.ย. 66
H18: และงบประมาณ
A19: 5 | B19: จ้างเหมารถไถเกลี่ย จำนวน 700 ลูกบาศก์เมตร | C19: 17500 | D19: 17500 | E19: เฉพาะเจาะจง | F19: นายปัณณวัฒน์ พัดปาน | G19: =+F19 -> นายปัณณวัฒน์ พัดปาน | H19: - คุณสมบัติครบถ้วน | I19: ใบสั่งจ้าง เลขที่ CNTR-00104/66
F20: 17500 | G20: =+F20 -> 17500 | H20: - เสนอราคาไม่เกินวงเงิน | I20: ลว. 24 เม.ย. 66
H21: และงบประมาณ
A22: 6 | B22: จ้างที่ปรึกษาสำรวจความพึงพอใจของผู้รับบริการที่มีต่อการให้ | C22: 25000 | D22: 25000 | E22: เฉพาะเจาะจง | F22: มหาวิทยาลัยทักษิณ | G22: =+F22 -> มหาวิทยาลัยทักษิณ | H22: - คุณสมบัติครบถ้วน | I22: ใบสั่งจ้าง เลขที่ CNTR-00110/66
B23: บริการสาธารณะขององค์การบริหารส่วนตำบลฉลอง ประจำปีงบ | F23: 25000 | G23: =+F23 -> 25000 | H23: - เสนอราคาไม่เกินวงเงิน | I23: ลว. 24 เม.ย. 66
B24: ประมาณ พ.ศ.2566 | H24: และงบประมาณ
A25: 7 | B25: จ้างตรวจเช็คและซ่อมแซมรถตักหน้า-ขุดหลัง | C25: 205322.3 | D25: 205322.3 | E25: เฉพาะเจาะจง | F25: บ.ที่เอสซี เอ็นจิเนียริ่ง แอนด์ เซอร์วิส จำกัด | G25: =+F25 -> บ.ที่เอสซี เอ็นจิเนียริ่ง แอนด์ เซอร์วิส จำกัด | H25: - คุณสมบัติครบถ้วน | I25: ใบสั่งจ้าง เลขที่ CNTR-00112/66
F26: 205322.3 | G26: =+F26 -> 205322.3 | H26: - เสนอราคาไม่เกินวงเงิน | I26: ลว. 27 เม.ย. 66
H27: และงบประมาณ
A28: 8 | B28: จ้างโครงการก่อสร้างถนน คสล.สายซอยหลังบ้านผู้ใหญ่สุภาพ หมู่ที่ | C28: 458000 | D28: 458406.75 | E28: เฉพาะเจาะจง | F28: หจก.จิตติภัณฑ์ ก่อสร้าง | G28: =+F28 -> หจก.จิตติภัณฑ์ ก่อสร้าง | H28: - คุณสมบัติครบถ้วน | I28: สัญญาจ้าง เลขที่ CNTR-00098/66
B29: 5 ต.ฉลอง | F29: 457000 | G29: =+F29 -> 457000 | H29: - เสนอราคาไม่เกินวงเงิน | I29: ลว. 7 เม.ย. 66
H30: และงบประมาณ
A31: 9 | B31: จ้างโครงการก่อสร้างถนน คสล.สายซอยตาถั่ว หมู่ที่ 11 ต.ฉลอง | C31: 466000 | D31: 466440.2 | E31: เฉพาะเจาะจง | F31: หจก.จิตติภัณฑ์ ก่อสร้าง | G31: =+F31 -> หจก.จิตติภัณฑ์ ก่อสร้าง | H31: - คุณสมบัติครบถ้วน | I31: สัญญาจ้าง เลขที่ CNTR-00099/66
F32: 465000 | G32: =+F32 -> 465000 | H32: - เสนอราคาไม่เกินวงเงิน | I32: ลว. 7 เม.ย. 66
H33: และงบประมาณ
A34: 10 | B34: จ้างโครงการก่อสร้างถนน คสล.สายซอยร่วมใจ หมู่ที่ 11 ต.ฉลอง | C34: 471000 | D34: 471271.4 | E34: เฉพาะเจาะจง | F34: หจก.จิตติภัณฑ์ ก่อสร้าง | G34: =+F34 -> หจก.จิตติภัณฑ์ ก่อสร้าง | H34: - คุณสมบัติครบถ้วน | I34: สัญญาจ้าง เลขที่ CNTR-00100/66
F35: 470000 | G35: =+F35 -> 470000 | H35: - เสนอราคาไม่เกินวงเงิน | I35: ลว. 7 เม.ย. 66
H36: และงบประมาณ
A37: 11 | B37: จ้างโครงการก่อสร้างถนน คสล.สายบ้านนายประยูร - นายแผ้ว | C37: 466000 | D37: 466440.2 | E37: เฉพาะเจาะจง | F37: หจก.แม็กซ์ซิมัส บิสซิเนส | G37: =+F37 -> หจก.แม็กซ์ซิมัส บิสซิเนส | H37: - คุณสมบัติครบถ้วน | I37: สัญญาจ้าง เลขที่ CNTR-00104/66
B38: หมู่ที่ 6 ต.ฉลอง | F38: 465000 | G38: =+F38 -> 465000 | H38: - เสนอราคาไม่เกินวงเงิน | I38: ลว. 19 เม.ย. 66
H39: และงบประมาณ
A40: 12 | B40: จ้างโครงการก่อสร้างถนน คสล.สายศาลาหมู่บ้าน-หมื่นเห็ด หมู่ที่ | C40: 494000 | D40: 494908.62 | E40: เฉพาะเจาะจง | F40: หจก.แม็กซ์ซิมัส บิสซิเนส | G40: =+F40 -> หจก.แม็กซ์ซิมัส บิสซิเนส | H40: - คุณสมบัติครบถ้วน | I40: สัญญาจ้าง เลขที่ CNTR-00105/66
B41: 10 ต.ฉลอง | F41: 493000 | G41: =+F41 -> 493000 | H41: - เสนอราคาไม่เกินวงเงิน | I41: ลว. 19 เม.ย. 66
H42: และงบประมาณ
A43: 13 | B43: จ้างโครงการฝังท่อระบายน้ำภายในหมู่บ้าน หมู่ที่ 10 ต.ฉลอง | C43: 209000 | D43: 213488.56 | E43: เฉพาะเจาะจง | F43: หจก.แม็กซ์ซิมัส บิสซิเนส | G43: =+F43 -> หจก.แม็กซ์ซิมัส บิสซิเนส | H43: - คุณสมบัติครบถ้วน | I43: สัญญาจ้าง เลขที่ CNTR-00106/66
F44: 209000 | G44: =+F44 -> 209000 | H44: - เสนอราคาไม่เกินวงเงิน | I44: ลว. 19 เม.ย. 66
H45: และงบประมาณ
A46: 14 | B46: จ้างโครงการก่อสร้างถนน คสล.สายบ้านนายภักดี-ควนไม้ไผ่ หมู่ที่ 2 | C46: 446000 | D46: 450041.48 | E46: เฉพาะเจาะจง | F46: หจก. ซี ดับบลิว เจริญคอนสทรัคชั่น | G46: =+F46 -> หจก. ซี ดับบลิว เจริญคอนสทรัคชั่น | H46: - คุณสมบัติครบถ้วน | I46: สัญญาจ้าง เลขที่ CNTR-00107/66
B47: ต.ฉลอง | F47: 446000 | G47: =+F47 -> 446000 | H47: - เสนอราคาไม่เกินวงเงิน | I47: ลว. 25 เม.ย. 66
H48: และงบประมาณ

Sheet Sheet2
A1: งบหน้าสรุปผลการพิจารณาการจัดซื้อจัดจ้างขององค์การบริหารส่วนตำบลฉลอง
A2: ประจำเดือนเมษายน 2566
F4: รวมราคาที่พิจารณา | G4: วงเงินต่ำหรือสูง
A5: ลำดับที่ | B5: วิธีการจัดซื้อจัดจ้าง | C5: จำนวนโครงการ | D5: รวมวงเงินที่จัดซื้อจัดจ้าง | E5: รวมราคากลาง | F5: คัดเลือก | G5: กว่าราคากลาง | H5: หมายเหตุ
G6: (+ สูง) (-ต่ำกว่า)
A7: 1 | B7: จัดซื้อโดยวิธีประกาศเชิญชวนทั่วไป | C7: - | D7: - | E7: =+D7 -> - | F7: =+D7 -> - | G7: -
A8: 2 | B8: จัดจ้างโดยวิธีประกาศเชิญชวนทั่วไป | C8: - | D8: - | E8: =+D8 -> - | F8: =+D8 -> - | G8: -
A9: 3 | B9: จัดซื้อโดยวิธีการคัดเลือก | C9: - | D9: - | E9: - | F9: - | G9: -
A10: 4 | B10: จัดจ้างโดยวิธีการคัดเลือก | C10: - | D10: - | E10: - | F10: - | G10: -
A11: 5 | B11: จัดซื้อโดยวิธีเฉพาะเจาะจง | C11: 1 | D11: =+Sheet1!C7 -> 1790 | E11: =+Sheet1!D7 -> 1790 | F11: =+Sheet1!G8 -> 1790 | G11: -
A12: 6 | B12: จัดจ้างโดยวิธีเฉพาะเจาะจง | C12: 13 | D12: =+Sheet1!C10+Sheet1!C13+Sheet1!C16+Sheet1!C19+Sheet1!C22+Sheet1!C25+Sheet1!C28+Sheet1!C31+Sheet1!C34+Sheet1!C37+Sheet1!C40+Sheet1!C43+Sheet1!C46 -> 3284622.3 | E12: =+Sheet1!D10+Sheet1!D13+Sheet1!D16+Sheet1!D19+Sheet1!D22+Sheet1!D25+Sheet1!D28+Sheet1!D31+Sheet1!D34+Sheet1!D37+Sheet1!D40+Sheet1!D43+Sheet1!D46 -> 3295619.5 | F12: =+Sheet1!G11+Sheet1!G14+Sheet1!G17+Sheet1!G20+Sheet1!G23+Sheet1!G26+Sheet1!G29+Sheet1!G32+Sheet1!G35+Sheet1!G38+Sheet1!G41+Sheet1!G44+Sheet1!G47 -> 3279622.3 | G12: =+D12-E12 -> -10997.21
A13: 7 | B13: จัดซื้อโดยวิธีตลาดอิเล็กทรอนิกส์ | C13: - | D13: - | E13: =+D13 -> - | F13: =+E13 -> - | G13: -
A14: 8 | B14: จัดจ้างโดยวิธีตลาดอิเล็กทรอนิกส์ | C14: - | D14: - | E14: =+D14 -> - | F14: =+E14 -> - | G14: -
A15: 9 | B15: จัดซื้อโดยวิธีประกวดราคาอิเล็กทรอนิกส์ | C15: - | D15: - | E15: - | F15: - | G15: -
A16: 10 | B16: จัดจ้างโดยวิธีประกวดราคาอิเล็กทรอนิกส์ | C16: - | D16: - | E16: - | F16: - | G16: -
B17: ได้นำข้อมูลเกี่ยวกับการจัดซื้อจัดจ้างตามแบบ สขร.๑ ( ประจำเดือนเมษายน 2566)
B18: เผยแพร่ เมื่อวันที่ 2 พฤษภาคม 2566 โดยวิธีปิดประกาศ และที่เว็บไซต์ www.chalong.go.th
B19: ไม่ได้นำข้อมูลเกี่ยวกับการจัดซื้อจัดจ้างตามแบบ สขร.๑ เผยแพร่ เหตุเพราะ ..........................................................................................
E21: (ลงชื่อ)..................................................ผู้รายงาน
E22: (นางสุมิตรา รักบำรุง)
E23: ปลัดองค์การบริหารส่วนตำบลฉลอง

Sheet Sheet3
