Workbook

Sheet Sheet1
A1: สรุปผลการดำเนินการจัดซื้อจัดจ้างในรอบเดือนกันยายน 2564
A2: องค์การบริหารส่วนตำบลฉลอง อำเภอสิชล จังหวัดนครศรีธรรมราช
A3: วันที่ 4 เดือน ตุลาคม พ.ศ. 2564
A4: ลำดับ | B4: งานที่จัดซื้อหรือจัดจ้าง | C4: วงเงินที่จะซื้อ | D4: ราคากลาง | E4: วิธีซื้อหรือจ้าง | F4: รายชื่อผู้เสนอราคา | G4: ผู้ได้รับการคัดเลือกและราคาที่ | H4: เหตุผลที่คัดเลือกโดยสรุป | I4: เลขที่และวันที่ของสัญญา
A5: ที่ | F5: และราคาที่เสนอ | G5: ตกลงซื้อหรือจ้าง | I5: หรือข้อตกลงในการซื้อ
C6: หรือจ้าง | I6: หรือจ้าง
A7: 1 | B7: ซื้อจัดซื้อวัสดุก่อสร้าง ท่อประปาและท่อระบายน้ำ คสล. | C7: 11664 | D7: 11664 | E7: เฉพาะเจาะจง | F7: จิตติภัณฑ์ วัสดุก่อสร้าง | G7: =+F7 -> จิตติภัณฑ์ วัสดุก่อสร้าง | H7: - คุณสมบัติครบถ้วน | I7: ใบสั่งซื้อ เลขที่ CNTR-0147/64
F8: 11664 | G8: 11664 | H8: - เสนอราคาไม่เกินวงเงิน | I8: ลว. 2 ก.ย. 64
H9: และงบประมาณ
A10: 2 | B10: =+B7 -> ซื้อจัดซื้อวัสดุก่อสร้าง ท่อประปาและท่อระบายน้ำ คสล. | C10: 282420 | D10: 282420 | E10: =+E7 -> เฉพาะเจาะจง | F10: บริษัท จิตติพันธ์ คอนกรีต จำกัด | G10: =+F10 -> บริษัท จิตติพันธ์ คอนกรีต จำกัด | H10: - คุณสมบัติครบถ้วน | I10: ใบสั่งซื้อ เลขที่ CNTR-0148/64
F11: 282420 | G11: =+F11 -> 282420 | H11: - เสนอราคาไม่เกินวงเงิน | I11: ลว. 2 ก.ย. 64
H12: และงบประมาณ
A13: 3 | B13: ซื้อวัสดุคอมพิวเตอร์ กองคลัง จำนวน 9 รายการ | C13: 58589 | D13: 58589 | E13: เฉพาะเจาะจง | F13: ร้านสิชลคอมพิวเตอร์แอนด์เซอร์วิส | G13: =+F13 -> ร้านสิชลคอมพิวเตอร์แอนด์เซอร์วิส | H13: - คุณสมบัติครบถ้วน | I13: ใบสั่งซื้อ เลขที่ CNTR-0151/64
F14: =+C13 -> 58589 | G14: =+F14 -> 58589 | H14: - เสนอราคาไม่เกินวงเงิน | I14: ลว. 7 ก.ย. 64
H15: และงบประมาณ
A16: 4 | B16: ซื้อวัสดุน้ำมันเชื้อเพลิงและหล่อลื่น สำนักปลัด | C16: 9480 | D16: 9480 | E16: เฉพาะเจาะจง | F16: บ.ซัสโก้ จำกัด (มหาชน) | G16: =+F16 -> บ.ซัสโก้ จำกัด (มหาชน) | H16: - คุณสมบัติครบถ้วน | I16: ใบสั่งซื้อ เลขที่ CNTR-0156/64
F17: =+C16 -> 9480 | G17: =+F17 -> 9480 | H17: - เสนอราคาไม่เกินวงเงิน | I17: ลว. 14 ก.ย. 64
H18: และงบประมาณ
A19: 5 | B19: ซื้อวัสดุคอมพิวเตอร์ หมึกพิมพ์ สำนักงานปลัด | C19: 40000 | D19: 38670 | E19: เฉพาะเจาะจง | F19: ร้านสิชลคอมพิวเตอร์แอนด์เซอร์วิส | G19: =+F19 -> ร้านสิชลคอมพิวเตอร์แอนด์เซอร์วิส | H19: - คุณสมบัติครบถ้วน | I19: ใบสั่งซื้อ เลขที่ CNTR-0158/64
B20: จำนวน 3 รายการ | F20: 38670 | G20: =+F20 -> 38670 | H20: - เสนอราคาไม่เกินวงเงิน | I20: ลว. 14 ก.ย. 64
H21: และงบประมาณ
A22: 6 | B22: ซื้อหมึกเครื่องถ่ายเอกสาร จำนวน 2 กล่อง | C22: 10000 | D22: 9700 | E22: เฉพาะเจาะจง | F22: ร้าน ซีเค ซัพพลาย โอ. เอ | G22: =+F22 -> ร้าน ซีเค ซัพพลาย โอ. เอ | H22: - คุณสมบัติครบถ้วน | I22: ใบสั่งซื้อ เลขที่ CNTR-0159/64
F23: 9700 | G23: =+F23 -> 9700 | H23: - เสนอราคาไม่เกินวงเงิน | I23: ลว. 16 ก.ย. 64
H24: และงบประมาณ
A25: 7 | B25: ซื้อวัสดุสำนักงาน สำนักปลัด จำนวน 25 รายการ | C25: 32000 | D25: 31720 | E25: เฉพาะเจาะจง | F25: ปรีดาค้าวัสดุ | G25: =+F25 -> ปรีดาค้าวัสดุ | H25: - คุณสมบัติครบถ้วน | I25: ใบสั่งซื้อ เลขที่ CNTR-0161/64
F26: 31720 | G26: =+F26 -> 31720 | H26: - เสนอราคาไม่เกินวงเงิน | I26: ลว. 17 ก.ย. 64
H27: และงบประมาณ
A28: 8 | B28: ซื้อวัสดุงานบ้านงานครัว จำนวน 10 รายการ | C28: 12000 | D28: 11375 | E28: เฉพาะเจาะจง | F28: ปรีดาค้าวัสดุ | G28: =+F28 -> ปรีดาค้าวัสดุ | H28: - คุณสมบัติครบถ้วน | I28: ใบสั่งซื้อ เลขที่ CNTR-0163/64
F29: =+D28 -> 11375 | G29: =+F29 -> 11375 | H29: - เสนอราคาไม่เกินวงเงิน | I29: ลว. 17 ก.ย. 64
H30: และงบประมาณ
A31: 9 | B31: ซื้อวัสดุสำนักงาน กองคลัง จำนวน 4 รายการ | C31: 3040 | D31: 3040 | E31: เฉพาะเจาะจง | F31: ปรีดาค้าวัสดุ | G31: =+F31 -> ปรีดาค้าวัสดุ | H31: - คุณสมบัติครบถ้วน | I31: ใบสั่งซื้อ เลขที่ CNTR-0165/64
F32: 3040 | G32: =+F32 -> 3040 | H32: - เสนอราคาไม่เกินวงเงิน | I32: ลว. 21 ก.ย. 64
H33: และงบประมาณ
A34: 10 | B34: จ้างปรับปรุงซ่อมแซมระบบไฟฟ้าสาธารณะ ตำบลฉลอง | C34: 112025 | D34: 112025 | E34: เฉพาะเจาะจง | F34: นายเฉลิมศักดิ์ ชูแก้ว | G34: =+F34 -> นายเฉลิมศักดิ์ ชูแก้ว | H34: - คุณสมบัติครบถ้วน | I34: ใบสั่งจ้าง เลขที่ CNTR-0149/64
B35: จำนวน 148 จุด และ ซ่อมแซมระบบไฟฟ้าภายในสำนัก | F35: 112025 | G35: =+F35 -> 112025 | H35: - เสนอราคาไม่เกินวงเงิน | I35: ลว. 3 ก.ย. 64
B36: งาน อบต.ฉลอง | H36: และงบประมาณ
A37: 11 | B37: จ้างโครงการก่อสร้างคูระบายน้ำ บ้านนายฉลอง-คูชล | C37: 498000 | D37: 498000 | E37: เฉพาะเจาะจง | F37: จิตติภัณฑ์ก่อสร้าง | G37: =+F37 -> จิตติภัณฑ์ก่อสร้าง | H37: - คุณสมบัติครบถ้วน | I37: ใบสั่งจ้าง เลขที่ CNTR-0154/64
B38: ประทาน หมู่ที่6 ตำบลฉลอง | F38: 498000 | G38: =+F38 -> 498000 | H38: - เสนอราคาไม่เกินวงเงิน | I38: ลว. 9 ก.ย. 64
H39: และงบประมาณ
A40: 12 | B40: จ้างซ่อมแซมอาคารสำนักงานองค์การบริหารส่วนตำบล | C40: 68200 | D40: 68200 | E40: เฉพาะเจาะจง | F40: นายศักดิ์สาคร ช่วยชู | G40: =+F40 -> นายศักดิ์สาคร ช่วยชู | H40: - คุณสมบัติครบถ้วน | I40: ใบสั่งจ้าง เลขที่ CNTR-0160/64
...

Sheet Sheet2
A1: งบหน้าสรุปผลการพิจารณาการจัดซื้อจัดจ้างขององค์การบริหารส่วนตำบลฉลอง
A2: ประจำเดือนกันยายน 2564
F4: รวมราคาที่พิจารณา | G4: วงเงินต่ำหรือสูง
A5: ลำดับที่ | B5: วิธีการจัดซื้อจัดจ้าง | C5: จำนวนโครงการ | D5: รวมวงเงินที่จัดซื้อจัดจ้าง | E5: รวมราคากลาง | F5: คัดเลือก | G5: กว่าราคากลาง | H5: หมายเหตุ
G6: (+ สูง) (-ต่ำกว่า)
A7: 1 | B7: จัดซื้อโดยวิธีประกาศเชิญชวนทั่วไป | C7: - | D7: - | E7: =+D7 -> - | F7: =+D7 -> - | G7: -
A8: 2 | B8: จัดจ้างโดยวิธีประกาศเชิญชวนทั่วไป | C8: - | D8: - | E8: =+D8 -> - | F8: =+D8 -> - | G8: -
A9: 3 | B9: จัดซื้อโดยวิธีการคัดเลือก | C9: - | D9: - | E9: - | F9: - | G9: -
A10: 4 | B10: จัดจ้างโดยวิธีการคัดเลือก | C10: 1 | D10: =+Sheet1!C64 -> 1158000 | E10: =+Sheet1!D64 -> 1186000 | F10: =+Sheet1!F65 -> 1147000 | G10: =+D10-E10 -> -28000
A11: 5 | B11: จัดซื้อโดยวิธีเฉพาะเจาะจง | C11: 9 | D11: =+Sheet1!C7+Sheet1!C10+Sheet1!C13+Sheet1!C16+Sheet1!C19+Sheet1!C22+Sheet1!C25+Sheet1!C28+Sheet1!C31 -> 459193 | E11: =+Sheet1!D7+Sheet1!D10+Sheet1!D13+Sheet1!D16+Sheet1!D19+Sheet1!D22+Sheet1!D25+Sheet1!D28+Sheet1!D31 -> 456658 | F11: =+Sheet1!G8+Sheet1!G11+Sheet1!G14+Sheet1!G17+Sheet1!G20+Sheet1!G23+Sheet1!G26+Sheet1!G29+Sheet1!G32 -> 456658 | G11: =+D11-E11 -> 2535
A12: 6 | B12: จัดจ้างโดยวิธีเฉพาะเจาะจง | C12: 11 | D12: =+Sheet1!C34+Sheet1!C37+Sheet1!C40+Sheet1!C43+Sheet1!C46+Sheet1!C49+Sheet1!C52+Sheet1!C55+Sheet1!C58+Sheet1!C61+Sheet1!C73 -> 2373650.9 | E12: =+Sheet1!D34+Sheet1!D37+Sheet1!D40+Sheet1!D43+Sheet1!D46+Sheet1!D49+Sheet1!D52+Sheet1!D55+Sheet1!D58+Sheet1!D61+Sheet1!D73 -> 2474640.9 | F12: =+Sheet1!G35+Sheet1!G38+Sheet1!G41+Sheet1!G45+Sheet1!G47+Sheet1!G50+Sheet1!G53+Sheet1!G56+Sheet1!G59+Sheet1!G63+Sheet1!G74 -> 2367640.9 | G12: =+D12-E12 -> -100990
A13: 7 | B13: จัดซื้อโดยวิธีตลาดอิเล็กทรอนิกส์ | C13: - | D13: - | E13: =+D13 -> - | F13: =+E13 -> - | G13: -
A14: 8 | B14: จัดจ้างโดยวิธีตลาดอิเล็กทรอนิกส์ | C14: - | D14: - | E14: - | F14: - | G14: -
A15: 9 | B15: จัดซื้อโดยวิธีประกวดราคาอิเล็กทรอนิกส์ | C15: - | D15: - | E15: - | F15: - | G15: -
A16: 10 | B16: จัดจ้างโดยวิธีประกวดราคาอิเล็กทรอนิกส์ | C16: - | D16: - | E16: - | F16: - | G16: -
B17: ได้นำข้อมูลเกี่ยวกับการจัดซื้อจัดจ้างตามแบบ สขร.๑ ( ประจำเดือนกันยายน 2564)
B18: เผยแพร่ เมื่อวันที่ 4 ตุลาคม 2564 โดยวิธีปิดประกาศ และที่เว็บไซต์ www.chalong.go.th
B19: ไม่ได้นำข้อมูลเกี่ยวกับการจัดซื้อจัดจ้างตามแบบ สขร.๑ เผยแพร่ เหตุเพราะ ..........................................................................................
F21: (ลงชื่อ)..................................................ผู้รายงาน
F22: (นางสุมิตรา รักบำรุง)
F23: ปลัดองค์การบริหารส่วนตำบลฉลอง
