Workbook

Sheet Sheet3
A1: สรุปผลการดำเนินการจัดซื้อจัดจ้างในรอบเดือนเมษายน 2564
A2: องค์การบริหารส่วนตำบลฉลอง อำเภอสิชล จังหวัดนครศรีธรรมราช
A3: วันที่ 3 เดือน พฤษภาคม พ.ศ. 2564
A4: ลำดับ | B4: งานที่จัดซื้อหรือจัดจ้าง | C4: วงเงินที่จะซื้อ | D4: ราคากลาง | E4: วิธีซื้อหรือจ้าง | F4: รายชื่อผู้เสนอราคา | G4: ผู้ได้รับการคัดเลือกและราคาที่ | H4: เหตุผลที่คัดเลือกโดยสรุป | I4: เลขที่และวันที่ของสัญญา
A5: ที่ | F5: และราคาที่เสนอ | G5: ตกลงซื้อหรือจ้าง | I5: หรือข้อตกลงในการซื้อ
C6: หรือจ้าง | I6: หรือจ้าง
A7: 1 | B7: ซื้อหมึกเครื่องถ่ายเอกสาร จำนวน 2 กล่อง | C7: 10000 | D7: 9700 | E7: เฉพาะเจาะจง | F7: ร้าน ซีเค ซัพพลาย โอ เอ | G7: =+F7 -> ร้าน ซีเค ซัพพลาย โอ เอ | H7: - คุณสมบัติครบถ้วน | I7: ใบสั่งซื้อ เลขที่ CNTR-0090/64
F8: =+D7 -> 9700 | G8: =+F8 -> 9700 | H8: - เสนอราคาไม่เกินวงเงิน | I8: ลว. 22 เม.ย. 64
H9: และงบประมาณ
A10: 2 | B10: ซื้อกระเบื้องสำหรับช่วยเหลือประชาชนที่ได้รับความ | C10: 9300 | D10: 9268 | E10: เฉพาะเจาะจง | F10: หจก.จิตติภัณฑ์ วัสดุก่อสร้าง | G10: =+F10 -> หจก.จิตติภัณฑ์ วัสดุก่อสร้าง | H10: - คุณสมบัติครบถ้วน | I10: ใบสั่งซื้อ เลขที่ CNTR-0091/64
B11: เดือดร้อนจากสาธารณภัย | F11: =+D10 -> 9268 | G11: =+F11 -> 9268 | H11: - เสนอราคาไม่เกินวงเงิน | I11: ลว. 26 เม.ย. 64
H12: และงบประมาณ
A13: 3 | B13: ซื้อวัสดุวิทยาศาสตร์หรือการแพทย์เพื่อป้องกันโรค | C13: 50000 | D13: 48070 | E13: เฉพาะเจาะจง | F13: หจก.แม็กซ์ซิมัส บิสซิเนส | G13: =+F13 -> หจก.แม็กซ์ซิมัส บิสซิเนส | H13: - คุณสมบัติครบถ้วน | I13: ใบสั่งซื้อ เลขที่ CNTR-0093/64
B14: ติดเชื้อไวรัสโคโรนา 2019 (COVID-19) | F14: 48070 | G14: =+F14 -> 48070 | H14: - เสนอราคาไม่เกินวงเงิน | I14: ลว. 30 เม.ย. 64
H15: และงบประมาณ
A16: 4 | B16: ซื้อวัสดุเชื้อเพลิงและหล่อลื่น น้ำมันไฮดรอลิค | C16: 6000 | D16: 6000 | E16: เฉพาะเจาะจง | F16: อนันชัยสิชลกลการ | G16: =+F16 -> อนันชัยสิชลกลการ | H16: - คุณสมบัติครบถ้วน | I16: ใบสั่งซื้อ เลขที่ CNTR-0094/64
B17: (18 ลิตร) จำนวน 4 ถัง สำหรับรถตักหน้า-ขุดหลัง | F17: =+D16 -> 6000 | G17: =+F17 -> 6000 | H17: - เสนอราคาไม่เกินวงเงิน | I17: ลว. 30 เม.ย. 64
B18: หมายเลขทะเบียน ตค 1867 | H18: และงบประมาณ
A19: 5 | B19: จ้างทำป้ายประชาสัมพันธ์โครงการป้องกันและลด | C19: 450 | D19: 450 | E19: เฉพาะเจาะจง | F19: ร้านสุดภูธร ไวนิล แอนด์ สติกเกอร์ | G19: =+F19 -> ร้านสุดภูธร ไวนิล แอนด์ สติกเกอร์ | H19: - คุณสมบัติครบถ้วน | I19: ใบสั่งจ้าง เลขที่ CNTR-0086/64
B20: อุบัติเหตุทางถนนช่วงสงกรานต์ | F20: 450 | G20: =+F20 -> 450 | H20: - เสนอราคาไม่เกินวงเงิน | I20: ลว. 5 เม.ย. 64
H21: และงบประมาณ
A22: 6 | B22: จ้างตรวจเช็คและซ่อมแซมรถบรรทุกหกล้อ | C22: 14030 | D22: 14030 | E22: เฉพาะเจาะจง | F22: ร้านท่าหินการยางและรถยก | G22: =+F22 -> ร้านท่าหินการยางและรถยก | H22: - คุณสมบัติครบถ้วน | I22: ใบสั่งจ้าง เลขที่ CNTR-0087/64
B23: หมายเลขทะเบียน 82-0578 | F23: 14030 | G23: =+F23 -> 14030 | H23: - เสนอราคาไม่เกินวงเงิน | I23: ลว. 5 เม.ย. 64
H24: และงบประมาณ
A25: 7 | B25: จ้างตรวจเช็คและซ่อมแซมรถตักหน้า-ขุดหลัง หมาย | C25: 5600 | D25: 5600 | E25: เฉพาะเจาะจง | F25: ร้านพรจักรไดนาโม | G25: =+F25 -> ร้านพรจักรไดนาโม | H25: - คุณสมบัติครบถ้วน | I25: ใบสั่งจ้าง เลขที่ CNTR-0088/64
B26: เลขทะเบียน ตค 1867 | F26: 5600 | G26: =+F26 -> 5600 | H26: - เสนอราคาไม่เกินวงเงิน | I26: ลว. 19 เม.ย. 64
H27: และงบประมาณ
A28: 8 | B28: จ้างทำป้ายประชาสัมพันธ์รับสมัครนักเรียนศูนย์ | C28: 900 | D28: 864 | E28: เฉพาะเจาะจง | F28: สิชลโฆษณา | G28: =+F28 -> สิชลโฆษณา | H28: - คุณสมบัติครบถ้วน | I28: ใบสั่งจ้าง เลขที่ CNTR-0089/64
B29: พัฒนาเด็กเล็ก อบต.ฉลอง | F29: 864 | G29: =+F29 -> 864 | H29: - เสนอราคาไม่เกินวงเงิน | I29: ลว. 19 เม.ย. 64
H30: และงบประมาณ
A31: 9 | B31: จ้างตรวจเช็คและซ่อมแซมรถตักหน้า-ขุดหลัง หมาย | C31: 15280 | D31: 15280 | E31: เฉพาะเจาะจง | F31: อนันชัยสิชลกลการ | G31: =+F31 -> อนันชัยสิชลกลการ | H31: - คุณสมบัติครบถ้วน | I31: ใบสั่งจ้าง เลขที่ CNTR-0094/64
B32: เลขทะเบียน ตค 1867 | F32: 15280 | G32: =+F32 -> 15280 | H32: - เสนอราคาไม่เกินวงเงิน | I32: ลว. 30 เม.ย. 64
H33: และงบประมาณ
A34: 10 | B34: จ้างก่อสร้างโครงการก่อสร้างห้องน้ำสาธารณะเพื่อ | C34: 4361000 | D34: 4327912.4 | E34: ประกวดราคา | F34: หจก.เขาน้อยก่อสร้าง | G34: =+F34 -> หจก.เขาน้อยก่อสร้าง | H34: - คุณสมบัติครบถ้วน | I34: สัญญาจ้าง เลขที่ CNTR-0092/64
B35: การท่องเที่ยวระดับสากล (มีห้องอาบน้ำ) | E35: อิเล็กทรอนิกส์ | F35: 4025000 | G35: =+F35 -> 4025000 | H35: - เสนอราคาไม่เกินวงเงิน | I35: ลว. 29 เม.ย. 64
E36: (e-bidding) | H36: และงบประมาณ
F37: ชัยพัฒนศุภกิจ | G37: =+F37 -> ชัยพัฒนศุภกิจ
F38: 4120000 | G38: =+F38 -> 4120000
F40: หจก.นครพงษ์ภัณฑ์การโยธา | G40: =+F40 -> หจก.นครพงษ์ภัณฑ์การโยธา
F41: 4300000 | G41: =+F41 -> 4300000
F43: หจก.1 บุญถาวรก่อสร้าง | G43: =+F43 -> หจก.1 บุญถาวรก่อสร้าง
F44: 4327912 | G44: =+F44 -> 4327912
F46: บ.เจริญทูบี คอน จำกัด | G46: =+F46 -> บ.เจริญทูบี คอน จำกัด
F47: 4320000 | G47: =+F47 -> 4320000
F49: บ.ชุมราษฎร์ วิศวกร จำกัด | G49: =+F49 -> บ.ชุมราษฎร์ วิศวกร จำกัด
F50: 4320000 | G50: =+F50 -> 4320000

Sheet Sheet2
A1: งบหน้าสรุปผลการพิจารณาการจัดซื้อจัดจ้างขององค์การบริหารส่วนตำบลฉลอง
A2: ประจำเดือนเมษายน 2564
F4: รวมราคาที่พิจารณา | G4: วงเงินต่ำหรือสูง
A5: ลำดับที่ | B5: วิธีการจัดซื้อจัดจ้าง | C5: จำนวนโครงการ | D5: รวมวงเงินที่จัดซื้อจัดจ้าง | E5: รวมราคากลาง | F5: คัดเลือก | G5: กว่าราคากลาง | H5: หมายเหตุ
G6: (+ สูง) (-ต่ำกว่า)
A7: 1 | B7: จัดซื้อโดยวิธีประกาศเชิญชวนทั่วไป | C7: - | D7: - | E7: =+D7 -> - | F7: =+D7 -> - | G7: -
A8: 2 | B8: จัดจ้างโดยวิธีประกาศเชิญชวนทั่วไป | C8: - | D8: - | E8: =+D8 -> - | F8: =+D8 -> - | G8: -
A9: 3 | B9: จัดซื้อโดยวิธีการคัดเลือก | C9: - | D9: - | E9: - | F9: - | G9: -
A10: 4 | B10: จัดจ้างโดยวิธีการคัดเลือก | C10: - | D10: - | E10: =+D10 -> - | F10: =+D10 -> - | G10: -
A11: 5 | B11: จัดซื้อโดยวิธีเฉพาะเจาะจง | C11: 4 | D11: =+Sheet3!C7+Sheet3!C10+Sheet3!C13+Sheet3!C16 -> 75300 | E11: =+Sheet3!D7+Sheet3!D10+Sheet3!D13+Sheet3!D16 -> 73038 | F11: =+Sheet3!F8+Sheet3!F11+Sheet3!F14+Sheet3!F17 -> 73038 | G11: =+D11-E11 -> 2262
A12: 6 | B12: จัดจ้างโดยวิธีเฉพาะเจาะจง | C12: 5 | D12: =+Sheet3!C19+Sheet3!C22+Sheet3!C25+Sheet3!C28+Sheet3!C31 -> 36260 | E12: =+Sheet3!D19+Sheet3!D22+Sheet3!D25+Sheet3!D28+Sheet3!D31 -> 36224 | F12: =+Sheet3!F20+Sheet3!F23+Sheet3!F26+Sheet3!F29+Sheet3!F32 -> 36224 | G12: =+D12-E12 -> 36
A13: 7 | B13: จัดซื้อโดยวิธีตลาดอิเล็กทรอนิกส์ | C13: - | D13: - | E13: =+D13 -> - | F13: =+E13 -> - | G13: -
A14: 8 | B14: จัดจ้างโดยวิธีตลาดอิเล็กทรอนิกส์ | C14: - | D14: - | E14: - | F14: - | G14: -
A15: 9 | B15: จัดซื้อโดยวิธีประกวดราคาอิเล็กทรอนิกส์ | C15: - | D15: - | E15: - | F15: - | G15: -
A16: 10 | B16: จัดจ้างโดยวิธีประกวดราคาอิเล็กทรอนิกส์ | C16: 1 | D16: =+Sheet3!C34 -> 4361000 | E16: =+Sheet3!D34 -> 4327912.4 | F16: =+Sheet3!F35 -> 4025000 | G16: =+D16-E16 -> 33087.64
B17: ได้นำข้อมูลเกี่ยวกับการจัดซื้อจัดจ้างตามแบบ สขร.๑ ( ประจำเดือนเมษายน 2564)
B18: เผยแพร่ เมื่อวันที่ 2 พฤษภาคม 2564 โดยวิธีปิดประกาศ และที่เว็บไซต์ www.chalong.go.th
B19: ไม่ได้นำข้อมูลเกี่ยวกับการจัดซื้อจัดจ้างตามแบบ สขร.๑ เผยแพร่ เหตุเพราะ ..........................................................................................
F21: (ลงชื่อ)..................................................ผู้รายงาน
F22: (นางสุมิตรา รักบำรุง)
F23: ปลัดองค์การบริหารส่วนตำบลฉลอง
