Workbook

Sheet Sheet1
A1: สรุปผลการดำเนินการจัดซื้อจัดจ้างในรอบเดือนกุมภาพันธ์ 2567
A2: องค์การบริหารส่วนตำบลฉลอง อำเภอสิชล จังหวัดนครศรีธรรมราช
A3: วันที่ 4 เดือน มีนาคม พ.ศ. 2567
A4: ลำดับ | B4: งานที่จัดซื้อหรือจัดจ้าง | C4: วงเงินที่จะซื้อ | D4: ราคากลาง | E4: วิธีซื้อหรือจ้าง | F4: รายชื่อผู้เสนอราคา | G4: ผู้ได้รับการคัดเลือกและราคาที่ | H4: เหตุผลที่คัดเลือกโดยสรุป | I4: เลขที่และวันที่ของสัญญา
A5: ที่ | F5: และราคาที่เสนอ | G5: ตกลงซื้อหรือจ้าง | I5: หรือข้อตกลงในการซื้อ
C6: หรือจ้าง | I6: หรือจ้าง
A7: 1 | B7: ซื้อวัสดุไฟฟ้าเพื่อซ่อมแซมระบบประปาหมู่บ้าน หมู่ที่ 3 ตำบลแลอง | C7: 22300 | D7: 22300 | E7: เฉพาะเจาะจง | F7: สิชลการไฟฟ้า | G7: =+F7 -> สิชลการไฟฟ้า | H7: - คุณสมบัติครบถ้วน | I7: ใบสั่งซื้อ เลขที่ CNTR-00048/67
B8: (กลุ่มคลองถ้วย) | F8: 22300 | G8: =+F8 -> 22300 | H8: - เสนอราคาไม่เกินวงเงิน | I8: ลว. 1 ก.พ. 67
H9: และงบประมาณ
A10: 2 | B10: ซื้อวัสดุก่อสร้าง เพื่อซ่อมแซมระบบประปาหมู่บ้าน บ้านพังกำ | C10: 24300 | D10: 24300 | E10: =+E7 -> เฉพาะเจาะจง | F10: สิชลการไฟฟ้า | G10: =+F10 -> สิชลการไฟฟ้า | H10: - คุณสมบัติครบถ้วน | I10: ใบสั่งซื้อ เลขที่ CNTR-00049/67
B11: หมู่ที่ 9 ตำบลฉลอง | F11: 24300 | G11: =+F11 -> 24300 | H11: - เสนอราคาไม่เกินวงเงิน | I11: ลว. 1 ก.พ. 67
H12: และงบประมาณ
A13: 3 | B13: ซื้อวัสดุไฟฟ้า จำนวน 3 รายการ | C13: 15300 | D13: 15300 | E13: เฉพาะเจาะจง | F13: สิชลการไฟฟ้า | G13: =+F13 -> สิชลการไฟฟ้า | H13: - คุณสมบัติครบถ้วน | I13: ใบสั่งซื้อ เลขที่ CNTR-00050/67
F14: 15300 | G14: =+F14 -> 15300 | H14: - เสนอราคาไม่เกินวงเงิน | I14: ลว 1 ก.พ. 67
H15: และงบประมาณ
A16: 4 | B16: ซื้อวัสดุสำนักงาน กองช่าสง จำนวน 7 รายการ | C16: 9872 | D16: 9872 | E16: เฉพาะเจาะจง | F16: ปรีดาค้าวัสดุ | G16: =+F16 -> ปรีดาค้าวัสดุ | H16: - คุณสมบัติครบถ้วน | I16: ใบสั๋งซื้อ เลขที่ CNTR-00055/67
F17: 9872 | G17: =+F17 -> 9872 | H17: - เสนอราคาไม่เกินวงเงิน | I17: ลว. 7 ก.พ. 67
H18: และงบประมาณ
A19: 5 | B19: ซื้อวัสดุสำนักงาน กองคลัง จำนวน 14 รายการ | C19: 13000 | D19: 12019 | E19: เฉพาะเจาะจง | F19: ปรีดาค้าวัสดุ | G19: =+F19 -> ปรีดาค้าวัสดุ | H19: - คุณสมบัติครบถ้วน | I19: ใบสั่งซื้อ เลขที่ CNTR-00057/67
F20: 12019 | G20: =+F20 -> 12019 | H20: - เสนอราคาไม่เกินวงเงิน | I20: ลว. 9 ก.พ. 67
H21: และงบประมาณ
A22: 6 | B22: ซื้อวัสดุงานบ้านงานครัว จำนวน 7 รายการ | C22: 8500 | D22: 8395 | E22: เฉพาะเจาะจง | F22: ปรีดาค้าวัสดุ | G22: =+F22 -> ปรีดาค้าวัสดุ | H22: - คุณสมบัติครบถ้วน | I22: ใบสั่งซื้อ เลขที่ CNTR-00058/67
F23: 8395 | G23: =+F23 -> 8395 | H23: - เสนอราคาไม่เกินวงเงิน | I23: ลว. 9 ก.พ. 67
H24: และงบประมาณ
A25: 7 | B25: ซื้อวัสดุคอมพิวเตอร์ กองคลัง จำนวน 2 รายการ | C25: 5970 | D25: 5970 | E25: เฉพาะเจาะจง | F25: สิชลคอมพิวเตอร์ | G25: =+F25 -> สิชลคอมพิวเตอร์ | H25: - คุณสมบัติครบถ้วน | I25: ใบสั่งซื้อ เลขที่ CNTR-00059/67
F26: 5970 | G26: =+F26 -> 5970 | H26: - เสนอราคาไม่เกินวงเงิน | I26: ลว. 12 ก.พ. 67
H27: และงบประมาณ
A28: 8 | B28: ซื้อวัสดุก่อสร้าง | C28: 26750 | D28: 26750 | E28: เฉพาะเจาะจง | F28: หจก.จิตติภัณฑ์ วัสดุก่อสร้าง | G28: =+F28 -> หจก.จิตติภัณฑ์ วัสดุก่อสร้าง | H28: - คุณสมบัติครบถ้วน | I28: ใบสั่งซื้อ เลขที่ CNTR-00061/67
F29: 26750 | G29: =+F29 -> 26750 | H29: - เสนอราคาไม่เกินวงเงิน | I29: ลว. 13 ก.พ. 67
H30: และงบประมาณ
A31: 9 | B31: ซื้อวัสดุสำนักงาน สำนักปลัด จำนวน 15 รายการ | C31: 25000 | D31: 23776 | E31: เฉพาะเจาะจง | F31: ปรีดาค้าวัสดุ | G31: =+F31 -> ปรีดาค้าวัสดุ | H31: - คุณสมบัติครบถ้วน | I31: ใบสั่งซื้อ เลขที่ CNTR-00062/67
F32: 23776 | G32: =+F32 -> 23776 | H32: - เสนอราคาไม่เกินวงเงิน | I32: ลว. 13 ก.พ. 67
H33: และงบประมาณ
A34: 10 | B34: ซื้อครุภัณฑ์คอมพิวเตอร์หรืออิเล็กทรอนิกส์ เครื่องพิมพ์ | C34: 8000 | D34: 8000 | E34: เฉพาะเจาะจง | F34: สิชลคอมพิวเตอร์ | G34: =+F34 -> สิชลคอมพิวเตอร์ | H34: - คุณสมบัติครบถ้วน | I34: ใบสั่งซื้อ เลขที่ CNTR-00063/67
B35: Mutifunction แบบฉีดหมึกพร้อมติดตั้งถังหมืกพิมพ์ (Ink Tank | F35: 8000 | G35: =+F35 -> 8000 | H35: - เสนอราคาไม่เกินวงเงิน | I35: ลว. 19 ก.พ. 67
B36: Printer) จำนวน 1 เครื่อง | H36: และงบประมาณ
A37: 11 | B37: จ้างจัดทำป้ายประชาสัมพันธ์ตามโครงการจัดงานประเพณีให้ทานไฟ | C37: 4752 | D37: 4752 | E37: เฉพาะเจาะจง | F37: สิชลโฆษณา | G37: =+F37 -> สิชลโฆษณา | H37: - คุณสมบัติครบถ้วน | I37: ใบสั่งจ้าง เลขที่ CNTR-00051/67
B38: ประจำปี 2567 | F38: 4752 | G38: =+F38 -> 4752 | H38: - เสนอราคาไม่เกินวงเงิน | I38: ลว. 1 ก.พ. 67
H39: และงบประมาณ
A40: 12 | B40: จ้างจัดทำป้ายไวนิลซุ้มขนมสำหรับใช้ในโครงการจัดงานประเพณี | C40: 10000 | D40: 9600 | E40: เฉพาะเจาะจง | F40: สิชลโฆษณา | G40: =+F40 -> สิชลโฆษณา | H40: - คุณสมบัติครบถ้วน | I40: ใบสั่งจ้าง เลขที่ CNTR-00052/67
B41: ให้ทานไฟ ประจำปี 2567 | F41: 9600 | G41: =+F41 -> 9600 | H41: - เสนอราคาไม่เกินวงเงิน | I41: ลว. 5 ก.พ. 67
H42: และงบประมาณ
A43: 13 | B43: จ้างเกี่ยวกับสถานที่ในการดำเนินโครงการจัดงานประเพณีให้ทานไฟ | C43: 85000 | D43: 85000 | E43: เฉพาะเจาะจง | F43: นายเชาวลิต เศษเพชร | G43: =+F43 -> นายเชาวลิต เศษเพชร | H43: - คุณสมบัติครบถ้วน | I43: ใบสั่งจ้าง เลขที่ CNTR-00053/67
B44: ประจำปี 2567 | F44: 85000 | G44: =+F44 -> 85000 | H44: - เสนอราคาไม่เกินวงเงิน | I44: ลว. 6 ก.พ. 67
H45: และงบประมาณ
A46: 14 | B46: จ้างจัดทำป้ายไวนิลสำหรับการประชาสัมพันธ์การรับสมัครเด็กเล็ก | C46: 864 | D46: 864 | E46: เฉพาะเจาะจง | F46: สิชลโฆษณา | G46: =+F46 -> สิชลโฆษณา | H46: - คุณสมบัติครบถ้วน | I46: ใบสั่งจ้าง เลขที่ CNTR-00054/67
B47: เพื่อเข้าเรียน ประจำปีการศึกษา 2567 | F47: 864 | G47: =+F47 -> 864 | H47: - เสนอราคาไม่เกินวงเงิน | I47: ลว. 6 ก.พ. 67
H48: และงบประมาณ
A49: 15 | B49: จ้างตรวจเช็คและซ่อมแซมเครื่องคอมพิวเตอร์ กองคลัง จำนวน 1 | C49: 2700 | D49: 2690 | E49: เฉพาะเจาะจง | F49: สิชลคอมพิวเตอร์ | G49: =+F49 -> สิชลคอมพิวเตอร์ | H49: - คุณสมบัติครบถ้วน | I49: ใบสั่งจ้าง เลขที่ CNTR-00060/67
B50: เครื่อง | F50: 2690 | G50: =+F50 -> 2690 | H50: - เสนอราคาไม่เกินวงเงิน | I50: ลว. 12 ก.พ. 67
H51: และงบประมาณ
A52: 16 | B52: จ้างถ่ายเอกสาร เย็บหนังสือหรือเข้าปกหนังสือ | C52: 4900 | D52: 4900 | E52: เฉพาะเจาะจง | F52: สิชล ก๊อปปี้ | G52: =+F52 -> สิชล ก๊อปปี้ | H52: - คุณสมบัติครบถ้วน | I52: ใบสั่งจ้าง เลขที่ CNTR-00064/67
F53: 4900 | G53: =+F53 -> 4900 | H53: - เสนอราคาไม่เกินวงเงิน | I53: ลว. 23 ก.พ. 67
H54: และงบประมาณ

Sheet Sheet2
A1: งบหน้าสรุปผลการพิจารณาการจัดซื้อจัดจ้างขององค์การบริหารส่วนตำบลฉลอง
A2: ประจำเดือนกุมภาพันธ์ 2567
F4: รวมราคาที่พิจารณา | G4: วงเงินต่ำหรือสูง
A5: ลำดับที่ | B5: วิธีการจัดซื้อจัดจ้าง | C5: จำนวนโครงการ | D5: รวมวงเงินที่จัดซื้อจัดจ้าง | E5: รวมราคากลาง | F5: คัดเลือก | G5: กว่าราคากลาง | H5: หมายเหตุ
G6: (+ สูง) (-ต่ำกว่า)
A7: 1 | B7: จัดซื้อโดยวิธีประกาศเชิญชวนทั่วไป | C7: - | D7: - | E7: =+D7 -> - | F7: =+D7 -> - | G7: -
A8: 2 | B8: จัดจ้างโดยวิธีประกาศเชิญชวนทั่วไป | C8: - | D8: - | E8: =+D8 -> - | F8: =+D8 -> - | G8: -
A9: 3 | B9: จัดซื้อโดยวิธีการคัดเลือก | C9: - | D9: - | E9: - | F9: - | G9: -
A10: 4 | B10: จัดจ้างโดยวิธีการคัดเลือก | C10: - | D10: - | E10: - | F10: - | G10: -
A11: 5 | B11: จัดซื้อโดยวิธีเฉพาะเจาะจง | C11: 10 | D11: =+Sheet1!C7+Sheet1!C10+Sheet1!C13+Sheet1!C16+Sheet1!C19+Sheet1!C22+Sheet1!C25+Sheet1!C28+Sheet1!C31+Sheet1!C34 -> 158992 | E11: =+Sheet1!D7+Sheet1!D10+Sheet1!D13+Sheet1!D16+Sheet1!D19+Sheet1!D22+Sheet1!D25+Sheet1!D28+Sheet1!D31+Sheet1!D34 -> 156682 | F11: =+Sheet1!G8+Sheet1!G11+Sheet1!G14+Sheet1!G17+Sheet1!G20+Sheet1!G23+Sheet1!G26+Sheet1!G29+Sheet1!G32+Sheet1!G35 -> 156682 | G11: =+D11-E11 -> 2310
A12: 6 | B12: จัดจ้างโดยวิธีเฉพาะเจาะจง | C12: 6 | D12: =+Sheet1!C37+Sheet1!C40+Sheet1!C43+Sheet1!C46+Sheet1!C49+Sheet1!C52 -> 108216 | E12: =+Sheet1!D37+Sheet1!D40+Sheet1!D43+Sheet1!D46+Sheet1!D49+Sheet1!D52 -> 107806 | F12: =+Sheet1!G38+Sheet1!G41+Sheet1!G44+Sheet1!G47+Sheet1!G50+Sheet1!G53 -> 107806 | G12: =+D12-E12 -> 410
A13: 7 | B13: จัดซื้อโดยวิธีตลาดอิเล็กทรอนิกส์ | C13: - | D13: . | E13: =+D13 -> . | F13: =+E13 -> . | G13: -
A14: 8 | B14: จัดจ้างโดยวิธีตลาดอิเล็กทรอนิกส์ | C14: - | D14: - | E14: =+D14 -> - | F14: =+E14 -> - | G14: -
A15: 9 | B15: จัดซื้อโดยวิธีประกวดราคาอิเล็กทรอนิกส์ | C15: - | D15: - | E15: - | F15: - | G15: -
A16: 10 | B16: จัดจ้างโดยวิธีประกวดราคาอิเล็กทรอนิกส์ | C16: - | D16: - | E16: - | F16: - | G16: -
B17: ได้นำข้อมูลเกี่ยวกับการจัดซื้อจัดจ้างตามแบบ สขร.๑ ( ประจำเดือนกุมภาพันธ์ 2567)
B18: เผยแพร่ เมื่อวันที่ 4 มีนาคม 2567 โดยวิธีปิดประกาศ และที่เว็บไซต์ www.chalong.go.th
B19: ไม่ได้นำข้อมูลเกี่ยวกับการจัดซื้อจัดจ้างตามแบบ สขร.๑ เผยแพร่ เหตุเพราะ ..........................................................................................
E21: (ลงชื่อ)..................................................ผู้รายงาน
E22: (นางสุมิตรา รักบำรุง)
E23: ปลัดองค์การบริหารส่วนตำบลฉลอง
