Workbook

Sheet มกราคม
A1: สรุปผลการดำเนินการจัดซื้อจัดจ้างในรอบเดือนมกราคม 2563
A2: องค์การบริหารส่วนตำบลฉลอง อำเภอสิชล จังหวัดนครศรีธรรมราช
A3: วันที่ 5 เดือน กุมภาพันธ์ พ.ศ. 2563
A4: ลำดับ | B4: งานที่จัดซื้อหรือจัดจ้าง | C4: วงเงินที่จะซื้อ | D4: ราคากลาง | E4: วิธีซื้อหรือจ้าง | F4: รายชื่อผู้เสนอราคา | G4: ผู้ได้รับการคัดเลือกและราคาที่ | H4: เหตุผลที่คัดเลือกโดยสรุป | I4: เลขที่และวันที่ของสัญญา
A5: ที่ | F5: และราคาที่เสนอ | G5: ตกลงซื้อหรือจ้าง | I5: หรือข้อตกลงในการซื้อ
C6: หรือจ้าง | I6: หรือจ้าง
A7: 1 | B7: จัดซื้อของรางวัลสำหรับโครงการส่งเสริมการศึกษา | C7: 20000 | D7: 19450 | E7: เฉพาะเจาะจง | F7: ร้านนฤมลดอกไม้และลุงรัสกรอบรูป | G7: =+F7 -> ร้านนฤมลดอกไม้และลุงรัสกรอบรูป | H7: - คุณสมบัติครบถ้วน | I7: ใบสั่งซื้อ เลขที่ CNTR-0039/63
B8: กิจกรรมพัฒนาการเรียนรู้ของเด็กและเยาวชน | F8: =+D7 -> 19450 | G8: =+F8 -> 19450 | H8: - เสนอราคาไม่เกินวงเงิน | I8: ลว. 8 ม.ค. 63
H9: และงบประมาณ
A10: 2 | B10: จัดซื้อวัสดุและอุปกรณ์สำหรับกิจกรรมโครงการ | C10: 10000 | D10: 5453 | E10: เฉพาะเจาะจง | F10: ร้านปรีดาค้าวัสดุ | G10: =+F10 -> ร้านปรีดาค้าวัสดุ | H10: - คุณสมบัติครบถ้วน | I10: ใบสั่งซื้อ เลขที่ CNTR-0041/63
B11: ส่งเสริมการศึกษากิจกรรมพัฒนาการเรียนรรู้ของ | F11: =+D10 -> 5453 | G11: =+F11 -> 5453 | H11: - เสนอราคาไม่เกินวงเงิน | I11: ลว. 8 ม.ค. 63
B12: เด็กและเยาวชน | H12: และงบประมาณ
A13: 3 | B13: จัดซื้อน้ำดื่มและน้ำแข็งหลอดสำหรับโครงการส่ง | C13: 11000 | D13: 5650 | E13: เฉพาะเจาะจง | F13: นายพิพัฒน์ เพชรช่วย | G13: =+F13 -> นายพิพัฒน์ เพชรช่วย | H13: - คุณสมบัติครบถ้วน | I13: ใบสั่งซื้อ เลขที่ CNTR-0043/63
B14: เสริมการศึกษากิจกรรมพัฒนาการเรียนรู้ของเด็ก | F14: 5650 | G14: =+F14 -> 5650 | H14: - เสนอราคาไม่เกินวงเงิน | I14: ลว. 8 ม.ค. 63
B15: และเยาวขน | H15: และงบประมาณ
A16: 4 | B16: จัดซื้อวัสดุคอมพิวเตอร์ หมึกพิมพ์สำนักงานปลัด | C16: 16000 | D16: 15900 | E16: เฉพาะเจาะจง | F16: ร้านสิชลคอมพิวเตอร์แอนด์เซอร์วิส | G16: =+F16 -> ร้านสิชลคอมพิวเตอร์แอนด์เซอร์วิส | H16: - คุณสมบัติครบถ้วน | I16: ใบสั่งซื้อ เลขที่ CNTR-0046/63
F17: =+D16 -> 15900 | G17: =+F17 -> 15900 | H17: - เสนอราคาไม่เกินวงเงิน | I17: ลว. 20 ม.ค. 63
H18: และงบประมาณ
A19: 5 | B19: จัดซื้อเครื่องพริ้นเตอร์แบบ Laser ชนิด LED | C19: 8900 | D19: 8800 | E19: เฉพาะเจาะจง | F19: ร้านสิชลคอมพิวเตอร์แอนด์เซอร์วิส | G19: =+F19 -> ร้านสิชลคอมพิวเตอร์แอนด์เซอร์วิส | H19: - คุณสมบัติครบถ้วน | I19: ใบสั่งซื้อ เลขที่ CNTR-0049/63
B20: ขาวดำ | F20: =+D19 -> 8800 | G20: =+F20 -> 8800 | H20: - เสนอราคาไม่เกินวงเงิน | I20: ลว. 22 ม.ค. 63
H21: และงบประมาณ
A22: 6 | B22: จัดซื้อเครื่องสำรองไฟ สำนักงานปลัด 2 เครื่อง | C22: 5000 | D22: 4900 | E22: เฉพาะเจาะจง | F22: ร้านสิชลคอมพิวเตอร์แอนด์เซอร์วิส | G22: =+F22 -> ร้านสิชลคอมพิวเตอร์แอนด์เซอร์วิส | H22: - คุณสมบัติครบถ้วน | I22: ใบสั่งซื้อ เลขที่ CNTR-0050/63
F23: 4900 | G23: =+F23 -> 4900 | H23: - เสนอราคาไม่เกินวงเงิน | I23: ลว. 22 ม.ค. 63
H24: และงบประมาณ
A25: 7 | B25: จัดซื้อเครื่องสำรองไฟ ศพด.อบต.ฉลอง 1 เครื่อง | C25: 2500 | D25: 2450 | E25: เฉพาะเจาะจง | F25: ร้านสิชลคอมพิวเตอร์แอนด์เซอร์วิส | G25: =+F25 -> ร้านสิชลคอมพิวเตอร์แอนด์เซอร์วิส | H25: - คุณสมบัติครบถ้วน | I25: ใบสั่งซื้อ เลขที่ CNTR-0051/63
F26: 2450 | G26: =+F26 -> 2450 | H26: - เสนอราคาไม่เกินวงเงิน | I26: ลว. 22 ม.ค. 63
H27: และงบประมาณ
A28: 8 | B28: จัดซื้อเครื่องพิมพ์แบบฉีดหมึก ศพด.อบต.ฉลอง | C28: 4300 | D28: 4290 | E28: เฉพาะเจาะจง | F28: ร้านสิชลคอมพิวเตอร์แอนด์เซอร์วิส | G28: =+F28 -> ร้านสิชลคอมพิวเตอร์แอนด์เซอร์วิส | H28: - คุณสมบัติครบถ้วน | I28: ใบสั่งซื้อ เลขที่ CNTR-0052/63
B29: 1 เครื่อง | F29: 4290 | G29: =+F29 -> 4290 | H29: - เสนอราคาไม่เกินวงเงิน | I29: ลว. 22 ม.ค. 63
H30: และงบประมาณ
A31: 9 | B31: จัดซื้อเครื่องคอมพิวเตอร์ สำนักงานฯ ศพด.อบต.ฉลอง | C31: 17000 | D31: 16900 | E31: เฉพาะเจาะจง | F31: ร้านสิชลคอมพิวเตอร์แอนด์เซอร์วิส | G31: =+F31 -> ร้านสิชลคอมพิวเตอร์แอนด์เซอร์วิส | H31: - คุณสมบัติครบถ้วน | I31: ใบสั่งซื้อ เลขที่ CNTR-0053/63
F32: 16900 | G32: =+F32 -> 16900 | H32: - เสนอราคาไม่เกินวงเงิน | I32: ลว. 22 ม.ค. 63
H33: และงบประมาณ
A34: 10 | B34: จัดซื้อเครื่องขยายเสียงแบบลากจูง ศพด.อบต.ฉลอง | C34: 8000 | D34: 7900 | E34: เฉพาะเจาะจง | F34: ร้านสิชลคอมพิวเตอร์แอนด์เซอร์วิส | G34: =+F34 -> ร้านสิชลคอมพิวเตอร์แอนด์เซอร์วิส | H34: - คุณสมบัติครบถ้วน | I34: ใบสั่งซื้อ เลขที่ CNTR-0054/63
F35: 7900 | G35: =+F35 -> 7900 | H35: - เสนอราคาไม่เกินวงเงิน | I35: ลว. 22 ม.ค. 63
H36: และงบประมาณ
A37: 11 | B37: จัดซื้อครุภัณฑ์โฆษณาและเผยแพร่โทรทัศน์ LED TV | C37: 28000 | D37: 27800 | E37: เฉพาะเจาะจง | F37: ร้านสิชลคอมพิวเตอร์แอนด์เซอร์วิส | G37: =+F37 -> ร้านสิชลคอมพิวเตอร์แอนด์เซอร์วิส | H37: - คุณสมบัติครบถ้วน | I37: ใบสั่งซื้อ เลขที่ CNTR-0055/63
B38: 2 เครื่อง ศพด.อบต.ฉลอง | F38: 27800 | G38: =+F38 -> 27800 | H38: - เสนอราคาไม่เกินวงเงิน | I38: ลว. 23 ม.ค. 63
H39: และงบประมาณ
A40: 12 | B40: จัดซื้อววัสดุสำนักงาน สำนักงานปลัด | C40: 50000 | D40: 49750 | E40: เฉพาะเจาะจง | F40: ร้านธันยาการต์ธุรกิจ | G40: =+F40 -> ร้านธันยาการต์ธุรกิจ | H40: - คุณสมบัติครบถ้วน | I40: ใบสั่งซื้อ เลขที่ CNTR-0062/63
F41: 49750 | G41: =+F41 -> 49750 | H41: - เสนอราคาไม่เกินวงเงิน | I41: ลว. 24 ม.ค. 63
H42: และงบประมาณ
A43: 13 | B43: จัดซื้อวัสดุสำนักงาน กองช่าง | C43: 736 | D43: 736 | E43: เฉพาะเจาะจง | F43: ร้านปรีดาค้าวัสดุ | G43: =+F43 -> ร้านปรีดาค้าวัสดุ | H43: - คุณสมบัติครบถ้วน | I43: ใบสั่งซื้อ เลขที่ CNTR-0063/63
F44: 736 | G44: =+F44 -> 736 | H44: - เสนอราคาไม่เกินวงเงิน | I44: ลว. 31 ม.ค. 63
H45: และงบประมาณ
A46: 14 | B46: จัดซื้อวัสดุก่อสร้าง หินคลุก หินท้ายราง | C46: 184500 | D46: 184500 | E46: เฉพาะเจาะจง | F46: ร้านจิตติภัณฑ์วัสดุก่อสร้าง | G46: =+F46 -> ร้านจิตติภัณฑ์วัสดุก่อสร้าง | H46: - คุณสมบัติครบถ้วน | I46: ใบสั่งซื้อ เลขที่ CNTR-0065/63
F47: 184500 | G47: =+F47 -> 184500 | H47: - เสนอราคาไม่เกินวงเงิน | I47: ลว. 31 ม.ค. 63
H48: และงบประมาณ
A49: 15 | B49: จัดซื้อวัสดุคอมพิวเตอร์ กองช่าง | C49: 329 | D49: 329 | E49: เฉพาะเจาะจง | F49: ร้านสิชลคอมพิวเตอร์แอนด์เซอร์วิส | G49: =+F49 -> ร้านสิชลคอมพิวเตอร์แอนด์เซอร์วิส | H49: - คุณสมบัติครบถ้วน | I49: ใบสั่งซื้อ เลขที่ CNTR-0066/63
F50: 329 | G50: =+F50 -> 329 | H50: - เสนอราคาไม่เกินวงเงิน | I50: ลว. 31 ม.ค. 63
H51: และงบประมาณ
A52: 16 | B52: จ้างเช่าเครื่องเล่นส่งเสริมพัฒนาการเด็กสำหรับโครง | C52: 15000 | D52: 13000 | E52: เฉพาะเจาะจง | F52: นายอนุพันธ์ พืชผา | G52: =+F52 -> นายอนุพันธ์ พืชผา | H52: - คุณสมบัติครบถ้วน | I52: ใบสั่งจ้าง เลขที่ CNTR-0038/63
B53: การส่งเสริมการศึกษากิจกรรมพัฒนาการเรียนรู้ของ | F53: 13000 | G53: =+F53 -> 13000 | H53: - เสนอราคาไม่เกินวงเงิน | I53: ลว. 8 ม.ค. 63
B54: เด็กและเยาวชน | H54: และงบประมาณ
A55: 17 | B55: จ้างทำอาหารกล่องสำหรับโครงการกิจกรรมพัฒนา | C55: 24000 | D55: 21000 | E55: เฉพาะเจาะจง | F55: นางวันทา แสนมหา | G55: =+F55 -> นางวันทา แสนมหา | H55: - คุณสมบัติครบถ้วน | I55: ใบสั่งจ้าง เลขที่ CNTR-0040/63
B56: การเรียนรู้ของเด็กและเยาวชน | F56: 21000 | G56: =+F56 -> 21000 | H56: - เสนอราคาไม่เกินวงเงิน | I56: ลว. 8 ม.ค. 63
H57: และงบประมาณ
A58: 18 | B58: จ้างเช่าเต็นท์ โต๊ะ เก้าอี้ พร้อมเวที และเครื่องเสียง | C58: 40000 | D58: 25000 | E58: เฉพาะเจาะจง | F58: นายสรวิส ใจห้าว | G58: =+F58 -> นายสรวิส ใจห้าว | H58: - คุณสมบัติครบถ้วน | I58: ใบสั่งจ้าง เลขที่ CNTR-0042/63
B59: สำหรับโครงการส่งเสริมการศึกษากิจกรรมพัฒนา | F59: 25000 | G59: =+F59 -> 25000 | H59: - เสนอราคาไม่เกินวงเงิน | I59: ลว. 8 ม.ค. 63
B60: การเรียนรู้ของเด็กและเยาวชน | H60: และงบประมาณ
A61: 19 | B61: จ้างเช่าอุปกรณ์จัดงาน เต็นท์ โต๊ะ เก้าอี้ เวที พร้อม | C61: 80000 | D61: 80000 | E61: เฉพาะเจาะจง | F61: นายเชาวลิต เศษเพชร | G61: =+F61 -> นายเชาวลิต เศษเพชร | H61: - คุณสมบัติครบถ้วน | I61: ใบสั่งจ้าง เลขที่ CNTR-0044/63
B62: เครื่องเสียงติดตั้งไฟและแสงสว่างทุกจุด สำหรับงาน | F62: 80000 | G62: =+F62 -> 80000 | H62: - เสนอราคาไม่เกินวงเงิน | I62: ลว. 14 ม.ค. 63
B63: ประเพณีให้ทานไฟ 2563 | H63: และงบประมาณ
A64: 20 | B64: จ้างถ่ายเอกสาร เย็บหนันงสือหรือเข้าปกหนังสือ | C64: 4900 | D64: 4900 | E64: เฉพาะเจาะจง | F64: ร้านสิชลก็อปปี้ | G64: =+F64 -> ร้านสิชลก็อปปี้ | H64: - คุณสมบัติครบถ้วน | I64: ใบสั่งจ้าง เลขที่ CNTR-0045/63
F65: 4900 | G65: =+F65 -> 4900 | H65: - เสนอราคาไม่เกินวงเงิน | I65: ลว. 15 ม.ค. 63
H66: และงบประมาณ
A67: 21 | B67: จ้างเหมาซ่อมแซมเครื่องคอมพิวเตอร์ รหัสครุภัณฑ์ | C67: 4200 | D67: 4150 | E67: เฉพาะเจาะจง | F67: ร้านสิชลคอมพิวเตอร์แอนด์เซอร์วิส | G67: =+F67 -> ร้านสิชลคอมพิวเตอร์แอนด์เซอร์วิส | H67: - คุณสมบัติครบถ้วน | I67: ใบสั่งจ้าง เลขที่ CNTR-0056/63
B68: 416-53-0019 สำนักงานปลัด | F68: 4150 | G68: =+F68 -> 4150 | H68: - เสนอราคาไม่เกินวงเงิน | I68: ลว. 23 ม.ค. 63
H69: และงบประมาณ
A70: 22 | B70: จ้างตรวจเช็คและซ่อมแซมรถยนต์ส่วนกลาง ครบ | C70: 8557.86 | D70: 8557.86 | E70: เฉพาะเจาะจง | F70: บริษัทสุราษฎร์ปิยะ | G70: =+F70 -> บริษัทสุราษฎร์ปิยะ | H70: - คุณสมบัติครบถ้วน | I70: ใบสั่งจ้าง เลขที่ CNTR-0061/63
B71: ระยะ 40,000 ชม. ทะเบียน กล 8661 นศ | F71: 8557.86 | G71: =+F71 -> 8557.86 | H71: - เสนอราคาไม่เกินวงเงิน | I71: ลว. 24 ม.ค. 63
H72: และงบประมาณ
A73: 23 | B73: จ้างก่อสร้างถนน คสล.สายคลองถ้วย ม.3 และ ม.11 | C73: 488000 | D73: 438000 | E73: เฉพาะเจาะจง | F73: บริษัท ชลนครวิศวกรรม จำกัด | G73: =+F73 -> บริษัท ชลนครวิศวกรรม จำกัด | H73: - คุณสมบัติครบถ้วน | I73: สัญญาจ้าง เลขที่ CNTR-0047/63
F74: 435000 | G74: =+F74 -> 435000 | H74: - เสนอราคาไม่เกินวงเงิน | I74: ลว. 21 ม.ค. 63
H75: และงบประมาณ
A76: 24 | B76: จ้างก่อสร้างถนน คสล.สายซอยสมใจ-ต่อเขต ม.15 | C76: 488000 | D76: 438000 | E76: เฉพาะเจาะจง | F76: บริษัท ชลนครวิศวกรรม จำกัด | G76: =+F76 -> บริษัท ชลนครวิศวกรรม จำกัด | H76: - คุณสมบัติครบถ้วน | I76: สัญญาจ้าง เลขที่ CNTR-0048/63
B77: ต.ทุ่งปรัง ม.3 | F77: 435000 | G77: =+F77 -> 435000 | H77: - เสนอราคาไม่เกินวงเงิน | I77: ลว. 21 ม.ค. 63
H78: และงบประมาณ
A79: 25 | B79: จ้างก่อสร้างถนน คสล.สายซอยสุภาพ ม.4 ต.ฉลอง | C79: 430000 | D79: 390000 | E79: เฉพาะเจาะจง | F79: หจก.แม็กซ์ซิมัส บิสซีเนส | G79: =+F79 -> หจก.แม็กซ์ซิมัส บิสซีเนส | H79: - คุณสมบัติครบถ้วน | I79: สัญญาจ้าง เลขที่ CNTR-0057/63
F80: 390000 | G80: =+F80 -> 390000 | H80: - เสนอราคาไม่เกินวงเงิน | I80: ลว. 23 ม.ค. 63
H81: และงบประมาณ
A82: 26 | B82: จ้างก่อสร้างถนน คสล.สายชายเขาพรง- วัดเบิก | C82: 487000 | D82: 455000 | E82: เฉพาะเจาะจง | F82: หจก.แม็กซ์ซิมัส บิสซีเนส | G82: =+F82 -> หจก.แม็กซ์ซิมัส บิสซีเนส | H82: - คุณสมบัติครบถ้วน | I82: สัญญาจ้าง เลขที่ CNTR-0058/63
B83: ม.4 ต.ฉลอง | F83: 455000 | G83: =+F83 -> 455000 | H83: - เสนอราคาไม่เกินวงเงิน | I83: ลว. 23 ม.ค. 63
H84: และงบประมาณ

Sheet Sheet2
A1: งบหน้าสรุปผลการพิจารณาการจัดซื้อจัดจ้างขององค์การบริหารส่วนตำบลฉลอง
A2: ประจำเดือนมกราคม 2563
F4: รวมราคาที่พิจารณา | G4: วงเงินต่ำหรือสูง
A5: ลำดับที่ | B5: วิธีการจัดซื้อจัดจ้าง | C5: จำนวนโครงการ | D5: รวมวงเงินที่จัดซื้อจัดจ้าง | E5: รวมราคากลาง | F5: คัดเลือก | G5: กว่าราคากลาง | H5: หมายเหตุ
G6: (+ สูง) (-ต่ำกว่า)
A7: 1 | B7: จัดซื้อโดยวิธีประกาศเชิญชวนทั่วไป | C7: - | D7: - | E7: =+D7 -> - | F7: =+D7 -> - | G7: -
A8: 2 | B8: จัดจ้างโดยวิธีประกาศเชิญชวนทั่วไป | C8: - | D8: - | E8: =+D8 -> - | F8: =+D8 -> - | G8: -
A9: 3 | B9: จัดซื้อโดยวิธีการคัดเลือก | C9: - | D9: - | E9: - | F9: - | G9: -
A10: 4 | B10: จัดจ้างโดยวิธีการคัดเลือก | C10: - | D10: - | E10: =+D10 -> - | F10: =+D10 -> - | G10: -
A11: 5 | B11: จัดซื้อโดยวิธีเฉพาะเจาะจง | C11: 15 | D11: =+มกราคม!C7+มกราคม!C10+มกราคม!C13+มกราคม!C16+มกราคม!C19+มกราคม!C22+มกราคม!C25+มกราคม!C28+มกราคม!C31+มกราคม!C34+มกราคม!C37+มกราคม!C40+มกราคม!C43+มกราคม!C46+มกราคม!C49 -> 366265 | E11: =+มกราคม!D7+มกราคม!D10+มกราคม!D13+มกราคม!D16+มกราคม!D19+มกราคม!D22+มกราคม!D25+มกราคม!D28+มกราคม!D31+มกราคม!D34+มกราคม!D37+มกราคม!D40+มกราคม!D43+มกราคม!D46+มกราคม!D49 -> 354808 | F11: =+E11 -> 354808 | G11: =+D11-E11 -> 11457
A12: 6 | B12: จัดจ้างโดยวิธีเฉพาะเจาะจง | C12: 11 | D12: =+มกราคม!C52+มกราคม!C55+มกราคม!C58+มกราคม!C61+มกราคม!C64+มกราคม!C67+มกราคม!C70+มกราคม!C73+มกราคม!C76+มกราคม!C79+มกราคม!C82 -> 2069657.9 | E12: =+มกราคม!D52+มกราคม!D55+มกราคม!D58+มกราคม!D61+มกราคม!D64+มกราคม!D67+มกราคม!D70+มกราคม!D73+มกราคม!D76+มกราคม!D79+มกราคม!D82 -> 1877607.9 | F12: =+มกราคม!G53+มกราคม!G56+มกราคม!G59+มกราคม!G62+มกราคม!G65+มกราคม!G68+มกราคม!G71+มกราคม!G74+มกราคม!G77+มกราคม!G80+มกราคม!G83 -> 1871607.9 | G12: =+D12-E12 -> 192050
A13: 7 | B13: จัดซื้อโดยวิธีตลาดอิเล็กทรอนิกส์ | C13: - | D13: - | E13: =+D13 -> - | F13: =+E13 -> - | G13: -
A14: 8 | B14: จัดจ้างโดยวิธีตลาดอิเล็กทรอนิกส์ | C14: - | D14: - | E14: - | F14: - | G14: -
A15: 9 | B15: จัดซื้อโดยวิธีประกวดราคาอิเล็กทรอนิกส์ | C15: - | D15: - | E15: - | F15: - | G15: -
A16: 10 | B16: จัดจ้างโดยวิธีประกวดราคาอิเล็กทรอนิกส์ | C16: - | D16: - | E16: - | F16: - | G16: -
B17: ได้นำข้อมูลเกี่ยวกับการจัดซื้อจัดจ้างตามแบบ สขร.๑ ( ประจำเดือนพฤศจิกายน 2562)
B18: เผยแพร่ เมื่อวันที่ 5 กุมภาพันธ์ 2563 โดยวิธีปิดประกาศ และที่เว็บไซต์ www.chalong.go.th
B19: ไม่ได้นำข้อมูลเกี่ยวกับการจัดซื้อจัดจ้างตามแบบ สขร.๑ เผยแพร่ เหตุเพราะ ..........................................................................................
F21: (ลงชื่อ)..................................................ผู้รายงาน
F22: (นางสุมิตรา รักบำรุง)
F23: ปลัดองค์การบริหารส่วนตำบลฉลอง
