Workbook

Sheet มกราคม
A1: สรุปผลการดำเนินการจัดซื้อจัดจ้างในรอบเดือนมกราคม 2563
A2: องค์การบริหารส่วนตำบลฉลอง อำเภอสิชล จังหวัดนครศรีธรรมราช
A3: วันที่ 5 เดือน กุมภาพันธ์ พ.ศ. 2563
A4: ลำดับ | B4: งานที่จัดซื้อหรือจัดจ้าง | C4: วงเงินที่จะซื้อ | D4: ราคากลาง | E4: วิธีซื้อหรือจ้าง | F4: รายชื่อผู้เสนอราคา | G4: ผู้ได้รับการคัดเลือกและราคาที่ | H4: เหตุผลที่คัดเลือกโดยสรุป | I4: เลขที่และวันที่ของสัญญา
A5: ที่ | F5: และราคาที่เสนอ | G5: ตกลงซื้อหรือจ้าง | I5: หรือข้อตกลงในการซื้อ
C6: หรือจ้าง | I6: หรือจ้าง
A7: 1 | B7: จัดซื้อของรางวัลสำหรับโครงการส่งเสริมการศึกษา | C7: 20000 | D7: 19450 | E7: เฉพาะเจาะจง | F7: ร้านนฤมลดอกไม้และลุงรัสกรอบรูป | G7: =+F7 -> ร้านนฤมลดอกไม้และลุงรัสกรอบรูป | H7: - คุณสมบัติครบถ้วน | I7: ใบสั่งซื้อ เลขที่ CNTR-0039/63
B8: กิจกรรมพัฒนาการเรียนรู้ของเด็กและเยาวชน | F8: =+D7 -> 19450 | G8: =+F8 -> 19450 | H8: - เสนอราคาไม่เกินวงเงิน | I8: ลว. 8 ม.ค. 63
H9: และงบประมาณ
A10: 2 | B10: จัดซื้อวัสดุและอุปกรณ์สำหรับกิจกรรมโครงการ | C10: 10000 | D10: 5453 | E10: เฉพาะเจาะจง | F10: ร้านปรีดาค้าวัสดุ | G10: =+F10 -> ร้านปรีดาค้าวัสดุ | H10: - คุณสมบัติครบถ้วน | I10: ใบสั่งซื้อ เลขที่ CNTR-0041/63
B11: ส่งเสริมการศึกษากิจกรรมพัฒนาการเรียนรรู้ของ | F11: =+D10 -> 5453 | G11: =+F11 -> 5453 | H11: - เสนอราคาไม่เกินวงเงิน | I11: ลว. 8 ม.ค. 63
B12: เด็กและเยาวชน | H12: และงบประมาณ
A13: 3 | B13: จัดซื้อน้ำดื่มและน้ำแข็งหลอดสำหรับโครงการส่ง | C13: 11000 | D13: 5650 | E13: เฉพาะเจาะจง | F13: นายพิพัฒน์ เพชรช่วย | G13: =+F13 -> นายพิพัฒน์ เพชรช่วย | H13: - คุณสมบัติครบถ้วน | I13: ใบสั่งซื้อ เลขที่ CNTR-0043/63
B14: เสริมการศึกษากิจกรรมพัฒนาการเรียนรู้ของเด็ก | F14: 5650 | G14: =+F14 -> 5650 | H14: - เสนอราคาไม่เกินวงเงิน | I14: ลว. 8 ม.ค. 63
B15: และเยาวขน | H15: และงบประมาณ
A16: 4 | B16: จัดซื้อวัสดุคอมพิวเตอร์ หมึกพิมพ์สำนักงานปลัด | C16: 16000 | D16: 15900 | E16: เฉพาะเจาะจง | F16: ร้านสิชลคอมพิวเตอร์แอนด์เซอร์วิส | G16: =+F16 -> ร้านสิชลคอมพิวเตอร์แอนด์เซอร์วิส | H16: - คุณสมบัติครบถ้วน | I16: ใบสั่งซื้อ เลขที่ CNTR-0046/63
F17: =+D16 -> 15900 | G17: =+F17 -> 15900 | H17: - เสนอราคาไม่เกินวงเงิน | I17: ลว. 20 ม.ค. 63
H18: และงบประมาณ
A19: 5 | B19: จัดซื้อเครื่องพริ้นเตอร์แบบ Laser ชนิด LED | C19: 8900 | D19: 8800 | E19: เฉพาะเจาะจง | F19: ร้านสิชลคอมพิวเตอร์แอนด์เซอร์วิส | G19: =+F19 -> ร้านสิชลคอมพิวเตอร์แอนด์เซอร์วิส | H19: - คุณสมบัติครบถ้วน | I19: ใบสั่งซื้อ เลขที่ CNTR-0049/63
B20: ขาวดำ | F20: =+D19 -> 8800 | G20: =+F20 -> 8800 | H20: - เสนอราคาไม่เกินวงเงิน | I20: ลว. 22 ม.ค. 63
H21: และงบประมาณ
A22: 6 | B22: จัดซื้อเครื่องสำรองไฟ สำนักงานปลัด 2 เครื่อง | C22: 5000 | D22: 4900 | E22: เฉพาะเจาะจง | F22: ร้านสิชลคอมพิวเตอร์แอนด์เซอร์วิส | G22: =+F22 -> ร้านสิชลคอมพิวเตอร์แอนด์เซอร์วิส | H22: - คุณสมบัติครบถ้วน | I22: ใบสั่งซื้อ เลขที่ CNTR-0050/63
F23: 4900 | G23: =+F23 -> 4900 | H23: - เสนอราคาไม่เกินวงเงิน | I23: ลว. 22 ม.ค. 63
H24: และงบประมาณ
A25: 7 | B25: จัดซื้อเครื่องสำรองไฟ ศพด.อบต.ฉลอง 1 เครื่อง | C25: 2500 | D25: 2450 | E25: เฉพาะเจาะจง | F25: ร้านสิชลคอมพิวเตอร์แอนด์เซอร์วิส | G25: =+F25 -> ร้านสิชลคอมพิวเตอร์แอนด์เซอร์วิส | H25: - คุณสมบัติครบถ้วน | I25: ใบสั่งซื้อ เลขที่ CNTR-0051/63
F26: 2450 | G26: =+F26 -> 2450 | H26: - เสนอราคาไม่เกินวงเงิน | I26: ลว. 22 ม.ค. 63
H27: และงบประมาณ
A28: 8 | B28: จัดซื้อเครื่องพิมพ์แบบฉีดหมึก ศพด.อบต.ฉลอง | C28: 4300 | D28: 4290 | E28: เฉพาะเจาะจง | F28: ร้านสิชลคอมพิวเตอร์แอนด์เซอร์วิส | G28: =+F28 -> ร้านสิชลคอมพิวเตอร์แอนด์เซอร์วิส | H28: - คุณสมบัติครบถ้วน | I28: ใบสั่งซื้อ เลขที่ CNTR-0052/63
B29: 1 เครื่อง | F29: 4290 | G29: =+F29 -> 4290 | H29: - เสนอราคาไม่เกินวงเงิน | I29: ลว. 22 ม.ค. 63
H30: และงบประมาณ
A31: 9 | B31: จัดซื้อเครื่องคอมพิวเตอร์ สำนักงานฯ ศพด.อบต.ฉลอง | C31: 17000 | D31: 16900 | E31: เฉพาะเจาะจง | F31: ร้านสิชลคอมพิวเตอร์แอนด์เซอร์วิส | G31: =+F31 -> ร้านสิชลคอมพิวเตอร์แอนด์เซอร์วิส | H31: - คุณสมบัติครบถ้วน | I31: ใบสั่งซื้อ เลขที่ CNTR-0053/63
F32: 16900 | G32: =+F32 -> 16900 | H32: - เสนอราคาไม่เกินวงเงิน | I32: ลว. 22 ม.ค. 63
H33: และงบประมาณ
A34: 10 | B34: จัดซื้อเครื่องขยายเสียงแบบลากจูง ศพด.อบต.ฉลอง | C34: 8000 | D34: 7900 | E34: เฉพาะเจาะจง | F34: ร้านสิชลคอมพิวเตอร์แอนด์เซอร์วิส | G34: =+F34 -> ร้านสิชลคอมพิวเตอร์แอนด์เซอร์วิส | H34: - คุณสมบัติครบถ้วน | I34: ใบสั่งซื้อ เลขที่ CNTR-0054/63
F35: 7900 | G35: =+F35 -> 7900 | H35: - เสนอราคาไม่เกินวงเงิน | I35: ลว. 22 ม.ค. 63
H36: และงบประมาณ
A37: 11 | B37: จัดซื้อครุภัณฑ์โฆษณาและเผยแพร่โทรทัศน์ LED TV | C37: 28000 | D37: 27800 | E37: เฉพาะเจาะจง | F37: ร้านสิชลคอมพิวเตอร์แอนด์เซอร์วิส | G37: =+F37 -> ร้านสิชลคอมพิวเตอร์แอนด์เซอร์วิส | H37: - คุณสมบัติครบถ้วน | I37: ใบสั่งซื้อ เลขที่ CNTR-0055/63
B38: 2 เครื่อง ศพด.อบต.ฉลอง | F38: 27800 | G38: =+F38 -> 27800 | H38: - เสนอราคาไม่เกินวงเงิน | I38: ลว. 23 ม.ค. 63
H39: และงบประมาณ
A40: 12 | B40: จัดซื้อววัสดุสำนักงาน สำนักงานปลัด | C40: 50000 | D40: 49750 | E40: เฉพาะเจาะจง | F40: ร้านธันยาการต์ธุรกิจ | G40: =+F40 -> ร้านธันยาการต์ธุรกิจ | H40: - คุณสมบัติครบถ้วน | I40: ใบสั่งซื้อ เลขที่ CNTR-0062/63
...

Sheet Sheet2
A1: งบหน้าสรุปผลการพิจารณาการจัดซื้อจัดจ้างขององค์การบริหารส่วนตำบลฉลอง
A2: ประจำเดือนมกราคม 2563
F4: รวมราคาที่พิจารณา | G4: วงเงินต่ำหรือสูง
A5: ลำดับที่ | B5: วิธีการจัดซื้อจัดจ้าง | C5: จำนวนโครงการ | D5: รวมวงเงินที่จัดซื้อจัดจ้าง | E5: รวมราคากลาง | F5: คัดเลือก | G5: กว่าราคากลาง | H5: หมายเหตุ
G6: (+ สูง) (-ต่ำกว่า)
A7: 1 | B7: จัดซื้อโดยวิธีประกาศเชิญชวนทั่วไป | C7: - | D7: - | E7: =+D7 -> - | F7: =+D7 -> - | G7: -
A8: 2 | B8: จัดจ้างโดยวิธีประกาศเชิญชวนทั่วไป | C8: - | D8: - | E8: =+D8 -> - | F8: =+D8 -> - | G8: -
A9: 3 | B9: จัดซื้อโดยวิธีการคัดเลือก | C9: - | D9: - | E9: - | F9: - | G9: -
A10: 4 | B10: จัดจ้างโดยวิธีการคัดเลือก | C10: - | D10: - | E10: =+D10 -> - | F10: =+D10 -> - | G10: -
A11: 5 | B11: จัดซื้อโดยวิธีเฉพาะเจาะจง | C11: 15 | D11: =+มกราคม!C7+มกราคม!C10+มกราคม!C13+มกราคม!C16+มกราคม!C19+มกราคม!C22+มกราคม!C25+มกราคม!C28+มกราคม!C31+มกราคม!C34+มกราคม!C37+มกราคม!C40+มกราคม!C43+มกราคม!C46+มกราคม!C49 -> 366265 | E11: =+มกราคม!D7+มกราคม!D10+มกราคม!D13+มกราคม!D16+มกราคม!D19+มกราคม!D22+มกราคม!D25+มกราคม!D28+มกราคม!D31+มกราคม!D34+มกราคม!D37+มกราคม!D40+มกราคม!D43+มกราคม!D46+มกราคม!D49 -> 354808 | F11: =+E11 -> 354808 | G11: =+D11-E11 -> 11457
A12: 6 | B12: จัดจ้างโดยวิธีเฉพาะเจาะจง | C12: 11 | D12: =+มกราคม!C52+มกราคม!C55+มกราคม!C58+มกราคม!C61+มกราคม!C64+มกราคม!C67+มกราคม!C70+มกราคม!C73+มกราคม!C76+มกราคม!C79+มกราคม!C82 -> 2069657.9 | E12: =+มกราคม!D52+มกราคม!D55+มกราคม!D58+มกราคม!D61+มกราคม!D64+มกราคม!D67+มกราคม!D70+มกราคม!D73+มกราคม!D76+มกราคม!D79+มกราคม!D82 -> 1877607.9 | F12: =+มกราคม!G53+มกราคม!G56+มกราคม!G59+มกราคม!G62+มกราคม!G65+มกราคม!G68+มกราคม!G71+มกราคม!G74+มกราคม!G77+มกราคม!G80+มกราคม!G83 -> 1871607.9 | G12: =+D12-E12 -> 192050
A13: 7 | B13: จัดซื้อโดยวิธีตลาดอิเล็กทรอนิกส์ | C13: - | D13: - | E13: =+D13 -> - | F13: =+E13 -> - | G13: -
A14: 8 | B14: จัดจ้างโดยวิธีตลาดอิเล็กทรอนิกส์ | C14: - | D14: - | E14: - | F14: - | G14: -
A15: 9 | B15: จัดซื้อโดยวิธีประกวดราคาอิเล็กทรอนิกส์ | C15: - | D15: - | E15: - | F15: - | G15: -
A16: 10 | B16: จัดจ้างโดยวิธีประกวดราคาอิเล็กทรอนิกส์ | C16: - | D16: - | E16: - | F16: - | G16: -
B17: ได้นำข้อมูลเกี่ยวกับการจัดซื้อจัดจ้างตามแบบ สขร.๑ ( ประจำเดือนพฤศจิกายน 2562)
B18: เผยแพร่ เมื่อวันที่ 5 กุมภาพันธ์ 2563 โดยวิธีปิดประกาศ และที่เว็บไซต์ www.chalong.go.th
B19: ไม่ได้นำข้อมูลเกี่ยวกับการจัดซื้อจัดจ้างตามแบบ สขร.๑ เผยแพร่ เหตุเพราะ ..........................................................................................
F21: (ลงชื่อ)..................................................ผู้รายงาน
F22: (นางสุมิตรา รักบำรุง)
F23: ปลัดองค์การบริหารส่วนตำบลฉลอง
