Workbook

Sheet Sheet1
A1: สรุปผลการดำเนินการจัดซื้อจัดจ้างในรอบเดือนธันวาคม 2564
A2: องค์การบริหารส่วนตำบลฉลอง อำเภอสิชล จังหวัดนครศรีธรรมราช
A3: วันที่ 4 เดือน มกราคม พ.ศ. 2565
A4: ลำดับ | B4: งานที่จัดซื้อหรือจัดจ้าง | C4: วงเงินที่จะซื้อ | D4: ราคากลาง | E4: วิธีซื้อหรือจ้าง | F4: รายชื่อผู้เสนอราคา | G4: ผู้ได้รับการคัดเลือกและราคาที่ | H4: เหตุผลที่คัดเลือกโดยสรุป | I4: เลขที่และวันที่ของสัญญา
A5: ที่ | F5: และราคาที่เสนอ | G5: ตกลงซื้อหรือจ้าง | I5: หรือข้อตกลงในการซื้อ
C6: หรือจ้าง | I6: หรือจ้าง
A7: 1 | B7: ซื้อวัสดุก่อสร้าง หินคลุก จำนวน 500 ลบ.ม. และ หินท้ายราง | C7: 275525 | D7: 275525 | E7: เฉพาะเจาะจง | F7: หจก.จิตติภัณฑ์ วัสดุก่อสร้าง | G7: =+F7 -> หจก.จิตติภัณฑ์ วัสดุก่อสร้าง | H7: - คุณสมบัติครบถ้วน | I7: ใบสั่งซื้อ เลขที่ CNTR-00039/65
B8: 200 ลบ.ม. | F8: 275525 | G8: =+F8 -> 275525 | H8: - เสนอราคาไม่เกินวงเงิน | I8: ลว. 20 ธ.ค. 64
H9: และงบประมาณ
A10: 2 | B10: ซื้อครุภัณฑ์สำนักงาน เก้าอี้สำนักงาน จำนวน 6 ตัว | C10: 24000 | D10: 23400 | E10: =+E7 -> เฉพาะเจาะจง | F10: บริษัท ป.รุ่งโรจน์ วินเนอร์ จำกัด | G10: =+F10 -> บริษัท ป.รุ่งโรจน์ วินเนอร์ จำกัด | H10: - คุณสมบัติครบถ้วน | I10: ใบสั่งซื้อ เลขที่ CNTR-00040/65
F11: 23400 | G11: =+F11 -> 23400 | H11: - เสนอราคาไม่เกินวงเงิน | I11: ลว. 22 ธ.ค. 64
H12: และงบประมาณ
A13: 3 | B13: จ้างทำป้ายประชาสัมพันธ์การจัดเก็บภาษีประจำปี 2565 | C13: 4248 | D13: 4248 | E13: เฉพาะเจาะจง | F13: สุดภูธร ไวนิล แอนด์ สติกเกอร์ | G13: =+F13 -> สุดภูธร ไวนิล แอนด์ สติกเกอร์ | H13: - คุณสมบัติครบถ้วน | I13: ใบสั่งจ้าง เลขที่ CNTR-00037/65
F14: 4248 | G14: =+F14 -> 4248 | H14: - เสนอราคาไม่เกินวงเงิน | I14: ลว. 14 ธ.ค. 64
H15: และงบประมาณ
A16: 4 | B16: จ้างบรืการตรวจเช็คและซ่อมแซมรถยนต์ส่วนกลาง หมายเลข | C16: 11000 | D16: 10500 | E16: เฉพาะเจาะจง | F16: หจก.เอส.ซี.ไทร์ | G16: =+F16 -> หจก.เอส.ซี.ไทร์ | H16: - คุณสมบัติครบถ้วน | I16: ใบสั่งจ้าง เลขที่ CNTR-00041/65
B17: ทะเบียน กง 9261 นศ | F17: 10500 | G17: =+F17 -> 10500 | H17: - เสนอราคาไม่เกินวงเงิน | I17: ลว. 22 ธ.ค. 64
H18: และงบประมาณ
A19: 5 | B19: จ้างทำป้ายประชาสัมพันธ์โครงการป้องกันและลดอุบัติหตุทางถนน | C19: 450 | D19: 450 | E19: เฉพาะเจาะจง | F19: สุดภูธร ไวนิล แอนด์ สติกเกอร์ | G19: =+F19 -> สุดภูธร ไวนิล แอนด์ สติกเกอร์ | H19: - คุณสมบัติครบถ้วน | I19: ใบสั่งจ้าง เลขที่ CNTR-00042/65
B20: ช่วงเทศกาลปีใหม่ | F20: 450 | G20: =+F20 -> 450 | H20: - เสนอราคาไม่เกินวงเงิน | I20: ลว. 28 ธ.ค. 64
H21: และงบประมาณ
A22: 6 | B22: ซื้อโครงการติดตั้งกล้องโทรทัศน์วงจรปิด CCTV หมู่ที่ 5 บ้าน | C22: 441000 | D22: 441000 | E22: เฉพาะเจาะจง | F22: บริษัท ไฮเทคนคร กรุ๊ป จำกัด | G22: =+F22 -> บริษัท ไฮเทคนคร กรุ๊ป จำกัด | H22: - คุณสมบัติครบถ้วน | I22: สัญญาซื้อ เลขที่ CNTR-00038/65
B23: ในดอน | F23: 441000 | G23: =+F23 -> 441000 | H23: - เสนอราคาไม่เกินวงเงิน | I23: ลว. 15 ธ.ค. 64
H24: และงบประมาณ

Sheet Sheet2
A1: งบหน้าสรุปผลการพิจารณาการจัดซื้อจัดจ้างขององค์การบริหารส่วนตำบลฉลอง
A2: ประจำเดือนธันวาคม 2564
F4: รวมราคาที่พิจารณา | G4: วงเงินต่ำหรือสูง
A5: ลำดับที่ | B5: วิธีการจัดซื้อจัดจ้าง | C5: จำนวนโครงการ | D5: รวมวงเงินที่จัดซื้อจัดจ้าง | E5: รวมราคากลาง | F5: คัดเลือก | G5: กว่าราคากลาง | H5: หมายเหตุ
G6: (+ สูง) (-ต่ำกว่า)
A7: 1 | B7: จัดซื้อโดยวิธีประกาศเชิญชวนทั่วไป | C7: - | D7: - | E7: =+D7 -> - | F7: =+D7 -> - | G7: -
A8: 2 | B8: จัดจ้างโดยวิธีประกาศเชิญชวนทั่วไป | C8: - | D8: - | E8: =+D8 -> - | F8: =+D8 -> - | G8: -
A9: 3 | B9: จัดซื้อโดยวิธีการคัดเลือก | C9: - | D9: - | E9: - | F9: - | G9: -
A10: 4 | B10: จัดจ้างโดยวิธีการคัดเลือก | C10: - | D10: - | E10: - | F10: - | G10: -
A11: 5 | B11: จัดซื้อโดยวิธีเฉพาะเจาะจง | C11: 3 | D11: =+Sheet1!C7+Sheet1!C10+Sheet1!C22 -> 740525 | E11: =+Sheet1!D7+Sheet1!D10+Sheet1!D22 -> 739925 | F11: =+Sheet1!G8+Sheet1!G11+Sheet1!G23 -> 739925 | G11: =+D11-E11 -> 600
A12: 6 | B12: จัดจ้างโดยวิธีเฉพาะเจาะจง | C12: 3 | D12: =+Sheet1!C13+Sheet1!C16+Sheet1!C19 -> 15698 | E12: =+Sheet1!D13+Sheet1!D16+Sheet1!D19 -> 15198 | F12: =+Sheet1!G14+Sheet1!G17+Sheet1!G20 -> 15198 | G12: =+D12-E12 -> 500
A13: 7 | B13: จัดซื้อโดยวิธีตลาดอิเล็กทรอนิกส์ | C13: - | D13: - | E13: =+D13 -> - | F13: =+E13 -> - | G13: -
A14: 8 | B14: จัดจ้างโดยวิธีตลาดอิเล็กทรอนิกส์ | C14: - | D14: - | E14: - | F14: - | G14: -
A15: 9 | B15: จัดซื้อโดยวิธีประกวดราคาอิเล็กทรอนิกส์ | C15: - | D15: - | E15: - | F15: - | G15: -
A16: 10 | B16: จัดจ้างโดยวิธีประกวดราคาอิเล็กทรอนิกส์ | C16: - | D16: - | E16: - | F16: - | G16: -
B17: ได้นำข้อมูลเกี่ยวกับการจัดซื้อจัดจ้างตามแบบ สขร.๑ ( ประจำเดือนธันวาคม 2564)
B18: เผยแพร่ เมื่อวันที่ 4 มกราคม 2565 โดยวิธีปิดประกาศ และที่เว็บไซต์ www.chalong.go.th
B19: ไม่ได้นำข้อมูลเกี่ยวกับการจัดซื้อจัดจ้างตามแบบ สขร.๑ เผยแพร่ เหตุเพราะ ..........................................................................................
F21: (ลงชื่อ)..................................................ผู้รายงาน
F22: (นางสุมิตรา รักบำรุง)
F23: ปลัดองค์การบริหารส่วนตำบลฉลอง
