Workbook

Sheet Sheet1
A1: สรุปผลการดำเนินการจัดซื้อจัดจ้างในรอบเดือนกันยายน 2566
A2: องค์การบริหารส่วนตำบลฉลอง อำเภอสิชล จังหวัดนครศรีธรรมราช
A3: วันที่ 3 เดือน ตุลาคม พ.ศ. 2566
A4: ลำดับ | B4: งานที่จัดซื้อหรือจัดจ้าง | C4: วงเงินที่จะซื้อ | D4: ราคากลาง | E4: วิธีซื้อหรือจ้าง | F4: รายชื่อผู้เสนอราคา | G4: ผู้ได้รับการคัดเลือกและราคาที่ | H4: เหตุผลที่คัดเลือกโดยสรุป | I4: เลขที่และวันที่ของสัญญา
A5: ที่ | F5: และราคาที่เสนอ | G5: ตกลงซื้อหรือจ้าง | I5: หรือข้อตกลงในการซื้อ
C6: หรือจ้าง | I6: หรือจ้าง
A7: 1 | B7: ซื้อวัสดุก่อสร้างเพื่อซ่อมแซมระบบประปาหมู่บ้าน หมู่ที่ 6 | C7: 28100 | D7: 28100 | E7: เฉพาะเจาะจง | F7: สิชลการไฟฟ้า | G7: =+F7 -> สิชลการไฟฟ้า | H7: - คุณสมบัติครบถ้วน | I7: ใบสั่งซื้อ เลขที่ CNTR-00183/66
F8: 28100 | G8: =+F8 -> 28100 | H8: - เสนอราคาไม่เกินวงเงิน | I8: ลว. 1 ก.ย. 66
H9: และงบประมาณ
A10: 2 | B10: ซื้อวัสดุเชื้อเพลิงและหล่อลื่นสำหรับรถตักหน้า-ขุดหลัง | C10: 4950 | D10: 4950 | E10: =+E7 -> เฉพาะเจาะจง | F10: อนันชัยสิชลกลการ | G10: =+F10 -> อนันชัยสิชลกลการ | H10: - คุณสมบัติครบถ้วน | I10: ใบสั่งซื้อ เลขที่ CNTR-00184/66
F11: 4950 | G11: =+F11 -> 4950 | H11: - เสนอราคาไม่เกินวงเงิน | I11: ลว. 1 ก.ย. 66
H12: และงบประมาณ
A13: 3 | B13: ซื้อวัสดุงานบ้านงานครัว | C13: 8200 | D13: 8095 | E13: เฉพาะเจาะจง | F13: ธันยาการต์ธุรกิจ | G13: =+F13 -> ธันยาการต์ธุรกิจ | H13: - คุณสมบัติครบถ้วน | I13: ใบสั๋งซื้อ เลขที่ CNTR-00188/66
F14: 8095 | G14: =+F14 -> 8095 | H14: - เสนอราคาไม่เกินวงเงิน | I14: ลว. 8 ก.ย. 66
H15: และงบประมาณ
A16: 4 | B16: ซื้อวัสดุก่อสร้าง หินคลุกและหินท้ายราง | C16: 214010.17 | D16: 214010.17 | E16: เฉพาะเจาะจง | F16: สองพี่น้องซีแพค | G16: =+F16 -> สองพี่น้องซีแพค | H16: - คุณสมบัติครบถ้วน | I16: ใบสั่งซื้อ เลขที่ CNTR-00189/66
F17: 214010.17 | G17: =+F17 -> 214010.17 | H17: - เสนอราคาไม่เกินวงเงิน | I17: ลว. 11 ก.ย. 66
H18: และงบประมาณ
A19: 5 | B19: ซื้อวัสดุไฟฟ้า จำนวน 12 รายการ | C19: 10030 | D19: 10030 | E19: เฉพาะเจาะจง | F19: สิชลการไฟฟ้า | G19: =+F19 -> สิชลการไฟฟ้า | H19: - คุณสมบัติครบถ้วน | I19: ใบสั่งซื้อ เลขที่ CNTR-00191/66
F20: 10030 | G20: =+F20 -> 10030 | H20: - เสนอราคาไม่เกินวงเงิน | I20: ลว 12 ก.ย. 66
H21: และงบประมาณ
A22: 6 | B22: ซื้อครุภัณฑ์สำนักงาน (เก้าอี้พักคอย) | C22: 25500 | D22: 25500 | E22: เฉพาะเจาะจง | F22: บ.เมเจอร์ เฟอร์นิเจอร์ มอลล์ 2012 จำกัด | G22: =+F22 -> บ.เมเจอร์ เฟอร์นิเจอร์ มอลล์ 2012 จำกัด | H22: - คุณสมบัติครบถ้วน | I22: ใบสั่งซื้อ เลขที่ CNTR-00193/66
F23: 25500 | G23: =+F23 -> 25500 | H23: - เสนอราคาไม่เกินวงเงิน | I23: ลว 12 ก.ย. 66
H24: และงบประมาณ
A25: 7 | B25: ซื้อครุภัณฑ์สำนักงาน (บอร์ดประชาสัมพันธ์) | C25: 8500 | D25: 8500 | E25: เฉพาะเจาะจง | F25: บ.เมเจอร์ เฟอร์นิเจอร์ มอลล์ 2012 จำกัด | G25: =+F25 -> บ.เมเจอร์ เฟอร์นิเจอร์ มอลล์ 2012 จำกัด | H25: - คุณสมบัติครบถ้วน | I25: ใบสั่งซื้อ เลขที่ CNTR-00194/66
F26: 8500 | G26: =+F26 -> 8500 | H26: - เสนอราคาไม่เกินวงเงิน | I26: ลว 12 ก.ย. 66
H27: และงบประมาณ
A28: 8 | B28: ซื้อวัสดุสำนักงาน สำนักงานปลัด จำนวน 14 รายการ | C28: 25000 | D28: 24310 | E28: เฉพาะเจาะจง | F28: ธันยาการต์ธุรกิจ | G28: =+F28 -> ธันยาการต์ธุรกิจ | H28: - คุณสมบัติครบถ้วน | I28: ใบสั่งซื้อ เลขที่ CNTR-00195/66
F29: 24310 | G29: =+F29 -> 24310 | H29: - เสนอราคาไม่เกินวงเงิน | I29: ลว 12 ก.ย. 66
H30: และงบประมาณ
A31: 9 | B31: ซื้อวัสดุสำนักงาน กองคลัง จำนวน 19 รายการ | C31: 26837 | D31: 26837 | E31: เฉพาะเจาะจง | F31: ธันยาการต์ธุรกิจ | G31: =+F31 -> ธันยาการต์ธุรกิจ | H31: - คุณสมบัติครบถ้วน | I31: ใบสั่งซื้อ เลขที่ CNTR-00196/66
F32: 26837 | G32: =+F32 -> 26837 | H32: - เสนอราคาไม่เกินวงเงิน | I32: ลว 12 ก.ย. 66
H33: และงบประมาณ
A34: 10 | B34: ซื้อเครื่องวัดความดันสำหรับโครงการอบรมหมอหมู่บ้านในพระ | C34: 110000 | D34: 110000 | E34: เฉพาะเจาะจง | F34: นครอุปกรณ์การแพทย์ | G34: =+F34 -> นครอุปกรณ์การแพทย์ | H34: - คุณสมบัติครบถ้วน | I34: ใบสั่งซื้อ เลขที่ CNTR-00202/66
B35: ราชประสงค์ | F35: 110000 | G35: =+F35 -> 110000 | H35: - เสนอราคาไม่เกินวงเงิน | I35: ลว 19 ก.ย. 66
H36: และงบประมาณ
A37: 11 | B37: ซื้อกระเป๋าและเครี่องเขียนสำหรับโครงการอบรมหมอหมู่บ้านใน | C37: 3300 | D37: 3300 | E37: เฉพาะเจาะจง | F37: ธันยาการต์ธุรกิจ | G37: =+F37 -> ธันยาการต์ธุรกิจ | H37: - คุณสมบัติครบถ้วน | I37: ใบสั่งซื้อ เลขที่ CNTR-00203/66
B38: พระราชประสงค์ (โครงการพระราชดำริด้านสาธารณสุข) | F38: 3300 | G38: =+F38 -> 3300 | H38: - เสนอราคาไม่เกินวงเงิน | I38: ลว 19 ก.ย. 66
H39: และงบประมาณ
A40: 12 | B40: ซื้อวัสดุสำนนักงาน สำนักปลัด จำนวน 6 รายการ | C40: 10000 | D40: 9060 | E40: เฉพาะเจาะจง | F40: ธันยาการต์ธุรกิจ | G40: =+F40 -> ธันยาการต์ธุรกิจ | H40: - คุณสมบัติครบถ้วน | I40: ใบสั่งซื้อ เลขที่ CNTR-00207/66
F41: 9060 | G41: =+F41 -> 9060 | H41: - เสนอราคาไม่เกินวงเงิน | I41: ลว 21 ก.ย. 66
H42: และงบประมาณ
A43: 13 | B43: ซื้อวัสดุงานบ้านงานครัว จำนวน 11 รายการ | C43: 13500 | D43: 13160 | E43: เฉพาะเจาะจง | F43: ธันยาการต์ธุรกิจ | G43: =+F43 -> ธันยาการต์ธุรกิจ | H43: - คุณสมบัติครบถ้วน | I43: ใบสั่งซื้อ เลขที่ CNTR-00208/66
F44: 13160 | G44: =+F44 -> 13160 | H44: - เสนอราคาไม่เกินวงเงิน | I44: ลว 21 ก.ย. 66
H45: และงบประมาณ
A46: 14 | B46: ซื้อครุภัณฑ์สำนักงาน (เครื่องปรับอากาศแบบแยกส่วน แบบแขวน | C46: 112500 | D46: 112500 | E46: เฉพาะเจาะจง | F46: สัมฤทธิ์ สิชลแอร์ แอ่น เซอร์วิส | G46: =+F46 -> สัมฤทธิ์ สิชลแอร์ แอ่น เซอร์วิส | H46: - คุณสมบัติครบถ้วน | I46: ใบสั่งซื้อ เลขที่ CNTR-00209/66
B47: ขนาด 36,000 บีทียู พร้อมติดตั้ง และเครื่องปรับอากาศแบบติด | F47: 112500 | G47: =+F47 -> 112500 | H47: - เสนอราคาไม่เกินวงเงิน | I47: ลว 22 ก.ย. 66
B48: ผนัง ขนาด 18,000 บีทียู พร้อมติดตั้ง) | H48: และงบประมาณ
A49: 15 | B49: จ้างตรวจเช็ค-ซ่อมแซมรถตักหน้า-ขุดหลัง | C49: 5000 | D49: 5000 | E49: เฉพาะเจาะจง | F49: อนันชัยสิชลกลการ | G49: =+F49 -> อนันชัยสิชลกลการ | H49: - คุณสมบัติครบถ้วน | I49: ใบสั่งจ้าง เลขที่ CNTR-00185/66
F50: 5000 | G50: =+F50 -> 5000 | H50: - เสนอราคาไม่เกินวงเงิน | I50: ลว 1 ก.ย. 66
H51: และงบประมาณ
A52: 16 | B52: จ้างตรวจเช็ค และซ่อมแซมรถบรรทุกน้ำเอนกประสงค์ หมายเลข | C52: 8500 | D52: 8360 | E52: เฉพาะเจาะจง | F52: นายสำเริง เต็งทอง | G52: =+F52 -> นายสำเริง เต็งทอง | H52: - คุณสมบัติครบถ้วน | I52: ใบสั่งจ้าง เลขที่ CNTR-00186/66
B53: ทะบียน 81-4247 นศ | F53: 8360 | G53: =+F53 -> 8360 | H53: - เสนอราคาไม่เกินวงเงิน | I53: ลว 1 ก.ย. 66
H54: และงบประมาณ
A55: 17 | B55: จ้างจัดทำป้ายประชาสัมพันธ์โครงการอบรมเชิงปฏิบัติการเพิ่มประ | C55: 500 | D55: 450 | E55: เฉพาะเจาะจง | F55: สิชลโฆษณา | G55: =+F55 -> สิชลโฆษณา | H55: - คุณสมบัติครบถ้วน | I55: ใบสั่งจ้าง เลขที่ CNTR-00190/66
B56: สิทธิภาพบุคลากรขององค์การบริหารส่วนตำบลฉลอง ประจำปีงบ | F56: 450 | G56: =+F56 -> 450 | H56: - เสนอราคาไม่เกินวงเงิน | I56: ลว 12 ก.ย. 66
B57: ประมาณ พ.ศ.2566 | H57: และงบประมาณ
A58: 18 | B58: จ้างเปลี่ยนระบบกุญแจล้อคประตูอาคารสำนักงาน | C58: 6000 | D58: 6000 | E58: เฉพาะเจาะจง | F58: ช่อพระนาย ดรีมโฮม | G58: =+F58 -> ช่อพระนาย ดรีมโฮม | H58: - คุณสมบัติครบถ้วน | I58: ใบสั่งจ้าง เลขที่ CNTR-00192/66
F59: 6000 | G59: =+F59 -> 6000 | H59: - เสนอราคาไม่เกินวงเงิน | I59: ลว 12 ก.ย. 66
H60: และงบประมาณ
A61: 19 | B61: จ้างซักผ้าม่าน ม่านปรับแสงอาคารห้องประชุมและอาคารสำนักงาน | C61: 6800 | D61: 6800 | E61: เฉพาะเจาะจง | F61: เพ็ญนภาผ้าม่าน | G61: =+F61 -> เพ็ญนภาผ้าม่าน | H61: - คุณสมบัติครบถ้วน | I61: ใบสั่งจ้าง เลขที่ CNTR-00197/66
B62: อบต.ฉลอง | F62: 6800 | G62: =+F62 -> 6800 | H62: - เสนอราคาไม่เกินวงเงิน | I62: ลว 14 ก.ย. 66
H63: และงบประมาณ
A64: 20 | B64: จ้างจัดทำป้ายประชาสัมพันธ์โครงการควบคุมโรคขาดสารไอโอดีน | C64: 9900 | D64: 9900 | E64: เฉพาะเจาะจง | F64: สิชลโฆษณา | G64: =+F64 -> สิชลโฆษณา | H64: - คุณสมบัติครบถ้วน | I64: ใบสั่งจ้าง เลขที่ CNTR-00199/66
B65: อบต.ฉลอง ของสมเด็จพระเทพรัตนราชสุดาฯ สยามบรมราชกุมารี | F65: 9900 | G65: =+F65 -> 9900 | H65: - เสนอราคาไม่เกินวงเงิน | I65: ลว 19 ก.ย. 66
B66: (โครวการพระราชดำริด้านสาธารณสุข) | H66: และงบประมาณ
A67: 21 | B67: จ้างจัดทำป้ายประชาสัมพันธ์โครงการควบคุมโรคหนอนพยาธิ ของ | C67: 9900 | D67: 9900 | E67: เฉพาะเจาะจง | F67: สิชลโฆษณา | G67: =+F67 -> สิชลโฆษณา | H67: - คุณสมบัติครบถ้วน | I67: ใบสั่งจ้าง เลขที่ CNTR-00200/66
B68: สมเด็จพระเทพรัตนราชสุดาฯ สยามบรมราชกุมารี (โครงการพระราช | F68: 9900 | G68: =+F68 -> 9900 | H68: - เสนอราคาไม่เกินวงเงิน | I68: ลว 19 ก.ย. 66
B69: ดำริด้านสาธารณสุข) | H69: และงบประมาณ
A70: 22 | B70: จ้างจัดทำป้ายประชาสัมพันธืโครงการอบรมหมอหมุ่บ้านในพระราช | C70: 450 | D70: 450 | E70: เฉพาะเจาะจง | F70: สิชลโฆษณา | G70: =+F70 -> สิชลโฆษณา | H70: - คุณสมบัติครบถ้วน | I70: ใบสั่งจ้าง เลขที่ CNTR-00201/66
B71: ประสงค์ (โครงการพระราชดำริด้านสาธารณสุข) | F71: 450 | G71: =+F71 -> 450 | H71: - เสนอราคาไม่เกินวงเงิน | I71: ลว 19 ก.ย. 66
H72: และงบประมาณ
A73: 23 | B73: จ้างติดตั้งกระจกมองทางแยกโค้ง จำนวน 30 จุด | C73: 200000 | D73: 186180 | E73: เฉพาะเจาะจง | F73: บริษัท รุ่งกิจกธนาทรัพย์ จำกัด | G73: =+F73 -> บริษัท รุ่งกิจกธนาทรัพย์ จำกัด | H73: - คุณสมบัติครบถ้วน | I73: ใบสั่งจ้าง เลขที่ CNTR-00205/66
F74: 186180 | G74: =+F74 -> 186180 | H74: - เสนอราคาไม่เกินวงเงิน | I74: ลว 19 ก.ย. 66
H75: และงบประมาณ
A76: 24 | B76: จ้างตรวจเช็คและซ่อมแซมรถยนต์ส่วนกลาง หมายเลขทะเบียน | C76: 4500 | D76: 4050 | E76: เฉพาะเจาะจง | F76: นายสำเริง เต็งทอง | G76: =+F76 -> นายสำเริง เต็งทอง | H76: - คุณสมบัติครบถ้วน | I76: ใบสั่งจ้าง เลขที่ CNTR-00206/66
B77: กง 9261 นศ | F77: 4050 | G77: =+F77 -> 4050 | H77: - เสนอราคาไม่เกินวงเงิน | I77: ลว 19 ก.ย. 66
H78: และงบประมาณ
A79: 25 | B79: จ้างถ่ายเอกสาร,เย็บเข้าเล่ม,ส่งแฟ็กซ์,และงานต่าง ๆ ตามความจำ | C79: 5100 | D79: 5070 | E79: เฉพาะเจาะจง | F79: สิชล ก๊อปปี้ | G79: =+F79 -> สิชล ก๊อปปี้ | H79: - คุณสมบัติครบถ้วน | I79: ใบสั่งจ้าง เลขที่ CNTR-00210/66
B80: เป็นต้องใช้และเกี่ยวข้องกับงานในสำนักงาน ของ อบต.ฉลอง | F80: 5070 | G80: =+F80 -> 5070 | H80: - เสนอราคาไม่เกินวงเงิน | I80: ลว 22 ก.ย. 66
H81: และงบประมาณ
A82: 26 | B82: จ้างเหมาปรับปรุง/บำรุงรักษาระบบไฟฟ้า สำนักงาน องค์การบริหาร | C82: 85180 | D82: 85180 | E82: เฉพาะเจาะจง | F82: นายเชาวลิต เศษเพชร | G82: =+F82 -> นายเชาวลิต เศษเพชร | H82: - คุณสมบัติครบถ้วน | I82: ใบสั่งจ้าง เลขที่ CNTR-00211/66
B83: ส่วนตำบลฉลอง | F83: 85180 | G83: =+F83 -> 85180 | H83: - เสนอราคาไม่เกินวงเงิน | I83: ลว 22 ก.ย. 66
H84: และงบประมาณ
A85: 27 | B85: จ้างเครื่องจักร รถแบ็คโอ ปรับปรุงถนนสาธารณะสายเขากลาง | C85: 223000 | D85: 223000 | E85: เฉพาะเจาะจง | F85: นางสุวรรณี เพชรเศษ | G85: =+F85 -> นางสุวรรณี เพชรเศษ | H85: - คุณสมบัติครบถ้วน | I85: ใบสั่งจ้าง เลขที่ CNTR-00198/66
B86: หมุ่ที่ 5 | F86: 223000 | G86: =+F86 -> 223000 | H86: - เสนอราคาไม่เกินวงเงิน | I86: ลว 19 ก.ย. 66
H87: และงบประมาณ
A88: 28 | B88: จ้างก่อสร้างโครงการก่อสร้างถนนคอนกรีตเสริมเหล็กรหัสทางหลวง | C88: 3452583.4 | D88: 3641721.8 | E88: เฉพาะเจาะจง | F88: หจก.จิตติภัณฑ์ ก่อสร้าง | G88: =+F88 -> หจก.จิตติภัณฑ์ ก่อสร้าง | H88: - คุณสมบัติครบถ้วน | I88: ใบสั่งจ้าง เลขที่ CNTR-00187/66
B89: ท้องถิ่น นศ ถ 75-058 สายม่วงทอง หมู่ที่ 5 บ้านในดอน | F89: 2219997 | G89: =+F89 -> 2219997 | H89: - เสนอราคาไม่เกินวงเงิน | I89: ลว 19 ก.ย. 66
B90: ตำบลฉลอง | H90: และงบประมาณ
F91: หจก.นครพงษ์ภัณฑ์การโยธา
F92: 2460000
F94: หจก.นครบุญรัตน์ ธุรกิจ
F95: 2580000
F97: หจก.ชัยวัฒนาการก่อสร้าง
F98: 3380000
F100: หจก.ท่าพญา การสร้าง
F101: 3153416
F103: หจก.วังศิลา ณ นคร คอนกรีต
F104: 2900000
...

Sheet Sheet2
A1: งบหน้าสรุปผลการพิจารณาการจัดซื้อจัดจ้างขององค์การบริหารส่วนตำบลฉลอง
A2: ประจำเดือนกันยายน 2566
F4: รวมราคาที่พิจารณา | G4: วงเงินต่ำหรือสูง
A5: ลำดับที่ | B5: วิธีการจัดซื้อจัดจ้าง | C5: จำนวนโครงการ | D5: รวมวงเงินที่จัดซื้อจัดจ้าง | E5: รวมราคากลาง | F5: คัดเลือก | G5: กว่าราคากลาง | H5: หมายเหตุ
G6: (+ สูง) (-ต่ำกว่า)
A7: 1 | B7: จัดซื้อโดยวิธีประกาศเชิญชวนทั่วไป | C7: - | D7: - | E7: =+D7 -> - | F7: =+D7 -> - | G7: -
A8: 2 | B8: จัดจ้างโดยวิธีประกาศเชิญชวนทั่วไป | C8: - | D8: - | E8: =+D8 -> - | F8: =+D8 -> - | G8: -
A9: 3 | B9: จัดซื้อโดยวิธีการคัดเลือก | C9: - | D9: - | E9: - | F9: - | G9: -
A10: 4 | B10: จัดจ้างโดยวิธีการคัดเลือก | C10: - | D10: - | E10: - | F10: - | G10: -
A11: 5 | B11: จัดซื้อโดยวิธีเฉพาะเจาะจง | C11: 14 | D11: =+Sheet1!C7+Sheet1!C10+Sheet1!C13+Sheet1!C16+Sheet1!C19+Sheet1!C22+Sheet1!C25+Sheet1!C28+Sheet1!C31+Sheet1!C34+Sheet1!C37+Sheet1!C40+Sheet1!C43+Sheet1!C46 -> 600427.17 | E11: =+Sheet1!D7+Sheet1!D10+Sheet1!D13+Sheet1!D16+Sheet1!D19+Sheet1!D22+Sheet1!D25+Sheet1!D28+Sheet1!D31+Sheet1!D34+Sheet1!D37+Sheet1!D40+Sheet1!D43+Sheet1!D46 -> 598352.17 | F11: =+Sheet1!G8+Sheet1!G11+Sheet1!G14+Sheet1!G17+Sheet1!G20+Sheet1!G23+Sheet1!G26+Sheet1!G29+Sheet1!G32+Sheet1!G35+Sheet1!G38+Sheet1!G41+Sheet1!G44+Sheet1!G47 -> 598352.17 | G11: =+D11-E11 -> 2075
A12: 6 | B12: จัดจ้างโดยวิธีเฉพาะเจาะจง | C12: 13 | D12: =+Sheet1!C49+Sheet1!C52+Sheet1!C55+Sheet1!C58+Sheet1!C61+Sheet1!C64+Sheet1!C67+Sheet1!C70+Sheet1!C73+Sheet1!C76+Sheet1!C79+Sheet1!C82+Sheet1!C85 -> 564830 | E12: =+Sheet1!D49+Sheet1!D52+Sheet1!D55+Sheet1!D58+Sheet1!D61+Sheet1!D64+Sheet1!D67+Sheet1!D70+Sheet1!D73+Sheet1!D76+Sheet1!D79+Sheet1!D82+Sheet1!D85 -> 550340 | F12: =+Sheet1!G50+Sheet1!G53+Sheet1!G56+Sheet1!G59+Sheet1!G62+Sheet1!G65+Sheet1!G68+Sheet1!G71+Sheet1!G74+Sheet1!G77+Sheet1!G80+Sheet1!G83+Sheet1!G86 -> 550340 | G12: =+D12-E12 -> 14490
A13: 7 | B13: จัดซื้อโดยวิธีตลาดอิเล็กทรอนิกส์ | C13: - | D13: - | E13: =+D13 -> - | F13: =+E13 -> - | G13: -
A14: 8 | B14: จัดจ้างโดยวิธีตลาดอิเล็กทรอนิกส์ | C14: - | D14: - | E14: =+D14 -> - | F14: =+E14 -> - | G14: -
A15: 9 | B15: จัดซื้อโดยวิธีประกวดราคาอิเล็กทรอนิกส์ | C15: - | D15: - | E15: - | F15: - | G15: -
A16: 10 | B16: จัดจ้างโดยวิธีประกวดราคาอิเล็กทรอนิกส์ | C16: 1 | D16: =+Sheet1!C88 -> 3452583.4 | E16: =+Sheet1!D88 -> 3641721.8 | F16: =+Sheet1!G89 -> 2219997 | G16: =+D16-E16 -> -189138.42
B17: ได้นำข้อมูลเกี่ยวกับการจัดซื้อจัดจ้างตามแบบ สขร.๑ ( ประจำเดือนกันยายน 2566)
B18: เผยแพร่ เมื่อวันที่ 3 ตุลาคม 2566 โดยวิธีปิดประกาศ และที่เว็บไซต์ www.chalong.go.th
B19: ไม่ได้นำข้อมูลเกี่ยวกับการจัดซื้อจัดจ้างตามแบบ สขร.๑ เผยแพร่ เหตุเพราะ ..........................................................................................
E21: (ลงชื่อ)..................................................ผู้รายงาน
E22: (นางสุมิตรา รักบำรุง)
E23: ปลัดองค์การบริหารส่วนตำบลฉลอง

Sheet Sheet3

Sheet Sheet4
