Workbook

Sheet Sheet1
A1: สรุปผลการดำเนินการจัดซื้อจัดจ้างในรอบเดือนกันยายน 2566
A2: องค์การบริหารส่วนตำบลฉลอง อำเภอสิชล จังหวัดนครศรีธรรมราช
A3: วันที่ 3 เดือน ตุลาคม พ.ศ. 2566
A4: ลำดับ | B4: งานที่จัดซื้อหรือจัดจ้าง | C4: วงเงินที่จะซื้อ | D4: ราคากลาง | E4: วิธีซื้อหรือจ้าง | F4: รายชื่อผู้เสนอราคา | G4: ผู้ได้รับการคัดเลือกและราคาที่ | H4: เหตุผลที่คัดเลือกโดยสรุป | I4: เลขที่และวันที่ของสัญญา
A5: ที่ | F5: และราคาที่เสนอ | G5: ตกลงซื้อหรือจ้าง | I5: หรือข้อตกลงในการซื้อ
C6: หรือจ้าง | I6: หรือจ้าง
A7: 1 | B7: ซื้อวัสดุก่อสร้างเพื่อซ่อมแซมระบบประปาหมู่บ้าน หมู่ที่ 6 | C7: 28100 | D7: 28100 | E7: เฉพาะเจาะจง | F7: สิชลการไฟฟ้า | G7: =+F7 -> สิชลการไฟฟ้า | H7: - คุณสมบัติครบถ้วน | I7: ใบสั่งซื้อ เลขที่ CNTR-00183/66
F8: 28100 | G8: =+F8 -> 28100 | H8: - เสนอราคาไม่เกินวงเงิน | I8: ลว. 1 ก.ย. 66
H9: และงบประมาณ
A10: 2 | B10: ซื้อวัสดุเชื้อเพลิงและหล่อลื่นสำหรับรถตักหน้า-ขุดหลัง | C10: 4950 | D10: 4950 | E10: =+E7 -> เฉพาะเจาะจง | F10: อนันชัยสิชลกลการ | G10: =+F10 -> อนันชัยสิชลกลการ | H10: - คุณสมบัติครบถ้วน | I10: ใบสั่งซื้อ เลขที่ CNTR-00184/66
F11: 4950 | G11: =+F11 -> 4950 | H11: - เสนอราคาไม่เกินวงเงิน | I11: ลว. 1 ก.ย. 66
H12: และงบประมาณ
A13: 3 | B13: ซื้อวัสดุงานบ้านงานครัว | C13: 8200 | D13: 8095 | E13: เฉพาะเจาะจง | F13: ธันยาการต์ธุรกิจ | G13: =+F13 -> ธันยาการต์ธุรกิจ | H13: - คุณสมบัติครบถ้วน | I13: ใบสั๋งซื้อ เลขที่ CNTR-00188/66
F14: 8095 | G14: =+F14 -> 8095 | H14: - เสนอราคาไม่เกินวงเงิน | I14: ลว. 8 ก.ย. 66
H15: และงบประมาณ
A16: 4 | B16: ซื้อวัสดุก่อสร้าง หินคลุกและหินท้ายราง | C16: 214010.17 | D16: 214010.17 | E16: เฉพาะเจาะจง | F16: สองพี่น้องซีแพค | G16: =+F16 -> สองพี่น้องซีแพค | H16: - คุณสมบัติครบถ้วน | I16: ใบสั่งซื้อ เลขที่ CNTR-00189/66
F17: 214010.17 | G17: =+F17 -> 214010.17 | H17: - เสนอราคาไม่เกินวงเงิน | I17: ลว. 11 ก.ย. 66
H18: และงบประมาณ
A19: 5 | B19: ซื้อวัสดุไฟฟ้า จำนวน 12 รายการ | C19: 10030 | D19: 10030 | E19: เฉพาะเจาะจง | F19: สิชลการไฟฟ้า | G19: =+F19 -> สิชลการไฟฟ้า | H19: - คุณสมบัติครบถ้วน | I19: ใบสั่งซื้อ เลขที่ CNTR-00191/66
F20: 10030 | G20: =+F20 -> 10030 | H20: - เสนอราคาไม่เกินวงเงิน | I20: ลว 12 ก.ย. 66
H21: และงบประมาณ
A22: 6 | B22: ซื้อครุภัณฑ์สำนักงาน (เก้าอี้พักคอย) | C22: 25500 | D22: 25500 | E22: เฉพาะเจาะจง | F22: บ.เมเจอร์ เฟอร์นิเจอร์ มอลล์ 2012 จำกัด | G22: =+F22 -> บ.เมเจอร์ เฟอร์นิเจอร์ มอลล์ 2012 จำกัด | H22: - คุณสมบัติครบถ้วน | I22: ใบสั่งซื้อ เลขที่ CNTR-00193/66
F23: 25500 | G23: =+F23 -> 25500 | H23: - เสนอราคาไม่เกินวงเงิน | I23: ลว 12 ก.ย. 66
H24: และงบประมาณ
A25: 7 | B25: ซื้อครุภัณฑ์สำนักงาน (บอร์ดประชาสัมพันธ์) | C25: 8500 | D25: 8500 | E25: เฉพาะเจาะจง | F25: บ.เมเจอร์ เฟอร์นิเจอร์ มอลล์ 2012 จำกัด | G25: =+F25 -> บ.เมเจอร์ เฟอร์นิเจอร์ มอลล์ 2012 จำกัด | H25: - คุณสมบัติครบถ้วน | I25: ใบสั่งซื้อ เลขที่ CNTR-00194/66
F26: 8500 | G26: =+F26 -> 8500 | H26: - เสนอราคาไม่เกินวงเงิน | I26: ลว 12 ก.ย. 66
H27: และงบประมาณ
A28: 8 | B28: ซื้อวัสดุสำนักงาน สำนักงานปลัด จำนวน 14 รายการ | C28: 25000 | D28: 24310 | E28: เฉพาะเจาะจง | F28: ธันยาการต์ธุรกิจ | G28: =+F28 -> ธันยาการต์ธุรกิจ | H28: - คุณสมบัติครบถ้วน | I28: ใบสั่งซื้อ เลขที่ CNTR-00195/66
F29: 24310 | G29: =+F29 -> 24310 | H29: - เสนอราคาไม่เกินวงเงิน | I29: ลว 12 ก.ย. 66
H30: และงบประมาณ
A31: 9 | B31: ซื้อวัสดุสำนักงาน กองคลัง จำนวน 19 รายการ | C31: 26837 | D31: 26837 | E31: เฉพาะเจาะจง | F31: ธันยาการต์ธุรกิจ | G31: =+F31 -> ธันยาการต์ธุรกิจ | H31: - คุณสมบัติครบถ้วน | I31: ใบสั่งซื้อ เลขที่ CNTR-00196/66
F32: 26837 | G32: =+F32 -> 26837 | H32: - เสนอราคาไม่เกินวงเงิน | I32: ลว 12 ก.ย. 66
H33: และงบประมาณ
A34: 10 | B34: ซื้อเครื่องวัดความดันสำหรับโครงการอบรมหมอหมู่บ้านในพระ | C34: 110000 | D34: 110000 | E34: เฉพาะเจาะจง | F34: นครอุปกรณ์การแพทย์ | G34: =+F34 -> นครอุปกรณ์การแพทย์ | H34: - คุณสมบัติครบถ้วน | I34: ใบสั่งซื้อ เลขที่ CNTR-00202/66
B35: ราชประสงค์ | F35: 110000 | G35: =+F35 -> 110000 | H35: - เสนอราคาไม่เกินวงเงิน | I35: ลว 19 ก.ย. 66
H36: และงบประมาณ
A37: 11 | B37: ซื้อกระเป๋าและเครี่องเขียนสำหรับโครงการอบรมหมอหมู่บ้านใน | C37: 3300 | D37: 3300 | E37: เฉพาะเจาะจง | F37: ธันยาการต์ธุรกิจ | G37: =+F37 -> ธันยาการต์ธุรกิจ | H37: - คุณสมบัติครบถ้วน | I37: ใบสั่งซื้อ เลขที่ CNTR-00203/66
B38: พระราชประสงค์ (โครงการพระราชดำริด้านสาธารณสุข) | F38: 3300 | G38: =+F38 -> 3300 | H38: - เสนอราคาไม่เกินวงเงิน | I38: ลว 19 ก.ย. 66
H39: และงบประมาณ
A40: 12 | B40: ซื้อวัสดุสำนนักงาน สำนักปลัด จำนวน 6 รายการ | C40: 10000 | D40: 9060 | E40: เฉพาะเจาะจง | F40: ธันยาการต์ธุรกิจ | G40: =+F40 -> ธันยาการต์ธุรกิจ | H40: - คุณสมบัติครบถ้วน | I40: ใบสั่งซื้อ เลขที่ CNTR-00207/66
...

Sheet Sheet2
A1: งบหน้าสรุปผลการพิจารณาการจัดซื้อจัดจ้างขององค์การบริหารส่วนตำบลฉลอง
A2: ประจำเดือนกันยายน 2566
F4: รวมราคาที่พิจารณา | G4: วงเงินต่ำหรือสูง
A5: ลำดับที่ | B5: วิธีการจัดซื้อจัดจ้าง | C5: จำนวนโครงการ | D5: รวมวงเงินที่จัดซื้อจัดจ้าง | E5: รวมราคากลาง | F5: คัดเลือก | G5: กว่าราคากลาง | H5: หมายเหตุ
G6: (+ สูง) (-ต่ำกว่า)
A7: 1 | B7: จัดซื้อโดยวิธีประกาศเชิญชวนทั่วไป | C7: - | D7: - | E7: =+D7 -> - | F7: =+D7 -> - | G7: -
A8: 2 | B8: จัดจ้างโดยวิธีประกาศเชิญชวนทั่วไป | C8: - | D8: - | E8: =+D8 -> - | F8: =+D8 -> - | G8: -
A9: 3 | B9: จัดซื้อโดยวิธีการคัดเลือก | C9: - | D9: - | E9: - | F9: - | G9: -
A10: 4 | B10: จัดจ้างโดยวิธีการคัดเลือก | C10: - | D10: - | E10: - | F10: - | G10: -
A11: 5 | B11: จัดซื้อโดยวิธีเฉพาะเจาะจง | C11: 14 | D11: =+Sheet1!C7+Sheet1!C10+Sheet1!C13+Sheet1!C16+Sheet1!C19+Sheet1!C22+Sheet1!C25+Sheet1!C28+Sheet1!C31+Sheet1!C34+Sheet1!C37+Sheet1!C40+Sheet1!C43+Sheet1!C46 -> 600427.17 | E11: =+Sheet1!D7+Sheet1!D10+Sheet1!D13+Sheet1!D16+Sheet1!D19+Sheet1!D22+Sheet1!D25+Sheet1!D28+Sheet1!D31+Sheet1!D34+Sheet1!D37+Sheet1!D40+Sheet1!D43+Sheet1!D46 -> 598352.17 | F11: =+Sheet1!G8+Sheet1!G11+Sheet1!G14+Sheet1!G17+Sheet1!G20+Sheet1!G23+Sheet1!G26+Sheet1!G29+Sheet1!G32+Sheet1!G35+Sheet1!G38+Sheet1!G41+Sheet1!G44+Sheet1!G47 -> 598352.17 | G11: =+D11-E11 -> 2075
A12: 6 | B12: จัดจ้างโดยวิธีเฉพาะเจาะจง | C12: 13 | D12: =+Sheet1!C49+Sheet1!C52+Sheet1!C55+Sheet1!C58+Sheet1!C61+Sheet1!C64+Sheet1!C67+Sheet1!C70+Sheet1!C73+Sheet1!C76+Sheet1!C79+Sheet1!C82+Sheet1!C85 -> 564830 | E12: =+Sheet1!D49+Sheet1!D52+Sheet1!D55+Sheet1!D58+Sheet1!D61+Sheet1!D64+Sheet1!D67+Sheet1!D70+Sheet1!D73+Sheet1!D76+Sheet1!D79+Sheet1!D82+Sheet1!D85 -> 550340 | F12: =+Sheet1!G50+Sheet1!G53+Sheet1!G56+Sheet1!G59+Sheet1!G62+Sheet1!G65+Sheet1!G68+Sheet1!G71+Sheet1!G74+Sheet1!G77+Sheet1!G80+Sheet1!G83+Sheet1!G86 -> 550340 | G12: =+D12-E12 -> 14490
A13: 7 | B13: จัดซื้อโดยวิธีตลาดอิเล็กทรอนิกส์ | C13: - | D13: - | E13: =+D13 -> - | F13: =+E13 -> - | G13: -
A14: 8 | B14: จัดจ้างโดยวิธีตลาดอิเล็กทรอนิกส์ | C14: - | D14: - | E14: =+D14 -> - | F14: =+E14 -> - | G14: -
A15: 9 | B15: จัดซื้อโดยวิธีประกวดราคาอิเล็กทรอนิกส์ | C15: - | D15: - | E15: - | F15: - | G15: -
A16: 10 | B16: จัดจ้างโดยวิธีประกวดราคาอิเล็กทรอนิกส์ | C16: 1 | D16: =+Sheet1!C88 -> 3452583.4 | E16: =+Sheet1!D88 -> 3641721.8 | F16: =+Sheet1!G89 -> 2219997 | G16: =+D16-E16 -> -189138.42
B17: ได้นำข้อมูลเกี่ยวกับการจัดซื้อจัดจ้างตามแบบ สขร.๑ ( ประจำเดือนกันยายน 2566)
B18: เผยแพร่ เมื่อวันที่ 3 ตุลาคม 2566 โดยวิธีปิดประกาศ และที่เว็บไซต์ www.chalong.go.th
B19: ไม่ได้นำข้อมูลเกี่ยวกับการจัดซื้อจัดจ้างตามแบบ สขร.๑ เผยแพร่ เหตุเพราะ ..........................................................................................
E21: (ลงชื่อ)..................................................ผู้รายงาน
E22: (นางสุมิตรา รักบำรุง)
E23: ปลัดองค์การบริหารส่วนตำบลฉลอง

Sheet Sheet3

Sheet Sheet4
