Workbook

Sheet Sheet1
A1: สรุปผลการดำเนินการจัดซื้อจัดจ้างในรอบเดือนกรกฎาคม 2569
A2: องค์การบริหารส่วนตำบลฉลอง อำเภอสิชล จังหวัดนครศรีธรรมราช
A3: วันที่ 3 เดือน สิงหาคม พ.ศ. 2569
A4: ลำดับ | B4: งานที่จัดซื้อหรือจัดจ้าง | C4: วงเงินที่จะซื้อ | D4: ราคากลาง | E4: วิธีซื้อหรือจ้าง | F4: รายชื่อผู้เสนอราคา | G4: ผู้ได้รับการคัดเลือกและราคาที่ | H4: เหตุผลที่คัดเลือกโดยสรุป | I4: เลขที่และวันที่ของสัญญา
A5: ที่ | F5: และราคาที่เสนอ | G5: ตกลงซื้อหรือจ้าง | I5: หรือข้อตกลงในการซื้อ
C6: หรือจ้าง | I6: หรือจ้าง
A7: 1 | B7: จ้างตรวจเช็คและซ่อมแซม/บำรุงรักษา รถตักหน้า-ขุดหลัง | C7: 7860 | D7: 7860 | E7: เฉพาะเจาะจง | F7: ร้านพรจักรไดนาโม | G7: =+F7 -> ร้านพรจักรไดนาโม | H7: - คุณสมบัติครบถ้วน | I7: ใบสั่งจ้าง เลขที่ CNTR-00122/69
B8: หมายเลขทะเบียน ตค 1867 นครศรีธรรมราช | F8: 7860 | G8: =+F8 -> 7860 | H8: - เสนอราคาไม่เกินวงเงิน | I8: ลว. 1 ก.ค.69
H9: และงบประมาณ
A10: 2 | B10: ซื้อครุภัณฑ์คอมพิวเตอร์หรืออิเล็กทรอนิกส์ กองช่าง (เครื่องคอมพิว | C10: 64000 | D10: 64000 | E10: =+E7 -> เฉพาะเจาะจง | F10: ซีคอมแอนด์เซอร์วิส | G10: =+F10 -> ซีคอมแอนด์เซอร์วิส | H10: - คุณสมบัติครบถ้วน | I10: สัญญาซื้อ เลขที่ CNTR-00123/69
B11: เตอร์ All In One สำหรับงานประมวลผล จำนวน 2 เครื่อง และ | F11: 64000 | G11: =+F11 -> 64000 | H11: - เสนอราคาไม่เกินวงเงิน | I11: ลว. 2 ก.ค. 69
B12: เครื่องสำรองไฟฟ้า จำนวน 2 เครื่อง | H12: และงบประมาณ
A13: 3 | B13: ซื้อครุภัณฑ์คอมพิวเตอร์หรืออิเล็กทรอนิกส์ กองคลัง (เครื่องคอมพิวเตอร์ All In One | C13: 46900 | D13: 46900 | E13: เฉพาะเจาะจง | F13: ซีคอมแอนด์เซอร์วิส | G13: =+F13 -> ซีคอมแอนด์เซอร์วิส | H13: - คุณสมบัติครบถ้วน | I13: สัญญาซื้อ เลขที่ CNTR-00124/69
B14: สำหรับงานประมวลผล จำนวน 1 เครื่อง เครื่องพิมพ์เลเซอร์ หรือ LED ขาวดำ | F14: 46900 | G14: =+F14 -> 46900 | H14: - เสนอราคาไม่เกินวงเงิน | I14: ลว. 2 ก.ค.69
B15: ชนิด Network จำนวน 1 เครื่อง เครื่องสำรองไฟฟ้า จำนวน 2 เครื่อง | H15: และงบประมาณ
A16: 4 | B16: ซื้อครุภัณฑ์คอมพิวเตอร์หรืออิเล็กทรอนิกส์ สำนักปลัด (เครื่องคอมพิว | C16: 32000 | D16: 32000 | E16: เฉพาะเจาะจง | F16: ซีคอมแอนด์เซอร์วิส | G16: =+F16 -> ซีคอมแอนด์เซอร์วิส | H16: - คุณสมบัติครบถ้วน | I16: สัญญาซื้อ เลขที่ CNTR-00125/69
B17: เตอร์ All In One สำหรับงานประมวลผล จำนวน 1 เครื่อง และ | F17: 32000 | G17: =+F17 -> 32000 | H17: - เสนอราคาไม่เกินวงเงิน | I17: ลว. 2 ก.ค.69
B18: เครื่องสำรองไฟฟ้า จำนวน 1 เครื่อง | H18: และงบประมาณ
A19: 5 | B19: ซื้อครุภัณฑ์สำนักงาน (เก้าอี้สำหรับห้องประชุม) จำนวน 20 ตัว | C19: 73800 | D19: 73800 | E19: เฉพาะเจาะจง | F19: บ.เมเจอร์ เฟอร์นิเจอร์ มอลล์ (2012) จำกัด | G19: =+F19 -> บ.เมเจอร์ เฟอร์นิเจอร์ มอลล์ (2012) จำกัด | H19: - คุณสมบัติครบถ้วน | I19: ใบสั่งซื้อ เลขที่ CNTR-00126/69
F20: 73800 | G20: =+F20 -> 73800 | H20: - เสนอราคาไม่เกินวงเงิน | I20: ลว. 3 ก.ค.69
H21: และงบประมาณ
A22: 6 | B22: ซื้อครุภัณฑ์สำนักงาน เก้าอี้พนักงาน กองคลัง จำนวน 3 ตัว | C22: 12900 | D22: 12900 | E22: เฉพาะเจาะจง | F22: บ.เมเจอร์ เฟอร์นิเจอร์ มอลล์ (2012) จำกัด | G22: บ.เมเจอร์ เฟอร์นิเจอร์ มอลล์ (2012) จำกัด | H22: - คุณสมบัติครบถ้วน | I22: ใบสั่งซื้อ เลขที่ CNTR-00127/69
F23: 12870 | G23: =+F23 -> 12870 | H23: - เสนอราคาไม่เกินวงเงิน | I23: ลว. 3 ก.ค.69
H24: และงบประมาณ
A25: 7 | B25: ซื้อวัสดุเชื้อเพลิงและหล่อลื่น สำนักปลัด | C25: 60000 | D25: 60000 | E25: เฉพาะเจาะจง | F25: บริษัท ซัสโก้ จำกัด (มหาชน) | G25: =+F25 -> บริษัท ซัสโก้ จำกัด (มหาชน) | H25: - คุณสมบัติครบถ้วน | I25: ใบสั่งซื้อ เลขที่ CNTR-00128/69
F26: 60000 | G26: =+F26 -> 60000 | H26: - เสนอราคาไม่เกินวงเงิน | I26: ลว. 7 ก.ค.69
H27: และงบประมาณ
A28: 8 | B28: จ้างจัดทำป้ายประชาสัมพันธ์สำหรับใช้ภายในศูนย์พัฒนาเด็กเล็ก | C28: 3470 | D28: 3470 | E28: เฉพาะเจาะจง | F28: สิชลโฆษณา | G28: =+F28 -> สิชลโฆษณา | H28: - คุณสมบัติครบถ้วน | I28: ใบสั่งจ้าง เลขที่ CNTR-00129/69
B29: อบต.ฉลอง | F29: 3470 | G29: =+F29 -> 3470 | H29: - เสนอราคาไม่เกินวงเงิน | I29: ลว. 7 ก.ค.69
H30: และงบประมาณ
A31: 9 | B31: จ้างซ่อมแซมถนนสาธารณะ หมู่ที่ 10 ตำบลฉลอง จำนวน 6 | C31: 240000 | D31: 240000 | E31: เฉพาะเจาะจง | F31: นายภากร โชติชุติหิรัญ | G31: =+F31 -> นายภากร โชติชุติหิรัญ | H31: - คุณสมบัติครบถ้วน | I31: สัญญาจ้าง เลขที่ CNTR-00130/69
B32: สายทาง | F32: 240000 | G32: =+F32 -> 240000 | H32: - เสนอราคาไม่เกินวงเงิน | I32: ลว. 13 ก.ค.69
H33: และงบประมาณ
A34: 10 | B34: จ้างโครงการก่อสร้างถนนคอนกรีตเสริมเหล็กสายเขาปริง หมู่ที่ 10 | C34: 379000 | D34: 404572.88 | E34: เฉพาะเจาะจง | F34: คงแก้ว ธุรกิจ | G34: =+F34 -> คงแก้ว ธุรกิจ | H34: - คุณสมบัติครบถ้วน | I34: สัญญาจ้าง เลขที่ CNTR-00131/69
B35: ตำบลฉลอง | F35: 378000 | G35: =+F35 -> 378000 | H35: - เสนอราคาไม่เกินวงเงิน | I35: ลว. 21 ก.ค.69
H36: และงบประมาณ
A37: 11 | B37: จ้างจัดทำป้ายไวนิลสำหรับการดำเนินโครงการท้องถิ่นโปร่งใส | C37: 450 | D37: 450 | E37: เฉพาะเจาะจง | F37: สิชลโฆษณา | G37: =+F37 -> สิชลโฆษณา | H37: - คุณสมบัติครบถ้วน | I37: ใบสั่งจ้าง เลขที่ CNTR-00132/69
B38: ไร้ยาเสพติด | F38: 450 | G38: =+F38 -> 450 | H38: - เสนอราคาไม่เกินวงเงิน | I38: ลว. 21 ก.ค.69
H39: และงบประมาณ
A40: 12 | B40: จ้างตรวจเช็คและซ่อมแซมครุภัณฑ์รถบรรทุกหกล้อ หมายเลข | C40: 8500 | D40: 8500 | E40: เฉพาะเจาะจง | F40: ร้านท่าหินการยางและรถยก | G40: =+F40 -> ร้านท่าหินการยางและรถยก | H40: - คุณสมบัติครบถ้วน | I40: ใบสั่งจ้าง เลขที่ CNTR-00133/69
...

Sheet Sheet2
A1: งบหน้าสรุปผลการพิจารณาการจัดซื้อจัดจ้างขององค์การบริหารส่วนตำบลฉลอง
A2: ประจำเดือนกรกฎาคม 2569
F4: รวมราคาที่พิจารณา | G4: วงเงินต่ำหรือสูง
A5: ลำดับที่ | B5: วิธีการจัดซื้อจัดจ้าง | C5: จำนวนโครงการ | D5: รวมวงเงินที่จัดซื้อจัดจ้าง | E5: รวมราคากลาง | F5: คัดเลือก | G5: กว่าราคากลาง | H5: หมายเหตุ
G6: (+ สูง) (-ต่ำกว่า)
A7: 1 | B7: จัดซื้อโดยวิธีประกาศเชิญชวนทั่วไป | C7: - | D7: - | E7: =+D7 -> - | F7: =+D7 -> - | G7: -
A8: 2 | B8: จัดจ้างโดยวิธีประกาศเชิญชวนทั่วไป | C8: - | D8: - | E8: =+D8 -> - | F8: =+D8 -> - | G8: -
A9: 3 | B9: จัดซื้อโดยวิธีการคัดเลือก | C9: - | D9: - | E9: - | F9: - | G9: -
A10: 4 | B10: จัดจ้างโดยวิธีการคัดเลือก | C10: 8 | D10: =+Sheet1!C7+Sheet1!C28+Sheet1!C31+Sheet1!C34+Sheet1!C37+Sheet1!C40+Sheet1!C43+Sheet1!C46 -> 646280 | E10: =+Sheet1!D7+Sheet1!D28+Sheet1!D31+Sheet1!D34+Sheet1!D37+Sheet1!D40+Sheet1!D43+Sheet1!D46 -> 671852.88 | F10: =+Sheet1!G8+Sheet1!G29+Sheet1!G32+Sheet1!G35+Sheet1!G38+Sheet1!G41+Sheet1!G44+Sheet1!G47 -> 645280 | G10: =+D10-E10 -> -25572.88
A11: 5 | B11: จัดซื้อโดยวิธีเฉพาะเจาะจง | C11: 7 | D11: =+Sheet1!C10+Sheet1!C13+Sheet1!C16+Sheet1!C19+Sheet1!C22+Sheet1!C25+Sheet1!C49 -> 316845 | E11: =+Sheet1!D10+Sheet1!D13+Sheet1!D16+Sheet1!D19+Sheet1!D22+Sheet1!D25+Sheet1!D49 -> 316845 | F11: =+Sheet1!G11+Sheet1!G14+Sheet1!G17+Sheet1!G20+Sheet1!G23+Sheet1!G26+Sheet1!G50 -> 316815 | G11: -
A12: 6 | B12: จัดจ้างโดยวิธีเฉพาะเจาะจง | C12: - | D12: 0 | E12: 0 | F12: 0 | G12: -
A13: 7 | B13: จัดซื้อโดยวิธีตลาดอิเล็กทรอนิกส์ | C13: - | D13: - | E13: =+D13 -> - | F13: =+E13 -> - | G13: -
A14: 8 | B14: จัดจ้างโดยวิธีตลาดอิเล็กทรอนิกส์ | C14: - | D14: - | E14: =+D14 -> - | F14: =+E14 -> - | G14: -
A15: 9 | B15: จัดซื้อโดยวิธีประกวดราคาอิเล็กทรอนิกส์ | C15: - | D15: - | E15: - | F15: - | G15: -
A16: 10 | B16: จัดจ้างโดยวิธีประกวดราคาอิเล็กทรอนิกส์ | C16: - | D16: - | E16: - | F16: - | G16: -
B17: ได้นำข้อมูลเกี่ยวกับการจัดซื้อจัดจ้างตามแบบ สขร.๑ ( ประจำเดือนกรกฎาคม 2569)
B18: เผยแพร่ เมื่อวันที่ 3 สิงหาคม 2569 โดยวิธีปิดประกาศ และที่เว็บไซต์ www.chalong.go.th
B19: ไม่ได้นำข้อมูลเกี่ยวกับการจัดซื้อจัดจ้างตามแบบ สขร.๑ เผยแพร่ เหตุเพราะ ..........................................................................................
E21: (ลงชื่อ)..................................................ผู้รายงาน
E22: (นางสุมิตรา รักบำรุง)
E23: ปลัดองค์การบริหารส่วนตำบลฉลอง
