Workbook

Sheet กรกฎาคม
A1: สรุปผลการดำเนินการจัดซื้อจัดจ้างในรอบเดือนกรกฎาคม 2563
A2: องค์การบริหารส่วนตำบลฉลอง อำเภอสิชล จังหวัดนครศรีธรรมราช
A3: วันที่ 3 เดือน สิงหาคม พ.ศ. 2563
A4: ลำดับ | B4: งานที่จัดซื้อหรือจัดจ้าง | C4: วงเงินที่จะซื้อ | D4: ราคากลาง | E4: วิธีซื้อหรือจ้าง | F4: รายชื่อผู้เสนอราคา | G4: ผู้ได้รับการคัดเลือกและราคาที่ | H4: เหตุผลที่คัดเลือกโดยสรุป | I4: เลขที่และวันที่ของสัญญา
A5: ที่ | F5: และราคาที่เสนอ | G5: ตกลงซื้อหรือจ้าง | I5: หรือข้อตกลงในการซื้อ
C6: หรือจ้าง | I6: หรือจ้าง
A7: 1 | B7: ซื้อวัสดุยานพาหนะลุขนส่ง (ยางรถบรรทุกหกล้อ) | C7: 25200 | D7: 25200 | E7: เฉพาะเจาะจง | F7: ร้านท่าหินการยางและรถยก | G7: =+F7 -> ร้านท่าหินการยางและรถยก | H7: - คุณสมบัติครบถ้วน | I7: ใบสั่งซื้อ เลขที่ CNTR-0123/63
F8: 25200 | G8: =+F8 -> 25200 | H8: - เสนอราคาไม่เกินวงเงิน | I8: ลว. 2 ก.ค. 63
H9: และงบประมาณ
A10: 2 | B10: ซื้อมาตรวัดน้ำ พร้อมอุปกรณ์ประกอบบ้านวังสร้าน | C10: 8130 | D10: 8108 | E10: เฉพาะเจาะจง | F10: ร้านสิชลการไฟฟ้า | G10: =+F10 -> ร้านสิชลการไฟฟ้า | H10: - คุณสมบัติครบถ้วน | I10: ใบสั่งซื้อ เลขที่ CNTR-0126/63
B11: ม.10 | F11: =+D10 -> 8108 | G11: =+F11 -> 8108 | H11: - เสนอราคาไม่เกินวงเงิน | I11: ลว. 10 ก.ค. 63
H12: และงบประมาณ
A13: 3 | B13: ซื้อวัสดุเครื่องเขียนและอุปกรณ์สำหรับโครงการฝึก | C13: 2750 | D13: 2750 | E13: เฉพาะเจาะจง | F13: ร้านปรีดาค้าวัสดุ | G13: =+F13 -> ร้านปรีดาค้าวัสดุ | H13: - คุณสมบัติครบถ้วน | I13: ใบสั่งซื้อ เลขที่ CNTR-0129/63
B14: อบรมจัดตั้งชุดปฏิบัติการจิตอาสาภัยพิบัติ ประจำ | F14: 2750 | G14: =+F14 -> 2750 | H14: - เสนอราคาไม่เกินวงเงิน | I14: ลว. 16 ก.ค. 63
B15: อบต.ฉลอง | H15: และงบประมาณ
A16: 4 | B16: ซื้อวัสดุสนามสำหรับโครงการฝึกอบรมจัดตั้งชุด | C16: 14550 | D16: 14550 | E16: เฉพาะเจาะจง | F16: ส.การสื่อสาร | G16: =+F16 -> ส.การสื่อสาร | H16: - คุณสมบัติครบถ้วน | I16: ใบสั่งซื้อ เลขที่ CNTR-0130/63
B17: ปฏิบัติการจิตอาสาภัยพิบัติประจำ อบต.ฉลอง | F17: =+D16 -> 14550 | G17: =+F17 -> 14550 | H17: - เสนอราคาไม่เกินวงเงิน | I17: ลว. 16 ก.ค. 63
H18: และงบประมาณ
A19: 5 | B19: ซื้อชุดสำหรับฝึกภาคสนามของผู้เข้าอบรมโครงการ | C19: 8000 | D19: 8000 | E19: เฉพาะเจาะจง | F19: นางสาวเบญจพร วัฒนสกุลพงศ์ | G19: =+F19 -> นางสาวเบญจพร วัฒนสกุลพงศ์ | H19: - คุณสมบัติครบถ้วน | I19: ใบสั่งซื้อ เลขที่ CNTR-0131/63
B20: ฝึกอบรมจัดตั้งชุดปฏิบัติการจิตอาสาภัยพิบัติประจำ | F20: 8000 | G20: =+F20 -> 8000 | H20: - เสนอราคาไม่เกินวงเงิน | I20: ลว. 16 ก.ค. 63
B21: อบต.ฉลอง | H21: และงบประมาณ
A22: 6 | B22: ซื้อวัสดุการฝึกอบรม (ล้อยางรถยนต์) สำหรับโครง | C22: 2400 | D22: 2400 | E22: เฉพาะเจาะจง | F22: นายนฤดม โจมฤทธิ์ | G22: =+F22 -> นายนฤดม โจมฤทธิ์ | H22: - คุณสมบัติครบถ้วน | I22: ใบสั่งซื้อ เลขที่ CNTR-0134/63
B23: การฝึกอบรมจัดตั้งชุดปฏิบัติการจิตอาสาภัยพิบัติ | F23: 2400 | G23: =+F23 -> 2400 | H23: - เสนอราคาไม่เกินวงเงิน | I23: ลว. 16 ก.ค. 63
B24: ประจำ อบต.ฉลอง | H24: และงบประมาณ
A25: 7 | B25: ซื้อวัสดุและอุปกรณ์สำหรับโครงการฝึกอบรมจัดตั้ง | C25: 6050 | D25: 1810 | E25: เฉพาะเจาะจง | F25: ร้านปรีดาค้าวัสดุ | G25: =+F25 -> ร้านปรีดาค้าวัสดุ | H25: - คุณสมบัติครบถ้วน | I25: ใบสั่งซื้อ เลขที่ CNTR-0135/63
B26: ชุดปฏิบัติการจิตอาสาภัยพิบัติประจำ อบต.ฉลอง | F26: 1810 | G26: =+F26 -> 1810 | H26: - เสนอราคาไม่เกินวงเงิน | I26: ลว. 16 ก.ค. 63
H27: และงบประมาณ
A28: 8 | B28: ซื้ออาหารเสริม (นม) โรงเรียน ประจำภาคเรียนที่ | C28: 243558.04 | D28: 243558.04 | E28: เฉพาะเจาะจง | F28: บริษัท แมรี่ แอน แดรี่ โปรดักส์ จำกัด | G28: =+F28 -> บริษัท แมรี่ แอน แดรี่ โปรดักส์ จำกัด | H28: - คุณสมบัติครบถ้วน | I28: ใบสั่งซื้อ เลขที่ CNTR-0139/63
B29: 1/2563 ปีการศึกษา 2563 ครั้งที่ 3 | F29: 243558.04 | G29: =+F29 -> 243558.04 | H29: - เสนอราคาไม่เกินวงเงิน | I29: ลว. 31 ก.ค. 63
H30: และงบประมาณ
A31: 9 | B31: จ้างเหมาสำรวจข้อมูลภาคสนามตามโครงการแผนที่ภาษี | C31: 60000 | D31: 60000 | E31: เฉพาะเจาะจง | F31: นายปกรณ์เกียรติ ชุติก่อวรภัคกุล | G31: =+F31 -> นายปกรณ์เกียรติ ชุติก่อวรภัคกุล | H31: - คุณสมบัติครบถ้วน | I31: ใบสั่งจ้าง เลขที่ CNTR-0122/63
B32: ภาษีและทะเบียนทรัพย์ทรัพย์สิน | F32: 60000 | G32: =+F32 -> 60000 | H32: - เสนอราคาไม่เกินวงเงิน | I32: ลว. 1 ก.ค. 63
H33: และงบประมาณ
A34: 10 | B34: จ้างตรวจเช็คและซ่อมแซมรถบรรทุกหกล้อ หมาย | C34: 10730 | D34: 10730 | E34: เฉพาะเจาะจง | F34: ร้านท่าหินการยางและรถยก | G34: =+F34 -> ร้านท่าหินการยางและรถยก | H34: - คุณสมบัติครบถ้วน | I34: ใบสั่งจ้าง เลขที่ CNTR-0124/63
B35: เลขทะเบียน 82-0578 | F35: 10730 | G35: =+F35 -> 10730 | H35: - เสนอราคาไม่เกินวงเงิน | I35: ลว. 2 ก.ค. 63
H36: และงบประมาณ
A37: 11 | B37: จ้างออกแบบแบบรูปรายการงานก่อสร้างโครงการ | C37: 29760 | D37: 20000 | E37: เฉพาะเจาะจง | F37: บริษัท อาซาว่า อาร์คิเทค จำกัด | G37: =+F37 -> บริษัท อาซาว่า อาร์คิเทค จำกัด | H37: - คุณสมบัติครบถ้วน | I37: ใบสั่งจ้าง เลขที่ CNTR-0127/63
B38: ปรับปรุงซ่อมสร้างผิวจราจรแบบแอสฟัลต์คอนกรีต | F38: =+D37 -> 20000 | G38: =+F38 -> 20000 | H38: - เสนอราคาไม่เกินวงเงิน | I38: ลว. 13 ก.ค. 63
B39: ผสมยางพารา สายสี่แยกวัดสระ-แยกสระเคียน ม.8 | H39: และงบประมาณ
A40: 12 | B40: จ้างเหมาทำป้ายประชาสัมพันธ์โครงการฝึกอบรม | C40: 1500 | D40: 1500 | E40: เฉพาะเจาะจง | F40: ร้านสุดภูธร ไวนิล แอนด์ สติกเกอร์ | G40: =+F40 -> ร้านสุดภูธร ไวนิล แอนด์ สติกเกอร์ | H40: - คุณสมบัติครบถ้วน | I40: ใบสั่งจ้าง เลขที่ CNTR-0128/63
...

Sheet Sheet2
A1: งบหน้าสรุปผลการพิจารณาการจัดซื้อจัดจ้างขององค์การบริหารส่วนตำบลฉลอง
A2: ประจำเดือนกรกฎาคม 2563
F4: รวมราคาที่พิจารณา | G4: วงเงินต่ำหรือสูง
A5: ลำดับที่ | B5: วิธีการจัดซื้อจัดจ้าง | C5: จำนวนโครงการ | D5: รวมวงเงินที่จัดซื้อจัดจ้าง | E5: รวมราคากลาง | F5: คัดเลือก | G5: กว่าราคากลาง | H5: หมายเหตุ
G6: (+ สูง) (-ต่ำกว่า)
A7: 1 | B7: จัดซื้อโดยวิธีประกาศเชิญชวนทั่วไป | C7: - | D7: - | E7: =+D7 -> - | F7: =+D7 -> - | G7: -
A8: 2 | B8: จัดจ้างโดยวิธีประกาศเชิญชวนทั่วไป | C8: - | D8: - | E8: =+D8 -> - | F8: =+D8 -> - | G8: -
A9: 3 | B9: จัดซื้อโดยวิธีการคัดเลือก | C9: - | D9: - | E9: - | F9: - | G9: -
A10: 4 | B10: จัดจ้างโดยวิธีการคัดเลือก | C10: - | D10: - | E10: =+D10 -> - | F10: =+D10 -> - | G10: -
A11: 5 | B11: จัดซื้อโดยวิธีเฉพาะเจาะจง | C11: 8 | D11: =+กรกฎาคม!C7+กรกฎาคม!C10+กรกฎาคม!C13+กรกฎาคม!C16+กรกฎาคม!C19+กรกฎาคม!C22+กรกฎาคม!C25+กรกฎาคม!C28 -> 310638.04 | E11: =+กรกฎาคม!D7+กรกฎาคม!D10+กรกฎาคม!D13+กรกฎาคม!D16+กรกฎาคม!D19+กรกฎาคม!D22+กรกฎาคม!D25+กรกฎาคม!D28 -> 306376.04 | F11: =+กรกฎาคม!G8+กรกฎาคม!G11+กรกฎาคม!G14+กรกฎาคม!G17+กรกฎาคม!G20+กรกฎาคม!G23+กรกฎาคม!G26+กรกฎาคม!G29 -> 306376.04 | G11: =+D11-E11 -> 4262
A12: 6 | B12: จัดจ้างโดยวิธีเฉพาะเจาะจง | C12: 9 | D12: =+กรกฎาคม!C31+กรกฎาคม!C34+กรกฎาคม!C37+กรกฎาคม!C40+กรกฎาคม!C43+กรกฎาคม!C46+กรกฎาคม!C49+กรกฎาคม!C52+กรกฎาคม!C55 -> 144390 | E12: =+กรกฎาคม!D31+กรกฎาคม!D34+กรกฎาคม!D37+กรกฎาคม!D40+กรกฎาคม!D43+กรกฎาคม!D46+กรกฎาคม!D49+กรกฎาคม!D52+กรกฎาคม!D55 -> 134430 | F12: =+กรกฎาคม!G32+กรกฎาคม!G35+กรกฎาคม!G38+กรกฎาคม!G41+กรกฎาคม!G44+กรกฎาคม!G47+กรกฎาคม!G50+กรกฎาคม!G53+กรกฎาคม!G56 -> 134430 | G12: =+D12-E12 -> 9960
A13: 7 | B13: จัดซื้อโดยวิธีตลาดอิเล็กทรอนิกส์ | C13: - | D13: - | E13: =+D13 -> - | F13: =+E13 -> - | G13: -
A14: 8 | B14: จัดจ้างโดยวิธีตลาดอิเล็กทรอนิกส์ | C14: 1 | D14: =+กรกฎาคม!C58 -> 1874000 | E14: =+กรกฎาคม!D58 -> 1723000 | F14: =+กรกฎาคม!G59 -> 1110000 | G14: =+D14-E14 -> 151000
A15: 9 | B15: จัดซื้อโดยวิธีประกวดราคาอิเล็กทรอนิกส์ | C15: - | D15: - | E15: - | F15: - | G15: -
A16: 10 | B16: จัดจ้างโดยวิธีประกวดราคาอิเล็กทรอนิกส์ | C16: - | D16: - | E16: - | F16: - | G16: -
B17: ได้นำข้อมูลเกี่ยวกับการจัดซื้อจัดจ้างตามแบบ สขร.๑ ( ประจำเดือนมิถุนายน 2563)
B18: เผยแพร่ เมื่อวันที่ 3 สิงหาคม 2563 โดยวิธีปิดประกาศ และที่เว็บไซต์ www.chalong.go.th
B19: ไม่ได้นำข้อมูลเกี่ยวกับการจัดซื้อจัดจ้างตามแบบ สขร.๑ เผยแพร่ เหตุเพราะ ..........................................................................................
F21: (ลงชื่อ)..................................................ผู้รายงาน
F22: (นางสุมิตรา รักบำรุง)
F23: ปลัดองค์การบริหารส่วนตำบลฉลอง
