Workbook

Sheet Sheet1
A1: สรุปผลการดำเนินการจัดซื้อจัดจ้างในรอบเดือนพฤศจิกายน 2566
A2: องค์การบริหารส่วนตำบลฉลอง อำเภอสิชล จังหวัดนครศรีธรรมราช
A3: วันที่ 2 เดือน กุมภาพันธ์ พ.ศ. 2567
A4: ลำดับ | B4: งานที่จัดซื้อหรือจัดจ้าง | C4: วงเงินที่จะซื้อ | D4: ราคากลาง | E4: วิธีซื้อหรือจ้าง | F4: รายชื่อผู้เสนอราคา | G4: ผู้ได้รับการคัดเลือกและราคาที่ | H4: เหตุผลที่คัดเลือกโดยสรุป | I4: เลขที่และวันที่ของสัญญา
A5: ที่ | F5: และราคาที่เสนอ | G5: ตกลงซื้อหรือจ้าง | I5: หรือข้อตกลงในการซื้อ
C6: หรือจ้าง | I6: หรือจ้าง
A7: 1 | B7: ซื้อแบบพิมพ์จากโรงพิมพ์อาสารักษาดินแดน | C7: 2940 | D7: 2940 | E7: เฉพาะเจาะจง | F7: โรงพิมพ์อาสารักษาดินแดน | G7: =+F7 -> โรงพิมพ์อาสารักษาดินแดน | H7: - คุณสมบัติครบถ้วน | I7: ใบสั่งซื้อ เลขที่ CNTR-00038/67
F8: 2940 | G8: =+F8 -> 2940 | H8: - เสนอราคาไม่เกินวงเงิน | I8: ลว. 8 ม.ค. 67
H9: และงบประมาณ
A10: 2 | B10: ซื้อวัสดุก่อสร้าง | C10: 70000 | D10: 70000 | E10: =+E7 -> เฉพาะเจาะจง | F10: บริษัท เอทูพี ริช99 จำกัด | G10: =+F10 -> บริษัท เอทูพี ริช99 จำกัด | H10: - คุณสมบัติครบถ้วน | I10: ใบสั่งซื้อ เลขที่ CNTR-00039/67
F11: 70000 | G11: =+F11 -> 70000 | H11: - เสนอราคาไม่เกินวงเงิน | I11: ลว. 8 ม.ค. 67
H12: และงบประมาณ
A13: 3 | B13: ซื้อวัสดุและอุปกรณ์สำหรับการทำกิจกรรมโครงการส่งเสริมการ | C13: 20000 | D13: 19870 | E13: เฉพาะเจาะจง | F13: ปรีดาค้าวัสดุ | G13: =+F13 -> ปรีดาค้าวัสดุ | H13: - คุณสมบัติครบถ้วน | I13: ใบสั่งซื้อ เลขที่ CNTR-00041/67
B14: ศึกษา กิจกรรมพัฒนาการเรียนรู้ของเด็กและเขาวชน ประจำปี พ.ศ. | F14: 19870 | G14: =+F14 -> 19870 | H14: - เสนอราคาไม่เกินวงเงิน | I14: ลว 8 ม.ค. 67
B15: 2567 | H15: และงบประมาณ
A16: 4 | B16: ซื้ออาหารและเครื่องดื่มไม่มีแอลกอฮอล์สำหรับโครงการส่งเสริม | C16: 11000 | D16: 11000 | E16: เฉพาะเจาะจง | F16: น้ำดื่ม บ้านสวนลุงมุข | G16: =+F16 -> น้ำดื่ม บ้านสวนลุงมุข | H16: - คุณสมบัติครบถ้วน | I16: ใบสั๋งซื้อ เลขที่ CNTR-00044/67
B17: การศึกษา กิจกรรมพัฒนาการเรียนรู้ของเด็กและเยาวชน ประจำปี | F17: 11000 | G17: =+F17 -> 11000 | H17: - เสนอราคาไม่เกินวงเงิน | I17: ลว. 8 ม.ค. 67
B18: พ.ศ.2567 | H18: และงบประมาณ
A19: 5 | B19: ซื้ออาหารและเครื่องดื่มไม่มีแอลกอฮอล์สำหรับโครงการส่งเสริม | C19: 15000 | D19: 15000 | E19: เฉพาะเจาะจง | F19: นางสาวเมทินี โพธิ์ทอง | G19: =+F19 -> นางสาวเมทินี โพธิ์ทอง | H19: - คุณสมบัติครบถ้วน | I19: ใบสั่งซื้อ เลขที่ CNTR-00045/67
B20: การศึกษา กิจกรรมพัฒนาการเรียนรู้ของเด็กและเยาวชน ประจำปี | F20: 15000 | G20: =+F20 -> 15000 | H20: - เสนอราคาไม่เกินวงเงิน | I20: ลว. 8 ม.ค. 67
B21: พ.ศ.2567 | H21: และงบประมาณ
A22: 6 | B22: ซื้อวัสดุคอมพิวเตอร์ กองช่าง | C22: 1950 | D22: 1950 | E22: เฉพาะเจาะจง | F22: สิชลคอมพิวเตอร์ | G22: =+F22 -> สิชลคอมพิวเตอร์ | H22: - คุณสมบัติครบถ้วน | I22: ใบสั่งซื้อ เลขที่ CNTR-00046/67
F23: 1950 | G23: =+F23 -> 1950 | H23: - เสนอราคาไม่เกินวงเงิน | I23: ลว. 24 ม.ค. 67
H24: และงบประมาณ
A25: 7 | B25: จ้างเหมาทำป้ายไวนิลสำหรับติดตั้งเวทีกลาง ตามโครงการส่งเสริม | C25: 4500 | D25: 4500 | E25: เฉพาะเจาะจง | F25: นายพีระศักดิ์ แตงขาว | G25: =+F25 -> นายพีระศักดิ์ แตงขาว | H25: - คุณสมบัติครบถ้วน | I25: ใบสั่งจ้าง เลขที่ CNTR-00040/67
B26: การศึกษา กิจกรรมพัฒนาการเรียนรู้ของเด็กและเยาวชน ประจำปี | F26: 4500 | G26: =+F26 -> 4500 | H26: - เสนอราคาไม่เกินวงเงิน | I26: ลว. 8 ม.ค. 67
B27: พ.ศ.2567 | H27: และงบประมาณ
A28: 8 | B28: จ้างตกแต่งและจัดสถานที่สำหรับโครงการส่งเสริมการศึกษา กิจกรรม | C28: 5000 | D28: 5000 | E28: เฉพาะเจาะจง | F28: นางสาวณิชาภา ขลิบแย้ม | G28: =+F28 -> นางสาวณิชาภา ขลิบแย้ม | H28: - คุณสมบัติครบถ้วน | I28: ใบสั่งจ้าง เลขที่ CNTR-00042/67
B29: พัฒนาการเรียนรู้ของเด็กและเยาวชน ประจำปี พ.ศ.2567 | F29: 5000 | G29: =+F29 -> 5000 | H29: - เสนอราคาไม่เกินวงเงิน | I29: ลว. 8 ม.ค. 67
H30: และงบประมาณ
A31: 9 | B31: เช่าวัสดุอุปกรณ์ที่จำเป็นในการจัดงาน (เต็นท์ โต๊ะ เก้าอี้ เวที และ | C31: 55000 | D31: 55000 | E31: เฉพาะเจาะจง | F31: นายเชาวลิต เศษเพชร | G31: =+F31 -> นายเชาวลิต เศษเพชร | H31: - คุณสมบัติครบถ้วน | I31: ใบสั่งจ้าง เลขที่ CNTR-00043/67
B32: เครื่องเสียง) สำหรับโครงการส่งเสริมการศึกษา กิจกรรมพัฒนาการ | F32: 55000 | G32: =+F32 -> 55000 | H32: - เสนอราคาไม่เกินวงเงิน | I32: ลว. 8 ม.ค. 67
B33: เรียนรู้ของเด็กและเยาวชน ประจำปี พ.ศ.2567 | H33: และงบประมาณ
A34: 10 | B34: จ้างทำป้ายประชาสัมพันธ์การจัดเก็บภาษี ประจำปี 2567 | C34: 2520 | D34: 2520 | E34: เฉพาะเจาะจง | F34: สุดภูธร ไวนิล แอนด์ สติกเกอร์ | G34: =+F34 -> สุดภูธร ไวนิล แอนด์ สติกเกอร์ | H34: - คุณสมบัติครบถ้วน | I34: ใบสั่งจ้าง เลขที่ CNTR-00047/67
F35: 2520 | G35: =+F35 -> 2520 | H35: - เสนอราคาไม่เกินวงเงิน | I35: ลว. 25 ม.ค. 67
H36: และงบประมาณ
H37: และงบประมาณ

Sheet Sheet2
A1: งบหน้าสรุปผลการพิจารณาการจัดซื้อจัดจ้างขององค์การบริหารส่วนตำบลฉลอง
A2: ประจำเดือนมกราคม 2567
F4: รวมราคาที่พิจารณา | G4: วงเงินต่ำหรือสูง
A5: ลำดับที่ | B5: วิธีการจัดซื้อจัดจ้าง | C5: จำนวนโครงการ | D5: รวมวงเงินที่จัดซื้อจัดจ้าง | E5: รวมราคากลาง | F5: คัดเลือก | G5: กว่าราคากลาง | H5: หมายเหตุ
G6: (+ สูง) (-ต่ำกว่า)
A7: 1 | B7: จัดซื้อโดยวิธีประกาศเชิญชวนทั่วไป | C7: - | D7: - | E7: =+D7 -> - | F7: =+D7 -> - | G7: -
A8: 2 | B8: จัดจ้างโดยวิธีประกาศเชิญชวนทั่วไป | C8: - | D8: - | E8: =+D8 -> - | F8: =+D8 -> - | G8: -
A9: 3 | B9: จัดซื้อโดยวิธีการคัดเลือก | C9: - | D9: - | E9: - | F9: - | G9: -
A10: 4 | B10: จัดจ้างโดยวิธีการคัดเลือก | C10: - | D10: - | E10: - | F10: - | G10: -
A11: 5 | B11: จัดซื้อโดยวิธีเฉพาะเจาะจง | C11: 6 | D11: =+Sheet1!C7+Sheet1!C10+Sheet1!C13+Sheet1!C16+Sheet1!C19+Sheet1!C22 -> 120890 | E11: =+Sheet1!D7+Sheet1!D10+Sheet1!D13+Sheet1!D16+Sheet1!D19+Sheet1!D22 -> 120760 | F11: =+Sheet1!G8+Sheet1!G11+Sheet1!G14+Sheet1!G17+Sheet1!G20+Sheet1!G23 -> 120760 | G11: =+D11-E11 -> 130
A12: 6 | B12: จัดจ้างโดยวิธีเฉพาะเจาะจง | C12: 4 | D12: =+Sheet1!C25+Sheet1!C28+Sheet1!C31+Sheet1!C34 -> 67020 | E12: =+Sheet1!D25+Sheet1!D28+Sheet1!D31+Sheet1!D34 -> 67020 | F12: =+Sheet1!G26+Sheet1!G29+Sheet1!G32+Sheet1!G35 -> 67020 | G12: =+D12-E12 -> 0
A13: 7 | B13: จัดซื้อโดยวิธีตลาดอิเล็กทรอนิกส์ | C13: - | D13: . | E13: =+D13 -> . | F13: =+E13 -> . | G13: -
A14: 8 | B14: จัดจ้างโดยวิธีตลาดอิเล็กทรอนิกส์ | C14: - | D14: - | E14: =+D14 -> - | F14: =+E14 -> - | G14: -
A15: 9 | B15: จัดซื้อโดยวิธีประกวดราคาอิเล็กทรอนิกส์ | C15: - | D15: - | E15: - | F15: - | G15: -
A16: 10 | B16: จัดจ้างโดยวิธีประกวดราคาอิเล็กทรอนิกส์ | C16: - | D16: - | E16: - | F16: - | G16: -
B17: ได้นำข้อมูลเกี่ยวกับการจัดซื้อจัดจ้างตามแบบ สขร.๑ ( ประจำเดือนมกราคม 2567)
B18: เผยแพร่ เมื่อวันที่ 2 กุมภาพันธ์ 2567 โดยวิธีปิดประกาศ และที่เว็บไซต์ www.chalong.go.th
B19: ไม่ได้นำข้อมูลเกี่ยวกับการจัดซื้อจัดจ้างตามแบบ สขร.๑ เผยแพร่ เหตุเพราะ ..........................................................................................
E21: (ลงชื่อ)..................................................ผู้รายงาน
E22: (นางสุมิตรา รักบำรุง)
E23: ปลัดองค์การบริหารส่วนตำบลฉลอง
