Workbook

Sheet พฤศจิกายน
A1: สรุปผลการดำเนินการจัดซื้อจัดจ้างในรอบเดือนพฤศจิกายน 2563
A2: องค์การบริหารส่วนตำบลฉลอง อำเภอสิชล จังหวัดนครศรีธรรมราช
A3: วันที่ 2 เดือน ธันวาคม พ.ศ. 2563
A4: ลำดับ | B4: งานที่จัดซื้อหรือจัดจ้าง | C4: วงเงินที่จะซื้อ | D4: ราคากลาง | E4: วิธีซื้อหรือจ้าง | F4: รายชื่อผู้เสนอราคา | G4: ผู้ได้รับการคัดเลือกและราคาที่ | H4: เหตุผลที่คัดเลือกโดยสรุป | I4: เลขที่และวันที่ของสัญญา
A5: ที่ | F5: และราคาที่เสนอ | G5: ตกลงซื้อหรือจ้าง | I5: หรือข้อตกลงในการซื้อ
C6: หรือจ้าง | I6: หรือจ้าง
A7: 1 | B7: ซื้อแบบพิมพ์จากโรงพิมพ์อาสารักษาดินแดน | C7: 3420 | D7: 3420 | E7: เฉพาะเจาะจง | F7: โรงพิมพ์อาสารักษาดินแดน | G7: =+F7 -> โรงพิมพ์อาสารักษาดินแดน | H7: - คุณสมบัติครบถ้วน | I7: ใบสั่งซื้อ เลขที่ CNTR-0012/64
F8: 3420 | G8: =+F8 -> 3420 | H8: - เสนอราคาไม่เกินวงเงิน | I8: ลว. 5 พ.ย. 63
H9: และงบประมาณ
A10: 2 | B10: ซื้อหมึกเครื่องถ่ายเอกสาร จำนวน 2 กล่อง | C10: 10000 | D10: 9700 | E10: เฉพาะเจาะจง | F10: ร้าน ซีเค ซัพพลาย โอ.เอ | G10: =+F10 -> ร้าน ซีเค ซัพพลาย โอ.เอ | H10: - คุณสมบัติครบถ้วน | I10: ใบสั่งซื้อ เลขที่ CNTR-0016/64
F11: =+D10 -> 9700 | G11: =+F11 -> 9700 | H11: - เสนอราคาไม่เกินวงเงิน | I11: ลว. 24 พ.ย. 63
H12: และงบประมาณ
A13: 3 | B13: ซื้อกระเบื้องสำหรับช่วยเหลือประชาชนที่ได้รับความ | C13: 6000 | D13: 5986 | E13: เฉพาะเจาะจง | F13: หจก.จิตติภัณฑ์วัสดุก่อสร้าง | G13: =+F13 -> หจก.จิตติภัณฑ์วัสดุก่อสร้าง | H13: - คุณสมบัติครบถ้วน | I13: ใบสั่งซื้อ เลขที่ CNTR-0017/64
B14: เดือดร้อนจากสาธารณภัย | F14: 5986 | G14: =+F14 -> 5986 | H14: - เสนอราคาไม่เกินวงเงิน | I14: ลว. 26 พ.ย. 63
H15: และงบประมาณ
A16: 4 | B16: ซื้ออาหารเสริม (นม) โรงเรียน ประจำภาคเรียนที่ | C16: 361562.88 | D16: 361562.88 | E16: เฉพาะเจาะจง | F16: บริษัท แมรี่ แอน แดรี่ โปรดักส์ จำกัด | G16: =+F16 -> บริษัท แมรี่ แอน แดรี่ โปรดักส์ จำกัด | H16: - คุณสมบัติครบถ้วน | I16: ใบสั่งซื้อ เลขที่ CNTR-0018/64
B17: 2/2563 ประจำปีการศึกษา 2563 | F17: =+D16 -> 361562.88 | G17: =+F17 -> 361562.88 | H17: - เสนอราคาไม่เกินวงเงิน | I17: ลว. 30 พ.ย. 63
H18: และงบประมาณ
A19: 5 | B19: จ้างล้างเครื่องปรับอากาศห้องปลัด อบต.ฉลอง | C19: 500 | D19: 400 | E19: เฉพาะเจาะจง | F19: สำฤทธิ์ สิชลแอร์ แอ่น เซอร์วิส | G19: =+F19 -> สำฤทธิ์ สิชลแอร์ แอ่น เซอร์วิส | H19: - คุณสมบัติครบถ้วน | I19: ใบสั่งจ้าง เลขที่ CNTR-0013/64
F20: 400 | G20: =+F20 -> 400 | H20: - เสนอราคาไม่เกินวงเงิน | I20: ลว. 6 พ.ย. 63
H21: และงบประมาณ
A22: 6 | B22: จ้างก่อสร้างโครงการก่อสร้าง ถนน คสล.สายนางตุ้ย- | C22: 674000 | D22: 607000 | E22: ประกวดราคา | F22: หจก.จิตติภัณฑ์ก่อสร้าง | G22: =+F22 -> หจก.จิตติภัณฑ์ก่อสร้าง | H22: - คุณสมบัติครบถ้วน | I22: สัญญาซื้อ เลขที่ CNTR-0014/64
B23: ศูนย์สาธิต ม.6 | E23: อิเล็กทรอนิกส์ | F23: 413000 | G23: =+F23 -> 413000 | H23: - เสนอราคาไม่เกินวงเงิน | I23: ลว. 13 พ.ย. 63
H24: และงบประมาณ
F25: หจก.ถลุงทองการก่อสร้าง | H25: - คุณสมบัติครบถ้วน
F26: 516000 | H26: - เสนอราคาไม่เกินวงเงิน
H27: และงบประมาณ
F28: หจก.ท่าพญา การสร้าง | H28: - คุณสมบัติครบถ้วน
F29: 542248 | H29: - เสนอราคาไม่เกินวงเงิน
H30: และงบประมาณ
F31: บ.ชุมราษฎร์ วิศวกร | H31: - คุณสมบัติครบถ้วน
F32: 600000 | H32: - เสนอราคาไม่เกินวงเงิน
H33: และงบประมาณ
F34: หจก. ณ นคร เซอร์วิส 2016 | H34: - คุณสมบัติครบถ้วน
F35: 420000 | H35: - เสนอราคาไม่เกินวงเงิน
H36: และงบประมาณ
F37: บ. ธัชณิช จำกัด | H37: - คุณสมบัติครบถ้วน
F38: 479900 | H38: - เสนอราคาไม่เกินวงเงิน
H39: และงบประมาณ
A40: 7 | B40: จ้างก่อสร้างโครงการก่อสร้าง ถนน คสล.สายราษฎร์ | C40: 710000 | D40: 639000 | E40: ประกวดราคา | F40: หจก.จิตติภัณฑ์ก่อสร้าง | G40: =+F40 -> หจก.จิตติภัณฑ์ก่อสร้าง | H40: - คุณสมบัติครบถ้วน | I40: สัญญาซื้อ เลขที่ CNTR-0015/64
B41: อุทิศ-บ้านสระเคียน ม.7,ม.8 | E41: อิเล็กทรอนิกส์ | F41: 434000 | G41: =+F41 -> 434000 | H41: - เสนอราคาไม่เกินวงเงิน | I41: ลว. 13 พ.ย. 63
H42: และงบประมาณ
F43: หจก. ณ นคร เซอร์วิส 2016 | H43: - คุณสมบัติครบถ้วน
F44: 555555 | H44: - เสนอราคาไม่เกินวงเงิน
H45: และงบประมาณ
F46: หจก.ท่าพญา การสร้าง | H46: - คุณสมบัติครบถ้วน
F47: 589300 | H47: - เสนอราคาไม่เกินวงเงิน
H48: และงบประมาณ
F49: บ.ปิ่นรักอินเตอร์เนชั่นแนลคอนตรัคชั่น จำกัด | H49: - คุณสมบัติครบถ้วน
F50: 520000 | H50: - เสนอราคาไม่เกินวงเงิน
H51: และงบประมาณ
F52: บ. ธัชณิช จำกัด | H52: - คุณสมบัติครบถ้วน
F53: 539000 | H53: - เสนอราคาไม่เกินวงเงิน
H54: และงบประมาณ

Sheet Sheet2
A1: งบหน้าสรุปผลการพิจารณาการจัดซื้อจัดจ้างขององค์การบริหารส่วนตำบลฉลอง
A2: ประจำเดือนตุลาคม 2563
F4: รวมราคาที่พิจารณา | G4: วงเงินต่ำหรือสูง
A5: ลำดับที่ | B5: วิธีการจัดซื้อจัดจ้าง | C5: จำนวนโครงการ | D5: รวมวงเงินที่จัดซื้อจัดจ้าง | E5: รวมราคากลาง | F5: คัดเลือก | G5: กว่าราคากลาง | H5: หมายเหตุ
G6: (+ สูง) (-ต่ำกว่า)
A7: 1 | B7: จัดซื้อโดยวิธีประกาศเชิญชวนทั่วไป | C7: - | D7: - | E7: =+D7 -> - | F7: =+D7 -> - | G7: -
A8: 2 | B8: จัดจ้างโดยวิธีประกาศเชิญชวนทั่วไป | C8: - | D8: - | E8: =+D8 -> - | F8: =+D8 -> - | G8: -
A9: 3 | B9: จัดซื้อโดยวิธีการคัดเลือก | C9: - | D9: - | E9: - | F9: - | G9: -
A10: 4 | B10: จัดจ้างโดยวิธีการคัดเลือก | C10: - | D10: - | E10: =+D10 -> - | F10: =+D10 -> - | G10: -
A11: 5 | B11: จัดซื้อโดยวิธีเฉพาะเจาะจง | C11: 4 | D11: =+พฤศจิกายน!C7+พฤศจิกายน!C10+พฤศจิกายน!C13+พฤศจิกายน!C16 -> 380982.88 | E11: =+พฤศจิกายน!D7+พฤศจิกายน!D10+พฤศจิกายน!D13+พฤศจิกายน!D16 -> 380668.88 | F11: =+พฤศจิกายน!G8+พฤศจิกายน!G11+พฤศจิกายน!G14+พฤศจิกายน!G17 -> 380668.88 | G11: =+D11-E11 -> 314
A12: 6 | B12: จัดจ้างโดยวิธีเฉพาะเจาะจง | C12: 1 | D12: =+พฤศจิกายน!C19 -> 500 | E12: =+พฤศจิกายน!D19 -> 400 | F12: =+พฤศจิกายน!G20 -> 400 | G12: =+D12-E12 -> 100
A13: 7 | B13: จัดซื้อโดยวิธีตลาดอิเล็กทรอนิกส์ | C13: - | D13: - | E13: =+D13 -> - | F13: =+E13 -> - | G13: -
A14: 8 | B14: จัดจ้างโดยวิธีตลาดอิเล็กทรอนิกส์ | C14: - | D14: - | E14: - | F14: - | G14: -
A15: 9 | B15: จัดซื้อโดยวิธีประกวดราคาอิเล็กทรอนิกส์ | C15: - | D15: - | E15: - | F15: - | G15: -
A16: 10 | B16: จัดจ้างโดยวิธีประกวดราคาอิเล็กทรอนิกส์ | C16: 2 | D16: =+พฤศจิกายน!C22+พฤศจิกายน!C40 -> 1384000 | E16: =+พฤศจิกายน!D22+พฤศจิกายน!D40 -> 1246000 | F16: =+พฤศจิกายน!G23+พฤศจิกายน!G41 -> 847000 | G16: =+D16-E16 -> 138000
B17: ได้นำข้อมูลเกี่ยวกับการจัดซื้อจัดจ้างตามแบบ สขร.๑ ( ประจำเดือนพฤศจิกายน 2563)
B18: เผยแพร่ เมื่อวันที่ 2 ธันวาคม 2563 โดยวิธีปิดประกาศ และที่เว็บไซต์ www.chalong.go.th
B19: ไม่ได้นำข้อมูลเกี่ยวกับการจัดซื้อจัดจ้างตามแบบ สขร.๑ เผยแพร่ เหตุเพราะ ..........................................................................................
F21: (ลงชื่อ)..................................................ผู้รายงาน
F22: (นางสุมิตรา รักบำรุง)
F23: ปลัดองค์การบริหารส่วนตำบลฉลอง

Sheet Sheet1

Sheet Sheet3
