Workbook

Sheet พฤษภาคม
A1: สรุปผลการดำเนินการจัดซื้อจัดจ้างในรอบเดือนพฤษภาคม 2563
A2: องค์การบริหารส่วนตำบลฉลอง อำเภอสิชล จังหวัดนครศรีธรรมราช
A3: วันที่ 2 เดือน มิถุนายน พ.ศ. 2563
A4: ลำดับ | B4: งานที่จัดซื้อหรือจัดจ้าง | C4: วงเงินที่จะซื้อ | D4: ราคากลาง | E4: วิธีซื้อหรือจ้าง | F4: รายชื่อผู้เสนอราคา | G4: ผู้ได้รับการคัดเลือกและราคาที่ | H4: เหตุผลที่คัดเลือกโดยสรุป | I4: เลขที่และวันที่ของสัญญา
A5: ที่ | F5: และราคาที่เสนอ | G5: ตกลงซื้อหรือจ้าง | I5: หรือข้อตกลงในการซื้อ
C6: หรือจ้าง | I6: หรือจ้าง
A7: 1 | B7: ซื้อน้ำมันไฮดรอลิค ขนาด 18 ลิตร จำนวน 2 ถัง | C7: 3000 | D7: 3000 | E7: เฉพาะเจาะจง | F7: ร้านอนันชัยสิชลกลาร | G7: =+F7 -> ร้านอนันชัยสิชลกลาร | H7: - คุณสมบัติครบถ้วน | I7: ใบสั่งซื้อ เลขที่ CNTR-0098/63
F8: 3000 | G8: =+F8 -> 3000 | H8: - เสนอราคาไม่เกินวงเงิน | I8: ลว. 5 พ.ค. 63
H9: และงบประมาณ
A10: 2 | B10: ซื้อวัสดุคอมพิวเตอร์ กองช่าง จำนวน 4 รายการ | C10: 17200 | D10: 17200 | E10: เฉพาะเจาะจง | F10: ร้านสิชลคอมพิวเตอร์แอนด์เซอร์วิส | G10: =+F10 -> ร้านสิชลคอมพิวเตอร์แอนด์เซอร์วิส | H10: - คุณสมบัติครบถ้วน | I10: ใบสั่งซื้อ เลขที่ CNTR-0099/63
F11: =+D10 -> 17200 | G11: =+F11 -> 17200 | H11: - เสนอราคาไม่เกินวงเงิน | I11: ลว. 8 พ.ค. 63
H12: และงบประมาณ
A13: 3 | B13: ซื้อวัสดุก่อสร้าง หินคลุก จำนวน 500 ลบ.ม. | C13: 214000 | D13: 214000 | E13: เฉพาะเจาะจง | F13: หจก.จิตติภัณฑ์ วัสดุก่อสร้าง | G13: =+F13 -> หจก.จิตติภัณฑ์ วัสดุก่อสร้าง | H13: - คุณสมบัติครบถ้วน | I13: ใบสั่งซื้อ เลขที่ CNTR-0100/63
F14: 214000 | G14: =+F14 -> 214000 | H14: - เสนอราคาไม่เกินวงเงิน | I14: ลว. 14 พ.ค. 63
H15: และงบประมาณ
A16: 4 | B16: ซื้อหมึกเครื่องพริ้นเตอร์สำนักปลัด จำนวน 3 กล่อง | C16: 9000 | D16: 8970 | E16: เฉพาะเจาะจง | F16: ร้านสิชลคอมพิวเตอร์แอนด์เซอร์วิส | G16: =+F16 -> ร้านสิชลคอมพิวเตอร์แอนด์เซอร์วิส | H16: - คุณสมบัติครบถ้วน | I16: ใบสั่งซื้อ เลขที่ CNTR-0101/63
F17: =+D16 -> 8970 | G17: =+F17 -> 8970 | H17: - เสนอราคาไม่เกินวงเงิน | I17: ลว. 15 พ.ค. 63
H18: และงบประมาณ
A19: 5 | B19: ซื้ออาหารเสริม (นม) โรงเรียน ประจำภาคเรียนที่ | C19: 105937.54 | D19: 105937.54 | E19: เฉพาะเจาะจง | F19: บริษัท แมรี่ แอน แดรี่ โปรดักส์จำกัด | G19: =+F19 -> บริษัท แมรี่ แอน แดรี่ โปรดักส์จำกัด | H19: - คุณสมบัติครบถ้วน | I19: ใบสั่งซื้อ เลขที่ CNTR-0102/63
B20: 1/2563 ปีการศึกษา 2563 | F20: 105937.54 | G20: =+F20 -> 105937.54 | H20: - เสนอราคาไม่เกินวงเงิน | I20: ลว. 15 พ.ค. 63
H21: และงบประมาณ
A22: 6 | B22: จ้างซ๋อมแซมรถตักหน้า-ขุดหลัง หมายเลขทะเบียน | C22: 6560 | D22: 6560 | E22: เฉพาะเจาะจง | F22: ร้านอนันชัยสิชลกลาร | G22: =+F22 -> ร้านอนันชัยสิชลกลาร | H22: - คุณสมบัติครบถ้วน | I22: ใบสั่งจ้าง เลขที่ CNTR-0097/63
B23: ตค 1867 | F23: 6560 | G23: =+F23 -> 6560 | H23: - เสนอราคาไม่เกินวงเงิน | I23: ลว. 5 พ.ค. 63
H24: และงบประมาณ
A25: 7 | B25: จ้างก่อสร้างโครงการปรับปรุงซ๋อมสร้างผิวจราจร | C25: 8181000 | D25: 5773376.4 | E25: ประกวดราคา | F25: บริษัท นันทวรรธไชย 2002 จำกัด | G25: =+F25 -> บริษัท นันทวรรธไชย 2002 จำกัด | H25: - คุณสมบัติครบถ้วน | I25: สัญญาจ้าง เลขที่ CNTR-0103/63
B26: แบบแอสฟัลท์ติกคอนกรีต ถนนสายนาพร้าว- | E26: อิเล็กทรอนิกส์ | F26: 5550000 | G26: =+F26 -> 5550000 | H26: - เสนอราคาไม่เกินวงเงิน | I26: ลว. 18 พ.ค. 63
B27: โรงเรียนบ้านน้ำขาว ม.5 บ้านในดอน | H27: และงบประมาณ
A28: 8 | B28: จ้างเหมาติดตั้งผ้าม่านของศูนย์พัฒนาเด็กเล็ก | C28: 30000 | D28: 28800 | E28: เฉพาะเจาะจง | F28: เพ็ญนาภาผ้าม่าน | G28: =+F28 -> เพ็ญนาภาผ้าม่าน | H28: - คุณสมบัติครบถ้วน | I28: ใบสั่งจ้าง เลขที่ CNTR-0105/63
B29: อบต.ฉลอง | F29: 28800 | G29: =+F29 -> 28800 | H29: - เสนอราคาไม่เกินวงเงิน | I29: ลว. 28 พ.ค. 63
H30: และงบประมาณ

Sheet Sheet2
A1: งบหน้าสรุปผลการพิจารณาการจัดซื้อจัดจ้างขององค์การบริหารส่วนตำบลฉลอง
A2: ประจำเดือนพฤษภาคม 2563
F4: รวมราคาที่พิจารณา | G4: วงเงินต่ำหรือสูง
A5: ลำดับที่ | B5: วิธีการจัดซื้อจัดจ้าง | C5: จำนวนโครงการ | D5: รวมวงเงินที่จัดซื้อจัดจ้าง | E5: รวมราคากลาง | F5: คัดเลือก | G5: กว่าราคากลาง | H5: หมายเหตุ
G6: (+ สูง) (-ต่ำกว่า)
A7: 1 | B7: จัดซื้อโดยวิธีประกาศเชิญชวนทั่วไป | C7: - | D7: - | E7: =+D7 -> - | F7: =+D7 -> - | G7: -
A8: 2 | B8: จัดจ้างโดยวิธีประกาศเชิญชวนทั่วไป | C8: - | D8: - | E8: =+D8 -> - | F8: =+D8 -> - | G8: -
A9: 3 | B9: จัดซื้อโดยวิธีการคัดเลือก | C9: - | D9: - | E9: - | F9: - | G9: -
A10: 4 | B10: จัดจ้างโดยวิธีการคัดเลือก | C10: - | D10: - | E10: =+D10 -> - | F10: =+D10 -> - | G10: -
A11: 5 | B11: จัดซื้อโดยวิธีเฉพาะเจาะจง | C11: 5 | D11: =+พฤษภาคม!C7+พฤษภาคม!C10+พฤษภาคม!C13+พฤษภาคม!C16+พฤษภาคม!C19 -> 349137.54 | E11: =+พฤษภาคม!D7+พฤษภาคม!D10+พฤษภาคม!D13+พฤษภาคม!D16+พฤษภาคม!D19 -> 349107.54 | F11: =+พฤษภาคม!G8+พฤษภาคม!G11+พฤษภาคม!G14+พฤษภาคม!G17+พฤษภาคม!G20 -> 349107.54 | G11: =+D11-E11 -> 30
A12: 6 | B12: จัดจ้างโดยวิธีเฉพาะเจาะจง | C12: 2 | D12: =+พฤษภาคม!C22+พฤษภาคม!C28 -> 36560 | E12: =+พฤษภาคม!D22+พฤษภาคม!D28 -> 35360 | F12: =+พฤษภาคม!G23+พฤษภาคม!G29 -> 35360 | G12: -
A13: 7 | B13: จัดซื้อโดยวิธีตลาดอิเล็กทรอนิกส์ | C13: - | D13: - | E13: =+D13 -> - | F13: =+E13 -> - | G13: -
A14: 8 | B14: จัดจ้างโดยวิธีตลาดอิเล็กทรอนิกส์ | C14: 1 | D14: =+พฤษภาคม!C25 -> 8181000 | E14: =+พฤษภาคม!D25 -> 5773376.4 | F14: =+พฤษภาคม!F26 -> 5550000 | G14: =+D14-E14 -> 2407623.6
A15: 9 | B15: จัดซื้อโดยวิธีประกวดราคาอิเล็กทรอนิกส์ | C15: - | D15: - | E15: - | F15: - | G15: -
A16: 10 | B16: จัดจ้างโดยวิธีประกวดราคาอิเล็กทรอนิกส์ | C16: - | D16: - | E16: - | F16: - | G16: -
B17: ได้นำข้อมูลเกี่ยวกับการจัดซื้อจัดจ้างตามแบบ สขร.๑ ( ประจำเดือนพฤษภาคม 2563)
B18: เผยแพร่ เมื่อวันที่ 2 มิถุนายน 2563 โดยวิธีปิดประกาศ และที่เว็บไซต์ www.chalong.go.th
B19: ไม่ได้นำข้อมูลเกี่ยวกับการจัดซื้อจัดจ้างตามแบบ สขร.๑ เผยแพร่ เหตุเพราะ ..........................................................................................
F21: (ลงชื่อ)..................................................ผู้รายงาน
F22: (นางสุมิตรา รักบำรุง)
F23: ปลัดองค์การบริหารส่วนตำบลฉลอง
