Workbook

Sheet กุมภาพันธ์
A1: สรุปผลการดำเนินการจัดซื้อจัดจ้างในรอบเดือนกุมภาพันธ์ 2563
A2: องค์การบริหารส่วนตำบลฉลอง อำเภอสิชล จังหวัดนครศรีธรรมราช
A3: วันที่ 2 เดือน มีนาคม พ.ศ. 2563
A4: ลำดับ | B4: งานที่จัดซื้อหรือจัดจ้าง | C4: วงเงินที่จะซื้อ | D4: ราคากลาง | E4: วิธีซื้อหรือจ้าง | F4: รายชื่อผู้เสนอราคา | G4: ผู้ได้รับการคัดเลือกและราคาที่ | H4: เหตุผลที่คัดเลือกโดยสรุป | I4: เลขที่และวันที่ของสัญญา
A5: ที่ | F5: และราคาที่เสนอ | G5: ตกลงซื้อหรือจ้าง | I5: หรือข้อตกลงในการซื้อ
C6: หรือจ้าง | I6: หรือจ้าง
A7: 1 | B7: ซื้อวัสดุน้ำมันเชื้อเพลิงและหล่อลื่น กองช่าง | C7: 100000 | D7: 100000 | E7: เฉพาะเจาะจง | F7: บริษัท ซัสโก้ จำกัด (มหาชน) | G7: =+F7 -> บริษัท ซัสโก้ จำกัด (มหาชน) | H7: - คุณสมบัติครบถ้วน | I7: ใบสั่งซื้อ เลขที่ CNTR-0077/63
F8: 100000 | G8: =+F8 -> 100000 | H8: - เสนอราคาไม่เกินวงเงิน | I8: ลว. 24 ก.พ. 63
H9: และงบประมาณ
A10: 2 | B10: จ้างทำป้ายไวนิลประชาสัมพันธ์สำหรับการรับสมัคร | C10: 1000 | D10: 864 | E10: เฉพาะเจาะจง | F10: ร้านสิชลโฆษณา | G10: =+F10 -> ร้านสิชลโฆษณา | H10: - คุณสมบัติครบถ้วน | I10: ใบสั่งจ้าง เลขที่ CNTR-0071/63
B11: เด็กเล็กเพื่อเข้าเรียน ปีการศึกษา 2563 | F11: =+D10 -> 864 | G11: =+F11 -> 864 | H11: - เสนอราคาไม่เกินวงเงิน | I11: ลว. 18 ก.พ. 63
B12: เด็กและเยาวชน | H12: และงบประมาณ
A13: 3 | B13: จ้างตรวจเช็คและซ่อมแซมรถยนต์ส่วนกลาง หมาย | C13: 15000 | D13: 14510 | E13: เฉพาะเจาะจง | F13: ร้านท่าหินการยางและรถยก | G13: =+F13 -> ร้านท่าหินการยางและรถยก | H13: - คุณสมบัติครบถ้วน | I13: ใบสั่งจ้าง เลขที่ CNTR-0074/63
B14: เลขทะเบียน กง 9261 นศ | F14: 14510 | G14: =+F14 -> 14510 | H14: - เสนอราคาไม่เกินวงเงิน | I14: ลว. 20 ก.พ. 63
H15: และงบประมาณ
A16: 4 | B16: จ้างเหมาบริการรถไถเกลี่ยหินขนาดไม่น้อยกว่า 70 | C16: 15000 | D16: 15000 | E16: เฉพาะเจาะจง | F16: นายพงศธร ชัยเมือง | G16: =+F16 -> นายพงศธร ชัยเมือง | H16: - คุณสมบัติครบถ้วน | I16: ใบสั่งจ้าง เลขที่ CNTR-0080/63
B17: แรงม้า | F17: =+D16 -> 15000 | G17: =+F17 -> 15000 | H17: - เสนอราคาไม่เกินวงเงิน | I17: ลว. 27 ก.พ. 63
H18: และงบประมาณ
A19: 5 | B19: จ้างก่อสร้าง ถนน คสล. สายบ้านนายไพรัช-หัวสะ | C19: 488000 | D19: 484000 | E19: เฉพาะเจาะจง | F19: หจก.สิงห์โยธา คอนสตรัคชั่น | G19: =+F19 -> หจก.สิงห์โยธา คอนสตรัคชั่น | H19: - คุณสมบัติครบถ้วน | I19: สัญญาจ้าง เลขที่ CNTR-0067/63
B20: พานคลองท่าทน ม.10 | F20: 483000 | G20: =+F20 -> 483000 | H20: - เสนอราคาไม่เกินวงเงิน | I20: ลว. 3 ก.พ. 63
H21: และงบประมาณ
A22: 6 | B22: จ้างก่อสร้างถนน คสล. สายศาลาหมู่บ้าน-หมื่นเห็ด | C22: 487000 | D22: 462000 | E22: เฉพาะเจาะจง | F22: หจก.สิงห์โยธา คอนสตรัคชั่น | G22: =+F22 -> หจก.สิงห์โยธา คอนสตรัคชั่น | H22: - คุณสมบัติครบถ้วน | I22: สัญญาจ้าง เลขที่ CNTR-0068/63
B23: ม.10 | F23: 460000 | G23: =+F23 -> 460000 | H23: - เสนอราคาไม่เกินวงเงิน | I23: ลว. 3 ก.พ. 63
H24: และงบประมาณ
A25: 7 | B25: จ้างก่อสร้าง ถนน คสล. สายต้นไทร-ถนนทางหลวง | C25: 487000 | D25: 450000 | E25: เฉพาะเจาะจง | F25: หจก.จิตติภัณฑ์ ก่อสร้าง | G25: =+F25 -> หจก.จิตติภัณฑ์ ก่อสร้าง | H25: - คุณสมบัติครบถ้วน | I25: สัญญาจ้าง เลขที่ CNTR-0069/63
B26: ชนบท ม.11 | F26: 450000 | G26: =+F26 -> 450000 | H26: - เสนอราคาไม่เกินวงเงิน | I26: ลว. 4 ก.พ. 63
H27: และงบประมาณ
A28: 8 | B28: จ้างก่อสร้าง ถนน คสล. สายราชพัสดุ-ต้นไทร ม.11 | C28: 488000 | D28: 440000 | E28: เฉพาะเจาะจง | F28: หจก.จิตติภัณฑ์ ก่อสร้าง | G28: =+F28 -> หจก.จิตติภัณฑ์ ก่อสร้าง | H28: - คุณสมบัติครบถ้วน | I28: สัญญาจ้าง เลขที่ CNTR-0070/63
F29: 440000 | G29: =+F29 -> 440000 | H29: - เสนอราคาไม่เกินวงเงิน | I29: ลว. 4 ก.พ. 63
H30: และงบประมาณ
A31: 9 | B31: จ้างก่อสร้าง ถนน คสล. สายวัดเจดีย์-ม่วงข้าวแพง | C31: 487000 | D31: 452000 | E31: เฉพาะเจาะจง | F31: หจก.แม็กซ์ซิมัส บิสซีเนส | G31: =+F31 -> หจก.แม็กซ์ซิมัส บิสซีเนส | H31: - คุณสมบัติครบถ้วน | I31: สัญญาจ้าง เลขที่ CNTR-0072/63
B32: ม.6 และ ม.7 | F32: 452000 | G32: =+F32 -> 452000 | H32: - เสนอราคาไม่เกินวงเงิน | I32: ลว. 20 ก.พ. 63
H33: และงบประมาณ
A34: 10 | B34: จ้างก่อสร้าง ถนน คสล.สายบ้านนายวิโรจน์-บ้าน | C34: 487000 | D34: 455000 | E34: เฉพาะเจาะจง | F34: หจก.แม็กซ์ซิมัส บิสซีเนส | G34: =+F34 -> หจก.แม็กซ์ซิมัส บิสซีเนส | H34: - คุณสมบัติครบถ้วน | I34: สัญญาจ้าง เลขที่ CNTR-0073/63
B35: นายสมบวน ม.6 | F35: 455000 | G35: =+F35 -> 455000 | H35: - เสนอราคาไม่เกินวงเงิน | I35: ลว. 20 ก.พ. 63
H36: และงบประมาณ
A37: 11 | B37: จ้างก่อสร้าง ถนน คสล. สายศาลาแท่นทอง ม.5 | C37: 430000 | D37: 388000 | E37: เฉพาะเจาะจง | F37: บริษัท นันทวรรธไชย 2002 จำกัด | G37: =+F37 -> บริษัท นันทวรรธไชย 2002 จำกัด | H37: - คุณสมบัติครบถ้วน | I37: สัญญาจ้าง เลขที่ CNTR-0075/63
F38: 387000 | G38: =+F38 -> 387000 | H38: - เสนอราคาไม่เกินวงเงิน | I38: ลว. 21 ก.พ. 63
H39: และงบประมาณ
A40: 12 | B40: จ้างก่อสร้าง ถนน คสล.สายม่วงทอง ม.5 | C40: 488000 | D40: 446000 | E40: เฉพาะเจาะจง | F40: บริษัท นันทวรรธไชย 2002 จำกัด | G40: =+F40 -> บริษัท นันทวรรธไชย 2002 จำกัด | H40: - คุณสมบัติครบถ้วน | I40: สัญญาจ้าง เลขที่ CNTR-0076/63
F41: 445000 | G41: =+F41 -> 445000 | H41: - เสนอราคาไม่เกินวงเงิน | I41: ลว. 21 ก.พ. 63
H42: และงบประมาณ
A43: 13 | B43: จ้างก่อสร้าง ถนน คสล.สายสามแยกวิชิต-คลองท่า | C43: 487000 | D43: 440000 | E43: เฉพาะเจาะจง | F43: หจก.จิตติภัณฑ์ ก่อสร้าง | G43: =+F43 -> หจก.จิตติภัณฑ์ ก่อสร้าง | H43: - คุณสมบัติครบถ้วน | I43: สัญญาจ้าง เลขที่ CNTR-0078/63
B44: ทน ม.2 | F44: 440000 | G44: =+F44 -> 440000 | H44: - เสนอราคาไม่เกินวงเงิน | I44: ลว. 24 ก.พ. 63
H45: และงบประมาณ
A46: 14 | B46: จ้างก่อสร้าง ถนน คสล.สายบ้านนายภักดี-ควนไม้ไผ่ | C46: 487000 | D46: 440000 | E46: เฉพาะเจาะจง | F46: หจก.จิตติภัณฑ์ ก่อสร้าง | G46: =+F46 -> หจก.จิตติภัณฑ์ ก่อสร้าง | H46: - คุณสมบัติครบถ้วน | I46: สัญญาจ้าง เลขที่ CNTR-0079/63
B47: ม.2 | F47: 440000 | G47: =+F47 -> 440000 | H47: - เสนอราคาไม่เกินวงเงิน | I47: ลว. 24 ก.พ. 63
H48: และงบประมาณ

Sheet Sheet2
A1: งบหน้าสรุปผลการพิจารณาการจัดซื้อจัดจ้างขององค์การบริหารส่วนตำบลฉลอง
A2: ประจำเดือนกุมภาพันธ์ 2563
F4: รวมราคาที่พิจารณา | G4: วงเงินต่ำหรือสูง
A5: ลำดับที่ | B5: วิธีการจัดซื้อจัดจ้าง | C5: จำนวนโครงการ | D5: รวมวงเงินที่จัดซื้อจัดจ้าง | E5: รวมราคากลาง | F5: คัดเลือก | G5: กว่าราคากลาง | H5: หมายเหตุ
G6: (+ สูง) (-ต่ำกว่า)
A7: 1 | B7: จัดซื้อโดยวิธีประกาศเชิญชวนทั่วไป | C7: - | D7: - | E7: =+D7 -> - | F7: =+D7 -> - | G7: -
A8: 2 | B8: จัดจ้างโดยวิธีประกาศเชิญชวนทั่วไป | C8: - | D8: - | E8: =+D8 -> - | F8: =+D8 -> - | G8: -
A9: 3 | B9: จัดซื้อโดยวิธีการคัดเลือก | C9: - | D9: - | E9: - | F9: - | G9: -
A10: 4 | B10: จัดจ้างโดยวิธีการคัดเลือก | C10: - | D10: - | E10: =+D10 -> - | F10: =+D10 -> - | G10: -
A11: 5 | B11: จัดซื้อโดยวิธีเฉพาะเจาะจง | C11: 1 | D11: =+กุมภาพันธ์!C7 -> 100000 | E11: =+กุมภาพันธ์!D7 -> 100000 | F11: =+E11 -> 100000 | G11: -
A12: 6 | B12: จัดจ้างโดยวิธีเฉพาะเจาะจง | C12: 13 | D12: =+กุมภาพันธ์!C10+กุมภาพันธ์!C13+กุมภาพันธ์!C16+กุมภาพันธ์!C19+กุมภาพันธ์!C22+กุมภาพันธ์!C25+กุมภาพันธ์!C28+กุมภาพันธ์!C31+กุมภาพันธ์!C34+กุมภาพันธ์!C37+กุมภาพันธ์!C40+กุมภาพันธ์!C43+กุมภาพันธ์!C46 -> 4847000 | E12: =+กุมภาพันธ์!D10+กุมภาพันธ์!D13+กุมภาพันธ์!D16+กุมภาพันธ์!D19+กุมภาพันธ์!D22+กุมภาพันธ์!D25+กุมภาพันธ์!D28+กุมภาพันธ์!D31+กุมภาพันธ์!D34+กุมภาพันธ์!D37+กุมภาพันธ์!D40+กุมภาพันธ์!D43+กุมภาพันธ์!D46 -> 4487374 | F12: =+กุมภาพันธ์!F11+กุมภาพันธ์!F14+กุมภาพันธ์!F17+กุมภาพันธ์!F20+กุมภาพันธ์!F23+กุมภาพันธ์!F26+กุมภาพันธ์!F29+กุมภาพันธ์!F32+กุมภาพันธ์!F35+กุมภาพันธ์!F38+กุมภาพันธ์!F41+กุมภาพันธ์!F44+กุมภาพันธ์!F47 -> 4482374 | G12: =+D12-E12 -> 359626
A13: 7 | B13: จัดซื้อโดยวิธีตลาดอิเล็กทรอนิกส์ | C13: - | D13: - | E13: =+D13 -> - | F13: =+E13 -> - | G13: -
A14: 8 | B14: จัดจ้างโดยวิธีตลาดอิเล็กทรอนิกส์ | C14: - | D14: - | E14: - | F14: - | G14: -
A15: 9 | B15: จัดซื้อโดยวิธีประกวดราคาอิเล็กทรอนิกส์ | C15: - | D15: - | E15: - | F15: - | G15: -
A16: 10 | B16: จัดจ้างโดยวิธีประกวดราคาอิเล็กทรอนิกส์ | C16: - | D16: - | E16: - | F16: - | G16: -
B17: ได้นำข้อมูลเกี่ยวกับการจัดซื้อจัดจ้างตามแบบ สขร.๑ ( ประจำเดือนกุมภาพันธ์ 2563)
B18: เผยแพร่ เมื่อวันที่ 2 มีนาคม 2563 โดยวิธีปิดประกาศ และที่เว็บไซต์ www.chalong.go.th
B19: ไม่ได้นำข้อมูลเกี่ยวกับการจัดซื้อจัดจ้างตามแบบ สขร.๑ เผยแพร่ เหตุเพราะ ..........................................................................................
F21: (ลงชื่อ)..................................................ผู้รายงาน
F22: (นางสุมิตรา รักบำรุง)
F23: ปลัดองค์การบริหารส่วนตำบลฉลอง
