Workbook

Sheet Sheet1
A1: สรุปผลการดำเนินการจัดซื้อจัดจ้างในรอบเดือนตุลาคม 2564
A2: องค์การบริหารส่วนตำบลฉลอง อำเภอสิชล จังหวัดนครศรีธรรมราช
A3: วันที่ 2 เดือน พฤศจิกายน พ.ศ. 2564
A4: ลำดับ | B4: งานที่จัดซื้อหรือจัดจ้าง | C4: วงเงินที่จะซื้อ | D4: ราคากลาง | E4: วิธีซื้อหรือจ้าง | F4: รายชื่อผู้เสนอราคา | G4: ผู้ได้รับการคัดเลือกและราคาที่ | H4: เหตุผลที่คัดเลือกโดยสรุป | I4: เลขที่และวันที่ของสัญญา
A5: ที่ | F5: และราคาที่เสนอ | G5: ตกลงซื้อหรือจ้าง | I5: หรือข้อตกลงในการซื้อ
C6: หรือจ้าง | I6: หรือจ้าง
A7: 1 | B7: ซื้อวัสดุน้ำมันเชื้อเพลิงและหล่อลื่น (สำนักงานปลัด) | C7: 100000 | D7: 100000 | E7: เฉพาะเจาะจง | F7: บริษัท ซัสโก้ จำกัด (มหาชน) | G7: =+F7 -> บริษัท ซัสโก้ จำกัด (มหาชน) | H7: - คุณสมบัติครบถ้วน | I7: ใบสั่งซื้อ เลขที่ CNTR-00003/65
F8: 100000 | G8: =+F8 -> 100000 | H8: - เสนอราคาไม่เกินวงเงิน | I8: ลว. 1 ต.ค. 64
H9: และงบประมาณ
A10: 2 | B10: ซื้อวัสดุน้ำมันเชื้อเพลิงและหล่อลื่น (กองช่าง) | C10: 100000 | D10: 100000 | E10: =+E7 -> เฉพาะเจาะจง | F10: บริษัท ซัสโก้ จำกัด (มหาชน) | G10: =+F10 -> บริษัท ซัสโก้ จำกัด (มหาชน) | H10: - คุณสมบัติครบถ้วน | I10: ใบสั่งซื้อ เลขที่ CNTR-00004/65
F11: 100000 | G11: =+F11 -> 100000 | H11: - เสนอราคาไม่เกินวงเงิน | I11: ลว. 1 ต.ค. 64
H12: และงบประมาณ
A13: 3 | B13: ซื้อแบบพิมพ์สำหรับโครงการเลือกตั้งสมาชิกสภาองค์การ | C13: 10000 | D13: 9477 | E13: เฉพาะเจาะจง | F13: โรงพิมพ์อาสารักษาดินแดน กรมการปกครอง | G13: =+F13 -> โรงพิมพ์อาสารักษาดินแดน กรมการปกครอง | H13: - คุณสมบัติครบถ้วน | I13: ใบสั่งซื้อ เลขที่ CNTR-00007/65
B14: บริหารส่วนตำบลและนายกองค์การบริหารส่วนตำบลฉลอง | F14: 9477 | G14: =+F14 -> 9477 | H14: - เสนอราคาไม่เกินวงเงิน | I14: ลว. 4 ต.ค. 64
H15: และงบประมาณ
A16: 4 | B16: ซื้อวัสดุวิทยาศาสตร์หรือการแพทย์เพื่อป้องกันโรคติดเชื้อ | C16: 26000 | D16: 25960 | E16: เฉพาะเจาะจง | F16: ธันยาการต์ธุรกิจ | G16: =+F16 -> ธันยาการต์ธุรกิจ | H16: - คุณสมบัติครบถ้วน | I16: ใบสั่งซื้อ เลขที่ CNTR-00014/65
B17: ไวรัส โคโรนา 2019 (Covid-19) | F17: 25960 | G17: =+F17 -> 25960 | H17: - เสนอราคาไม่เกินวงเงิน | I17: ลว. 26 ต.ค. 64
H18: และงบประมาณ
A19: 5 | B19: ซื้อหมึกพิมพ์สำหรับจัดพิมพ์บัญชีรายชื่อผู้มีสิทธิ์เลือกตั้งตาม | C19: 4500 | D19: 4500 | E19: เฉพาะเจาะจง | F19: ร้านสิชลคอมพิวเตอร์แอนด์เซอร์วิส | G19: =+F19 -> ร้านสิชลคอมพิวเตอร์แอนด์เซอร์วิส | H19: - คุณสมบัติครบถ้วน | I19: ใบสั่งซื้อ เลขที่ CNTR-00018/65
B20: โครงการเลือกตั้งสมาชิกสภาองค์การบริหารส่วนตำบลและ | F20: 4500 | G20: =+F20 -> 4500 | H20: - เสนอราคาไม่เกินวงเงิน | I20: ลว. 28 ต.ค. 64
B21: นายกองค์การบริหารส่วนตำบลฉลอง | H21: และงบประมาณ
A22: 6 | B22: จ้างเช่าพื้นที่เว็บไซดืและต่ออายุโดเมนเนมรายปี | C22: 10000 | D22: 10000 | E22: เฉพาะเจาะจง | F22: บริษัท ซีเจ เวิลด์ คอมมิวนิเคชั่น จำกัด | G22: =+F22 -> บริษัท ซีเจ เวิลด์ คอมมิวนิเคชั่น จำกัด | H22: - คุณสมบัติครบถ้วน | I22: ใบสั่งจ้าง เลขที่ CNTR-00001/65
F23: 10000 | G23: =+F23 -> 10000 | H23: - เสนอราคาไม่เกินวงเงิน | I23: ลว. 1 ต.ค. 64
H24: และงบประมาณ
A25: 7 | B25: จ้างเหมาบริการทำความสะอาดขององค์การบริหารส่วนตำบล | C25: 96000 | D25: 96000 | E25: เฉพาะเจาะจง | F25: นางรัตนาพร เพ็งเกรา | G25: =+F25 -> นางรัตนาพร เพ็งเกรา | H25: - คุณสมบัติครบถ้วน | I25: ใบสั่งจ้าง เลขที่ CNTR-00002/65
B26: ฉลอง | F26: 96000 | G26: =+F26 -> 96000 | H26: - เสนอราคาไม่เกินวงเงิน | I26: ลว. 1 ต.ค. 64
H27: และงบประมาณ
A28: 8 | B28: จ้างถ่ายเอกสาร เย็บหนังสือหรือเข้าปกหนังสือ | C28: 4900 | D28: 4900 | E28: เฉพาะเจาะจง | F28: สิชล ก๊อปปี้ | G28: =+F28 -> สิชล ก๊อปปี้ | H28: - คุณสมบัติครบถ้วน | I28: ใบสั่งจ้าง เลขที่ CNTR-00005/65
F29: =+D28 -> 4900 | G29: =+F29 -> 4900 | H29: - เสนอราคาไม่เกินวงเงิน | I29: ลว. 4 ต.ค. 64
H30: และงบประมาณ
A31: 9 | B31: จ้างทำป้ายไวนิลและแบบพิมพ์สำหรับโครงการเลือกตั้งสมาชิก | C31: 30000 | D31: 29204 | E31: เฉพาะเจาะจง | F31: ห้างหุ้นส่วนจำกัด ทำเนียบ กรุ๊ป | G31: =+F31 -> ห้างหุ้นส่วนจำกัด ทำเนียบ กรุ๊ป | H31: - คุณสมบัติครบถ้วน | I31: ใบสั่งจ้าง เลขที่ CNTR-00008/65
B32: สภาองค์การบริหารส่วนตำบลและนายกองค์การบริหารส่วน | F32: 29204 | G32: =+F32 -> 29204 | H32: - เสนอราคาไม่เกินวงเงิน | I32: ลว. 4 ต.ค. 64
B33: ตำบลฉลอง | H33: และงบประมาณ
A34: 10 | B34: จ้างถ่ายเอกสาร เย็บหนังสือหรือเข้าปกหนังสือ | C34: 3460 | D34: 3460 | E34: เฉพาะเจาะจง | F34: สิชล ก๊อปปี้ | G34: =+F34 -> สิชล ก๊อปปี้ | H34: - คุณสมบัติครบถ้วน | I34: ใบสั่งจ้าง เลขที่ CNTR-00009/65
F35: 3460 | G35: =+F35 -> 3460 | H35: - เสนอราคาไม่เกินวงเงิน | I35: ลว. 7 ต.ค. 64
H36: และงบประมาณ
A37: 11 | B37: จ้างถ่ายเอกสาร เย็บหนังสือหรือเข้าปกหนังสือ | C37: 4900 | D37: 4900 | E37: เฉพาะเจาะจง | F37: สิชล ก๊อปปี้ | G37: =+F37 -> สิชล ก๊อปปี้ | H37: - คุณสมบัติครบถ้วน | I37: ใบสั่งจ้าง เลขที่ CNTR-00010/65
F38: 4900 | G38: =+F38 -> 4900 | H38: - เสนอราคาไม่เกินวงเงิน | I38: ลว. 14 ต.ค. 64
H39: และงบประมาณ
A40: 12 | B40: จ้างตรวจเช็คและซ่อมแซมเครื่องคอมพิวเตอร์ ที่อยู่ในความ | C40: 12000 | D40: 11420 | E40: เฉพาะเจาะจง | F40: ร้านสิชลคอมพิวเตอร์แอนด์เซอร์วิส | G40: =+F40 -> ร้านสิชลคอมพิวเตอร์แอนด์เซอร์วิส | H40: - คุณสมบัติครบถ้วน | I40: ใบสั่งจ้าง เลขที่ CNTR-00017/65
...

Sheet Sheet2
A1: งบหน้าสรุปผลการพิจารณาการจัดซื้อจัดจ้างขององค์การบริหารส่วนตำบลฉลอง
A2: ประจำเดือนตุลาคม 2564
F4: รวมราคาที่พิจารณา | G4: วงเงินต่ำหรือสูง
A5: ลำดับที่ | B5: วิธีการจัดซื้อจัดจ้าง | C5: จำนวนโครงการ | D5: รวมวงเงินที่จัดซื้อจัดจ้าง | E5: รวมราคากลาง | F5: คัดเลือก | G5: กว่าราคากลาง | H5: หมายเหตุ
G6: (+ สูง) (-ต่ำกว่า)
A7: 1 | B7: จัดซื้อโดยวิธีประกาศเชิญชวนทั่วไป | C7: - | D7: - | E7: =+D7 -> - | F7: =+D7 -> - | G7: -
A8: 2 | B8: จัดจ้างโดยวิธีประกาศเชิญชวนทั่วไป | C8: - | D8: - | E8: =+D8 -> - | F8: =+D8 -> - | G8: -
A9: 3 | B9: จัดซื้อโดยวิธีการคัดเลือก | C9: - | D9: - | E9: - | F9: - | G9: -
A10: 4 | B10: จัดจ้างโดยวิธีการคัดเลือก | C10: 2 | D10: =+Sheet1!C49+Sheet1!C52 -> 4647000 | E10: =+Sheet1!D49+Sheet1!D52 -> 4658687.5 | F10: =+Sheet1!G50+Sheet1!G53 -> 4557000 | G10: =+D10-E10 -> -11687.54
A11: 5 | B11: จัดซื้อโดยวิธีเฉพาะเจาะจง | C11: 5 | D11: =+Sheet1!C7+Sheet1!C10+Sheet1!C13+Sheet1!C16+Sheet1!C19 -> 240500 | E11: =+Sheet1!D7+Sheet1!D10+Sheet1!D13+Sheet1!D16+Sheet1!D19 -> 239937 | F11: =+Sheet1!G8+Sheet1!G11+Sheet1!G14+Sheet1!G17+Sheet1!G20 -> 239937 | G11: =+D11-E11 -> 563
A12: 6 | B12: จัดจ้างโดยวิธีเฉพาะเจาะจง | C12: 9 | D12: =+Sheet1!C22+Sheet1!C25+Sheet1!C28+Sheet1!C31+Sheet1!C34+Sheet1!C37+Sheet1!C40+Sheet1!C43+Sheet1!C46 -> 354260 | E12: =+Sheet1!D22+Sheet1!D25+Sheet1!D28+Sheet1!D31+Sheet1!D34+Sheet1!D37+Sheet1!D40+Sheet1!D43+Sheet1!D46 -> 352554 | F12: =+Sheet1!G23+Sheet1!G26+Sheet1!G29+Sheet1!G32+Sheet1!G35+Sheet1!G38+Sheet1!G41+Sheet1!G44+Sheet1!G47 -> 352554 | G12: =+D12-E12 -> 1706
A13: 7 | B13: จัดซื้อโดยวิธีตลาดอิเล็กทรอนิกส์ | C13: - | D13: - | E13: =+D13 -> - | F13: =+E13 -> - | G13: -
A14: 8 | B14: จัดจ้างโดยวิธีตลาดอิเล็กทรอนิกส์ | C14: - | D14: - | E14: - | F14: - | G14: -
A15: 9 | B15: จัดซื้อโดยวิธีประกวดราคาอิเล็กทรอนิกส์ | C15: - | D15: - | E15: - | F15: - | G15: -
A16: 10 | B16: จัดจ้างโดยวิธีประกวดราคาอิเล็กทรอนิกส์ | C16: - | D16: - | E16: - | F16: - | G16: -
B17: ได้นำข้อมูลเกี่ยวกับการจัดซื้อจัดจ้างตามแบบ สขร.๑ ( ประจำเดือนตุลาคม 2564)
B18: เผยแพร่ เมื่อวันที่ 2 พฤศจิกายน 2564 โดยวิธีปิดประกาศ และที่เว็บไซต์ www.chalong.go.th
B19: ไม่ได้นำข้อมูลเกี่ยวกับการจัดซื้อจัดจ้างตามแบบ สขร.๑ เผยแพร่ เหตุเพราะ ..........................................................................................
F21: (ลงชื่อ)..................................................ผู้รายงาน
F22: (นางสุมิตรา รักบำรุง)
F23: ปลัดองค์การบริหารส่วนตำบลฉลอง
