Workbook

Sheet ตุลาคม
A1: สรุปผลการดำเนินการจัดซื้อจัดจ้างในรอบเดือนตุลาคม 2563
A2: องค์การบริหารส่วนตำบลฉลอง อำเภอสิชล จังหวัดนครศรีธรรมราช
A3: วันที่ 2 เดือน พฤศจิกายน พ.ศ. 2563
A4: ลำดับ | B4: งานที่จัดซื้อหรือจัดจ้าง | C4: วงเงินที่จะซื้อ | D4: ราคากลาง | E4: วิธีซื้อหรือจ้าง | F4: รายชื่อผู้เสนอราคา | G4: ผู้ได้รับการคัดเลือกและราคาที่ | H4: เหตุผลที่คัดเลือกโดยสรุป | I4: เลขที่และวันที่ของสัญญา
A5: ที่ | F5: และราคาที่เสนอ | G5: ตกลงซื้อหรือจ้าง | I5: หรือข้อตกลงในการซื้อ
C6: หรือจ้าง | I6: หรือจ้าง
A7: 1 | B7: ซื้อวัสดุน้ำมันเชื้อเพลิงและหล่อลื่น สำนักงานปลัด | C7: 100000 | D7: 100000 | E7: เฉพาะเจาะจง | F7: บริษัท ซัสโก้ จำกัด (มหาชน) | G7: =+F7 -> บริษัท ซัสโก้ จำกัด (มหาชน) | H7: - คุณสมบัติครบถ้วน | I7: ใบสั่งซื้อ เลขที่ CNTR-0003/64
F8: 100000 | G8: =+F8 -> 100000 | H8: - เสนอราคาไม่เกินวงเงิน | I8: ลว. 1 ต.ค. 63
H9: และงบประมาณ
A10: 2 | B10: ซื้อวัสดุน้ำมันเชื้อเพลิงและหล่อลื่น กองช่าง | C10: 100000 | D10: 100000 | E10: เฉพาะเจาะจง | F10: บริษัท ซัสโก้ จำกัด (มหาชน) | G10: =+F10 -> บริษัท ซัสโก้ จำกัด (มหาชน) | H10: - คุณสมบัติครบถ้วน | I10: ใบสั่งซื้อ เลขที่ CNTR-0004/64
F11: =+D10 -> 100000 | G11: =+F11 -> 100000 | H11: - เสนอราคาไม่เกินวงเงิน | I11: ลว. 1 ต.ค. 63
H12: และงบประมาณ
A13: 3 | B13: ซื้อวัสดุน้ำมันเชื้อเพลิงและหล่อลื่น (น้ำมันไฮดรอลิค | C13: 4250 | D13: 4250 | E13: เฉพาะเจาะจง | F13: อนันชัยสิชลกลการ | G13: =+F13 -> อนันชัยสิชลกลการ | H13: - คุณสมบัติครบถ้วน | I13: ใบสั่งซื้อ เลขที่ CNTR-0011/64
B14: น้ำมันจาระบี) | F14: 4250 | G14: =+F14 -> 4250 | H14: - เสนอราคาไม่เกินวงเงิน | I14: ลว. 26 ต.ค. 63
H15: และงบประมาณ
A16: 4 | B16: จ้างเหมาบริการทำความสะอาด อบต.ฉลอง | C16: 96000 | D16: 96000 | E16: เฉพาะเจาะจง | F16: นางสาววรรณวิศา แก้วทะนัง | G16: =+F16 -> นางสาววรรณวิศา แก้วทะนัง | H16: - คุณสมบัติครบถ้วน | I16: ใบสั่งจ้าง เลขที่ CNTR-0002/64
F17: =+D16 -> 96000 | G17: =+F17 -> 96000 | H17: - เสนอราคาไม่เกินวงเงิน | I17: ลว. 1 ต.ค. 63
H18: และงบประมาณ
A19: 5 | B19: ค่าถ่ายเอกสาร ค่าเย็บหนังสือหรือเข้าปกหนังสือ | C19: 4900 | D19: 4900 | E19: เฉพาะเจาะจง | F19: สิชล ก๊อปปี้ | G19: =+F19 -> สิชล ก๊อปปี้ | H19: - คุณสมบัติครบถ้วน | I19: ใบสั่งจ้าง เลขที่ CNTR-0007/64
F20: 4900 | G20: =+F20 -> 4900 | H20: - เสนอราคาไม่เกินวงเงิน | I20: ลว. 16 ต.ค. 63
H21: และงบประมาณ
A22: 6 | B22: จ้างตรวจเช็คและซ่อมแซม รถยนต์ส่วนกลาง | C22: 20000 | D22: 19795 | E22: เฉพาะเจาะจง | F22: หจก.เอส.ซี.ไทร์ | G22: =+F22 -> หจก.เอส.ซี.ไทร์ | H22: - คุณสมบัติครบถ้วน | I22: ใบสั่งซื้อ เลขที่ CNTR-0008/64
B23: หมายเลขทะเบียน กง 9261 นศ | F23: 19795 | G23: =+F23 -> 19795 | H23: - เสนอราคาไม่เกินวงเงิน | I23: ลว. 21 ต.ค. 63
H24: และงบประมาณ
A25: 7 | B25: จ้างซ่อมแซมรถตักหน้า-ขุดหลัง หมายเลขทะเบียน | C25: 13500 | D25: 13500 | E25: เฉพาะเจาะจง | F25: อนันชัยสิชลกลการ | G25: =+F25 -> อนันชัยสิชลกลการ | H25: - คุณสมบัติครบถ้วน | I25: ใบสั่งจ้าง เลขที่ CNTR-0010/64
B26: ตค 1867 | F26: 13500 | G26: =+F26 -> 13500 | H26: - เสนอราคาไม่เกินวงเงิน | I26: ลว. 26 ต.ค. 63
H27: และงบประมาณ
A28: 8 | B28: เช่าพื้นที่เว็บไซด์และต่ออายุโดเมนเนมรายปี | C28: 10000 | D28: 10000 | E28: เฉพาะเจาะจง | F28: บริษัท ซีเจ เวิลด์ | G28: =+F28 -> บริษัท ซีเจ เวิลด์ | H28: - คุณสมบัติครบถ้วน | I28: ใบสั่งจ้าง เลขที่ CNTR-0001/64
B29: (ตุลาคม 2563 - กันยายน 2564) | F29: 10000 | G29: =+F29 -> 10000 | H29: - เสนอราคาไม่เกินวงเงิน | I29: ลว. 1 ต.ค. 63
H30: และงบประมาณ
A31: 9 | B31: จ้างก่อสร้าง ถนน คสล.สายสามแยกวิชิต-คลองท่า | C31: 496000 | D31: 451000 | E31: เฉพาะเจาะจง | F31: หจก.รุ่งอนันไชย คอนตรัคชั่น | G31: =+F31 -> หจก.รุ่งอนันไชย คอนตรัคชั่น | H31: - คุณสมบัติครบถ้วน | I31: สัญญาจ้าง เลขที่ CNTR-0005/64
B32: ทน ม.2 ต.ฉลอง | F32: 451000 | G32: =+F32 -> 451000 | H32: - เสนอราคาไม่เกินวงเงิน | I32: ลว. 6 ต.ค. 63
H33: และงบประมาณ
A34: 10 | B34: จ้างก่อสร้าง ถนน คสล.สายม่วงทอง ม.5 | C34: 474000 | D34: 419000 | E34: เฉพาะเจาะจง | F34: หจก.จิตติภัณฑ์ก่อสร้าง | G34: =+F34 -> หจก.จิตติภัณฑ์ก่อสร้าง | H34: - คุณสมบัติครบถ้วน | I34: สัญญาจ้าง เลขที่ CNTR-0006/64
F35: 419000 | G35: =+F35 -> 419000 | H35: - เสนอราคาไม่เกินวงเงิน | I35: ลว. 9 ต.ค. 63
H36: และงบประมาณ

Sheet Sheet2
A1: งบหน้าสรุปผลการพิจารณาการจัดซื้อจัดจ้างขององค์การบริหารส่วนตำบลฉลอง
A2: ประจำเดือนตุลาคม 2563
F4: รวมราคาที่พิจารณา | G4: วงเงินต่ำหรือสูง
A5: ลำดับที่ | B5: วิธีการจัดซื้อจัดจ้าง | C5: จำนวนโครงการ | D5: รวมวงเงินที่จัดซื้อจัดจ้าง | E5: รวมราคากลาง | F5: คัดเลือก | G5: กว่าราคากลาง | H5: หมายเหตุ
G6: (+ สูง) (-ต่ำกว่า)
A7: 1 | B7: จัดซื้อโดยวิธีประกาศเชิญชวนทั่วไป | C7: - | D7: - | E7: =+D7 -> - | F7: =+D7 -> - | G7: -
A8: 2 | B8: จัดจ้างโดยวิธีประกาศเชิญชวนทั่วไป | C8: - | D8: - | E8: =+D8 -> - | F8: =+D8 -> - | G8: -
A9: 3 | B9: จัดซื้อโดยวิธีการคัดเลือก | C9: - | D9: - | E9: - | F9: - | G9: -
A10: 4 | B10: จัดจ้างโดยวิธีการคัดเลือก | C10: - | D10: - | E10: =+D10 -> - | F10: =+D10 -> - | G10: -
A11: 5 | B11: จัดซื้อโดยวิธีเฉพาะเจาะจง | C11: 3 | D11: =+ตุลาคม!C7+ตุลาคม!C10+ตุลาคม!C13 -> 204250 | E11: =+ตุลาคม!D7+ตุลาคม!D10+ตุลาคม!D13 -> 204250 | F11: =+ตุลาคม!G8+ตุลาคม!G11+ตุลาคม!G14 -> 204250 | G11: -
A12: 6 | B12: จัดจ้างโดยวิธีเฉพาะเจาะจง | C12: 7 | D12: =+ตุลาคม!C16+ตุลาคม!C19+ตุลาคม!C22+ตุลาคม!C25+ตุลาคม!C28+ตุลาคม!C31+ตุลาคม!C34 -> 1114400 | E12: =+ตุลาคม!D16+ตุลาคม!D19+ตุลาคม!D22+ตุลาคม!D25+ตุลาคม!D28+ตุลาคม!D31+ตุลาคม!D34 -> 1014195 | F12: =+ตุลาคม!G17+ตุลาคม!G20+ตุลาคม!G23+ตุลาคม!G26+ตุลาคม!G29+ตุลาคม!G32+ตุลาคม!G35 -> 1014195 | G12: =+D12-E12 -> 100205
A13: 7 | B13: จัดซื้อโดยวิธีตลาดอิเล็กทรอนิกส์ | C13: - | D13: - | E13: =+D13 -> - | F13: =+E13 -> - | G13: -
A14: 8 | B14: จัดจ้างโดยวิธีตลาดอิเล็กทรอนิกส์ | C14: - | D14: - | E14: - | F14: - | G14: -
A15: 9 | B15: จัดซื้อโดยวิธีประกวดราคาอิเล็กทรอนิกส์ | C15: - | D15: - | E15: - | F15: - | G15: -
A16: 10 | B16: จัดจ้างโดยวิธีประกวดราคาอิเล็กทรอนิกส์ | C16: - | D16: - | E16: - | F16: - | G16: -
B17: ได้นำข้อมูลเกี่ยวกับการจัดซื้อจัดจ้างตามแบบ สขร.๑ ( ประจำเดือนกันยายน 2563)
B18: เผยแพร่ เมื่อวันที่ 2 พฤศจิกายน 2563 โดยวิธีปิดประกาศ และที่เว็บไซต์ www.chalong.go.th
B19: ไม่ได้นำข้อมูลเกี่ยวกับการจัดซื้อจัดจ้างตามแบบ สขร.๑ เผยแพร่ เหตุเพราะ ..........................................................................................
F21: (ลงชื่อ)..................................................ผู้รายงาน
F22: (นางสุมิตรา รักบำรุง)
F23: ปลัดองค์การบริหารส่วนตำบลฉลอง
