Workbook

Sheet Sheet1
A1: สรุปผลการดำเนินการจัดซื้อจัดจ้างในรอบเดือนพฤศจิกายน 2564
A2: องค์การบริหารส่วนตำบลฉลอง อำเภอสิชล จังหวัดนครศรีธรรมราช
A3: วันที่ 2 เดือน ธันวาคม พ.ศ. 2564
A4: ลำดับ | B4: งานที่จัดซื้อหรือจัดจ้าง | C4: วงเงินที่จะซื้อ | D4: ราคากลาง | E4: วิธีซื้อหรือจ้าง | F4: รายชื่อผู้เสนอราคา | G4: ผู้ได้รับการคัดเลือกและราคาที่ | H4: เหตุผลที่คัดเลือกโดยสรุป | I4: เลขที่และวันที่ของสัญญา
A5: ที่ | F5: และราคาที่เสนอ | G5: ตกลงซื้อหรือจ้าง | I5: หรือข้อตกลงในการซื้อ
C6: หรือจ้าง | I6: หรือจ้าง
A7: 1 | B7: ซื้ออาหารเสริม (นม) โรงเรียน ประจำภาคเรียนที่ 2/2564 | C7: 148126.44 | D7: 148126.44 | E7: เฉพาะเจาะจง | F7: สหกรณ์โคนมชะอำ-หัวทราย จำกัด | G7: =+F7 -> สหกรณ์โคนมชะอำ-หัวทราย จำกัด | H7: - คุณสมบัติครบถ้วน | I7: ใบสั่งซื้อ เลขที่ CNTR-00021/65
F8: 148126.44 | G8: =+F8 -> 148126.44 | H8: - เสนอราคาไม่เกินวงเงิน | I8: ลว. 1 พ.ย. 64
H9: และงบประมาณ
A10: 2 | B10: ซื้อวัสดุวิทยาศาสตร์หรือการแพทย์เพื่อป้องกันโรคติดเชื้อไวรัสโคโร | C10: 16000 | D10: 15800 | E10: =+E7 -> เฉพาะเจาะจง | F10: ธันยาการต์ธุรกิจ | G10: =+F10 -> ธันยาการต์ธุรกิจ | H10: - คุณสมบัติครบถ้วน | I10: ใบสั่งซื้อ เลขที่ CNTR-00022/65
B11: นา 2019 (COVID-19) | F11: 15800 | G11: =+F11 -> 15800 | H11: - เสนอราคาไม่เกินวงเงิน | I11: ลว. 4 พ.ย. 64
H12: และงบประมาณ
A13: 3 | B13: ซื้อกระเบื้องสำหรับช่วยเหลือประชาชนที่ได้รับความเดือดร้อนจาก | C13: 2460 | D13: 2460 | E13: เฉพาะเจาะจง | F13: หจก.จิตติภัณฑ์ วัสดุก่อสร้าง | G13: =+F13 -> หจก.จิตติภัณฑ์ วัสดุก่อสร้าง | H13: - คุณสมบัติครบถ้วน | I13: ใบสั่งซื้อ เลขที่ CNTR-00023/65
B14: สาธารณภัย | F14: 2460 | G14: =+F14 -> 2460 | H14: - เสนอราคาไม่เกินวงเงิน | I14: ลว. 5 พ.ย. 64
H15: และงบประมาณ
A16: 4 | B16: ซื้อแบบพิมพ์สำหรับโครงากรเลือกตั้งสมาชิกสภาองค์การบริหารส่วน | C16: 1000 | D16: 256 | E16: เฉพาะเจาะจง | F16: โรงพิมพ์อาสารักษาดินแดน กรมการปกครอง | G16: =+F16 -> โรงพิมพ์อาสารักษาดินแดน กรมการปกครอง | H16: - คุณสมบัติครบถ้วน | I16: ใบสั่งซื้อ เลขที่ CNTR-00024/65
B17: ตำบลและนายกองค์การบริหารส่วนตำบลฉลอง | F17: 256 | G17: =+F17 -> 256 | H17: - เสนอราคาไม่เกินวงเงิน | I17: ลว. 5 พ.ย. 64
H18: และงบประมาณ
A19: 5 | B19: ซื้อบัตรเลือกตั้งสำหรับโครงการเลือกตั้งสมาชิกสภาองค์การบริหาร | C19: 15000 | D19: 14000 | E19: เฉพาะเจาะจง | F19: โรงพิมพ์อาสารักษาดินแดน กรมการปกครอง | G19: =+F19 -> โรงพิมพ์อาสารักษาดินแดน กรมการปกครอง | H19: - คุณสมบัติครบถ้วน | I19: ใบสั่งซื้อ เลขที่ CNTR-00025/65
B20: ส่วนตำบลและนายกองค์การบริหารส่วนตำบลฉลอง | F20: 14000 | G20: =+F20 -> 14000 | H20: - เสนอราคาไม่เกินวงเงิน | I20: ลว. 11 พ.ย. 64
H21: และงบประมาณ
A22: 6 | B22: ซื้อวัสดุสำนักงาน กองช่าง จำนวน 13 รายการ | C22: 7568 | D22: 7568 | E22: เฉพาะเจาะจง | F22: ปรีดาค้าวัสดุ | G22: =+F22 -> ปรีดาค้าวัสดุ | H22: - คุณสมบัติครบถ้วน | I22: ใบสั่งซื้อ เลขที่ CNTR-00026/65
F23: 7568 | G23: =+F23 -> 7568 | H23: - เสนอราคาไม่เกินวงเงิน | I23: ลว. 15 พ.ย. 64
H24: และงบประมาณ
A25: 7 | B25: ซื้อวัสดุคอมพิวเตอร์สำนักงานปลัด จำนวน 4 รายการ | C25: 8000 | D25: 7748 | E25: เฉพาะเจาะจง | F25: ร้านสิชลคอมพิวเตอร์แอนด์เซอร์วิส | G25: =+F25 -> ร้านสิชลคอมพิวเตอร์แอนด์เซอร์วิส | H25: - คุณสมบัติครบถ้วน | I25: ใบสั่งซื้อ เลขที่ CNTR-00029/65
F26: 7748 | G26: =+F26 -> 7748 | H26: - เสนอราคาไม่เกินวงเงิน | I26: ลว. 15 พ.ย. 64
H27: และงบประมาณ
A28: 8 | B28: ซื้อครุภัณฑ์คอมพิวเตอร์ เครื่องคอมพิวเตอร์สำหรับงานประมวลผล | C28: 22000 | D28: 21900 | E28: เฉพาะเจาะจง | F28: ร้านสิชลคอมพิวเตอร์แอนด์เซอร์วิส | G28: =+F28 -> ร้านสิชลคอมพิวเตอร์แอนด์เซอร์วิส | H28: - คุณสมบัติครบถ้วน | I28: ใบสั่งซื้อ เลขที่ CNTR-00031/65
B29: จำนวน 1 เครื่อง | F29: =+D28 -> 21900 | G29: =+F29 -> 21900 | H29: - เสนอราคาไม่เกินวงเงิน | I29: ลว. 23 พ.ย. 64
H30: และงบประมาณ
A31: 9 | B31: ซื้อวัสดุคอมพพิวเตอร์ กองคลัง จำนวน 5 รายการ | C31: 52620 | D31: 52620 | E31: เฉพาะเจาะจง | F31: ร้านสิชลคอมพิวเตอร์แอนด์เซอร์วิส | G31: =+F31 -> ร้านสิชลคอมพิวเตอร์แอนด์เซอร์วิส | H31: - คุณสมบัติครบถ้วน | I31: ใบสั่งซื้อ เลขที่ CNTR-00032/65
F32: 52620 | G32: =+F32 -> 52620 | H32: - เสนอราคาไม่เกินวงเงิน | I32: ลว. 23 พ.ย. 64
H33: และงบประมาณ
A34: 10 | B34: ซื้อวัสดุและอุปกรณ์สำหรับโครงการเลือกตั้งสมาชิกสภาองค์การ | C34: 125546 | D34: 125546 | E34: เฉพาะเจาะจง | F34: ห้างหุ้นส่วนจำกัด ทำเนียบ กรุ๊ป | G34: =+F34 -> ห้างหุ้นส่วนจำกัด ทำเนียบ กรุ๊ป | H34: - คุณสมบัติครบถ้วน | I34: ใบสั่งซื้อ เลขที่ CNTR-00034/65
B35: บริหารส่วนตำบลและนายกองค์การบริหารส่วนตำบลฉลอง | F35: 125546 | G35: =+F35 -> 125546 | H35: - เสนอราคาไม่เกินวงเงิน | I35: ลว. 23 พ.ย. 64
H36: และงบประมาณ
A37: 11 | B37: ซื้อกระเบื้องสำหรับช่วยเหลือประชาชนที่ได้รับความเดือดร้อนจาก | C37: 4500 | D37: 4100 | E37: เฉพาะเจาะจง | F37: หจก.ปิยะภัณฑ์ (ก้าว) | G37: =+F37 -> หจก.ปิยะภัณฑ์ (ก้าว) | H37: - คุณสมบัติครบถ้วน | I37: ใบสั่งซื้อ เลขที่ CNTR-00035/65
B38: สาธารณภัย | F38: 4100 | G38: =+F38 -> 4100 | H38: - เสนอราคาไม่เกินวงเงิน | I38: ลว. 24 พ.ย. 64
H39: และงบประมาณ
A40: 12 | B40: จ้างทำป้ายคัทเอาท์และแบบพิมพ์สำหรับโครงการเลือกตั้งสมาชิกสภา | C40: 80000 | D40: 76458 | E40: เฉพาะเจาะจง | F40: ห้างหุ้นส่วนจำกัด ทำเนียบ กรุ๊ป | G40: =+F40 -> ห้างหุ้นส่วนจำกัด ทำเนียบ กรุ๊ป | H40: - คุณสมบัติครบถ้วน | I40: ใบสั่งจ้าง เลขที่ CNTR-00028/65
B41: องค์การบริหารส่วนตำบลและนายกองค์การบริหารส่วนตำบลฉลอง | F41: 76458 | G41: =+F41 -> 76458 | H41: - เสนอราคาไม่เกินวงเงิน | I41: ลว. 15 พ.ย. 64
H42: และงบประมาณ
A43: 13 | B43: จ้างเหมาเช่าเครื่องถ่ายเอกสาร จำนวน 1 เครื่อง | C43: 35000 | D43: 35000 | E43: เฉพาะเจาะจง | F43: ร้าน ซีเค ซัพพลาย โอ.เอ | G43: =+F43 -> ร้าน ซีเค ซัพพลาย โอ.เอ | H43: - คุณสมบัติครบถ้วน | I43: ใบสั่งจ้าง เลขที่ CNTR-00036/65
F44: 35000 | G44: =+F44 -> 35000 | H44: - เสนอราคาไม่เกินวงเงิน | I44: ลว. 30 พ.ย. 64
H45: และงบประมาณ

Sheet Sheet2
A1: งบหน้าสรุปผลการพิจารณาการจัดซื้อจัดจ้างขององค์การบริหารส่วนตำบลฉลอง
A2: ประจำเดือนพฤศจิกายน 2564
F4: รวมราคาที่พิจารณา | G4: วงเงินต่ำหรือสูง
A5: ลำดับที่ | B5: วิธีการจัดซื้อจัดจ้าง | C5: จำนวนโครงการ | D5: รวมวงเงินที่จัดซื้อจัดจ้าง | E5: รวมราคากลาง | F5: คัดเลือก | G5: กว่าราคากลาง | H5: หมายเหตุ
G6: (+ สูง) (-ต่ำกว่า)
A7: 1 | B7: จัดซื้อโดยวิธีประกาศเชิญชวนทั่วไป | C7: - | D7: - | E7: =+D7 -> - | F7: =+D7 -> - | G7: -
A8: 2 | B8: จัดจ้างโดยวิธีประกาศเชิญชวนทั่วไป | C8: - | D8: - | E8: =+D8 -> - | F8: =+D8 -> - | G8: -
A9: 3 | B9: จัดซื้อโดยวิธีการคัดเลือก | C9: - | D9: - | E9: - | F9: - | G9: -
A10: 4 | B10: จัดจ้างโดยวิธีการคัดเลือก | C10: - | D10: - | E10: - | F10: - | G10: -
A11: 5 | B11: จัดซื้อโดยวิธีเฉพาะเจาะจง | C11: 11 | D11: =+Sheet1!C7+Sheet1!C10+Sheet1!C13+Sheet1!C16+Sheet1!C19+Sheet1!C22+Sheet1!C25+Sheet1!C28+Sheet1!C31+Sheet1!C34+Sheet1!C37 -> 402820.44 | E11: =+Sheet1!D7+Sheet1!D10+Sheet1!D13+Sheet1!D16+Sheet1!D19+Sheet1!D22+Sheet1!D25+Sheet1!D28+Sheet1!D31+Sheet1!D34+Sheet1!D37 -> 400124.44 | F11: =+Sheet1!G8+Sheet1!G11+Sheet1!G14+Sheet1!G17+Sheet1!G20+Sheet1!G23+Sheet1!G26+Sheet1!G29+Sheet1!G32+Sheet1!G35+Sheet1!G38 -> 400124.44 | G11: =+D11-E11 -> 2696
A12: 6 | B12: จัดจ้างโดยวิธีเฉพาะเจาะจง | C12: 2 | D12: =+Sheet1!C40+Sheet1!C43 -> 115000 | E12: =+Sheet1!D40+Sheet1!D43 -> 111458 | F12: =+Sheet1!G41+Sheet1!G44 -> 111458 | G12: =+D12-E12 -> 3542
A13: 7 | B13: จัดซื้อโดยวิธีตลาดอิเล็กทรอนิกส์ | C13: - | D13: - | E13: =+D13 -> - | F13: =+E13 -> - | G13: -
A14: 8 | B14: จัดจ้างโดยวิธีตลาดอิเล็กทรอนิกส์ | C14: - | D14: - | E14: - | F14: - | G14: -
A15: 9 | B15: จัดซื้อโดยวิธีประกวดราคาอิเล็กทรอนิกส์ | C15: - | D15: - | E15: - | F15: - | G15: -
A16: 10 | B16: จัดจ้างโดยวิธีประกวดราคาอิเล็กทรอนิกส์ | C16: - | D16: - | E16: - | F16: - | G16: -
B17: ได้นำข้อมูลเกี่ยวกับการจัดซื้อจัดจ้างตามแบบ สขร.๑ ( ประจำเดือนพฤศจิกายน 2564)
B18: เผยแพร่ เมื่อวันที่ 2 ธันวาคม 2564 โดยวิธีปิดประกาศ และที่เว็บไซต์ www.chalong.go.th
B19: ไม่ได้นำข้อมูลเกี่ยวกับการจัดซื้อจัดจ้างตามแบบ สขร.๑ เผยแพร่ เหตุเพราะ ..........................................................................................
F21: (ลงชื่อ)..................................................ผู้รายงาน
F22: (นางสุมิตรา รักบำรุง)
F23: ปลัดองค์การบริหารส่วนตำบลฉลอง
