Workbook

Sheet Sheet1
A1: สรุปผลการดำเนินการจัดซื้อจัดจ้างในรอบเดือนกัยายน 2569
A2: องค์การบริหารส่วนตำบลฉลอง อำเภอสิชล จังหวัดนครศรีธรรมราช
A3: วันที่ 2 เดือน ตุลาคม พ.ศ. 2569
A4: ลำดับ | B4: งานที่จัดซื้อหรือจัดจ้าง | C4: วงเงินที่จะซื้อ | D4: ราคากลาง | E4: วิธีซื้อหรือจ้าง | F4: รายชื่อผู้เสนอราคา | G4: ผู้ได้รับการคัดเลือกและราคาที่ | H4: เหตุผลที่คัดเลือกโดยสรุป | I4: เลขที่และวันที่ของสัญญา
A5: ที่ | F5: และราคาที่เสนอ | G5: ตกลงซื้อหรือจ้าง | I5: หรือข้อตกลงในการซื้อ
C6: หรือจ้าง | I6: หรือจ้าง
A7: 1 | B7: ซื้อวัสดุไฟฟ้าและวิทยุ (ชุดไมโครโฟนไร้สายพร้อมเครื่องรับส่ง | C7: 27500 | D7: 27500 | E7: เฉพาะเจาะจง | F7: เมืองคอน อิเล็คทรอนิคส์ | G7: =+F7 -> เมืองคอน อิเล็คทรอนิคส์ | H7: - คุณสมบัติครบถ้วน | I7: ใบสั่งซื้อ เลขที่ CNTR-00151/69
B8: สัญญาณ) | F8: 27500 | G8: =+F8 -> 27500 | H8: - เสนอราคาไม่เกินวงเงิน | I8: ลว. 4 ก.ย.69
H9: และงบประมาณ
A10: 2 | B10: จ้างตรวจเช็คและซ่อมแซม/บำรุงรักษา รถตักหน้า-ขุดหลัง หมายเลข | C10: 156027.4 | D10: 156027.4 | E10: =+E7 -> เฉพาะเจาะจง | F10: บริษัท ทีเอสซี เอ็นจิเนียริ่ง แอนด์ เซอร์วิส จำกัด | G10: =+F10 -> บริษัท ทีเอสซี เอ็นจิเนียริ่ง แอนด์ เซอร์วิส จำกัด | H10: - คุณสมบัติครบถ้วน | I10: ใบสั่งจ้าง เลขที่ CNTR-00152/69
B11: ทะเบียน ตค 1867 นครศรีธรรมราช | F11: 156027.4 | G11: =+F11 -> 156027.4 | H11: - เสนอราคาไม่เกินวงเงิน | I11: ลว. 4 ก.ย. 69
H12: และงบประมาณ
A13: 3 | B13: ซื้อวัสดุไฟฟ้าและวิทยุ | C13: 5580 | D13: 5580 | E13: เฉพาะเจาะจง | F13: ร้านบูรพาเครื่องเขียน | G13: =+F13 -> ร้านบูรพาเครื่องเขียน | H13: - คุณสมบัติครบถ้วน | I13: ใบสั่งซื้อ เลขที่ CNTR-00153/69
F14: 5580 | G14: =+F14 -> 5580 | H14: - เสนอราคาไม่เกินวงเงิน | I14: ลว. 4 ก.ย.69
H15: และงบประมาณ
A16: 4 | B16: จ้างเครื่องจักร ขุด-ปรับ คันทางเดิมถนนพื้นที่เชิงลาด หมู่ที่ 5 | C16: 280000 | D16: 280000 | E16: เฉพาะเจาะจง | F16: นายภากร โชติชุติหิรัญ | G16: =+F16 -> นายภากร โชติชุติหิรัญ | H16: - คุณสมบัติครบถ้วน | I16: สัญญาจ้าง เลขที่ CNTR-00154/69
B17: ตำบลฉลอง | F17: 60070 | G17: =+F17 -> 60070 | H17: - เสนอราคาไม่เกินวงเงิน | I17: ลว. 8 ก.ย.69
H18: และงบประมาณ
A19: 5 | B19: ซื้อวัสดุก่อสร้าง จำนวน 2 รายการ | C19: 83600 | D19: 83600 | E19: เฉพาะเจาะจง | F19: นายฉัตรชัย ใจห้าว | G19: =+F19 -> นายฉัตรชัย ใจห้าว | H19: - คุณสมบัติครบถ้วน | I19: ใบสั่งซื้อ เลขที่ CNTR-00155/69
F20: 83600 | G20: =+F20 -> 83600 | H20: - เสนอราคาไม่เกินวงเงิน | I20: ลว. 8 ก.ย.69
H21: และงบประมาณ
A22: 6 | B22: ซื้อวัสดุก่อสร้างเพื่อซ่อมแซมระบบประปาหมู่บ้าน บ้านทุ่งนอก | C22: 16420 | D22: 16420 | E22: เฉพาะเจาะจง | F22: สิชลการไฟฟ้า | G22: =+F22 -> สิชลการไฟฟ้า | H22: - คุณสมบัติครบถ้วน | I22: ใบสั่งซื้อ เลขที่ CNTR-00156/69
B23: หมู่ที่ 6 ตำบลฉลอง | F23: 16420 | G23: =+F23 -> 16420 | H23: - เสนอราคาไม่เกินวงเงิน | I23: ลว. 8 ก.ย.69
H24: และงบประมาณ
A25: 7 | B25: จ้างโครงการก่อสร้างถนนคอนกรีตเสริมเหล็กสายเลียบคลองท่าน้อย | C25: 349000 | D25: 365716.99 | E25: เฉพาะเจาะจง | F25: ห้างหุ้นส่วนจำกัด ธงชัยทีทีการโยธา | G25: =+F25 -> ห้างหุ้นส่วนจำกัด ธงชัยทีทีการโยธา | H25: - คุณสมบัติครบถ้วน | I25: สัญญาจ้าง เลขที่ CNTR-00157/69
B26: หมู่ที่ 1 ตำบลฉลอง | F26: 348000 | G26: =+F26 -> 348000 | H26: - เสนอราคาไม่เกินวงเงิน | I26: ลว. 8 ก.ย.69
H27: และงบประมาณ
A28: 8 | B28: จัดซื้อรถบรรทุกเทท้าย ติดตั้งเครนไฮดรอลิกพร้อมกระเช้าไฟฟ้า ชนิด | C28: 3200000 | D28: 3000000 | E28: ประกวดราคา | F28: ห้างหุ้นส่วนจำกัด ส.สุระ ซัพพลาย | G28: =+F28 -> ห้างหุ้นส่วนจำกัด ส.สุระ ซัพพลาย | H28: - คุณสมบัติครบถ้วน | I28: สัญญาซื้อ เลขที่ CNTR-00158/69
B29: 6 ล้อ | E29: อิเล็กทรอนิกส์ | F29: 2984000 | G29: =+F29 -> 2984000 | H29: - เสนอราคาไม่เกินวงเงิน | I29: ลว. 9 ก.ย.69
H30: และงบประมาณ
A31: 9 | B31: ซื้อวัสดุก่อสร้าง จำนวน 4 รายการ | C31: 42500 | D31: 42500 | E31: เฉพาะเจาะจง | F31: ห้างหุ้นส่วนจำกัด ปิยะภัณฑ์ (ก้าว) | G31: =+F31 -> ห้างหุ้นส่วนจำกัด ปิยะภัณฑ์ (ก้าว) | H31: - คุณสมบัติครบถ้วน | I31: ใบสั่งซื้อ เลขที่ CNTR-00159/69
F32: 42500 | G32: =+F32 -> 42500 | H32: - เสนอราคาไม่เกินวงเงิน | I32: ลว. 9 ก.ย.69
H33: และงบประมาณ
A34: 10 | B34: ซื้อวัสดุก่อสร้าง ท่อระบายน้ำคอนกรีตเสริมเหล็ก จำนวน 2 รายการ | C34: 21844 | D34: 21844 | E34: เฉพาะเจาะจง | F34: บริษัท จิตติพันธ์ คอนกรีต จำกัด | G34: =+F34 -> บริษัท จิตติพันธ์ คอนกรีต จำกัด | H34: - คุณสมบัติครบถ้วน | I34: ใบสั่งซื้อ เลขที่ CNTR-00160/69
F35: 21844 | G35: =+F35 -> 21844 | H35: - เสนอราคาไม่เกินวงเงิน | I35: ลว. 10 ก.ย.69
H36: และงบประมาณ
A37: 11 | B37: จ้างโครงการก่อสร้างถนนคอนกรีตเสริมเหล็กสายศาลา - | C37: 349000 | D37: 365716.99 | E37: เฉพาะเจาะจง | F37: ห้างหุ้นส่วนจำกัด เพชรสว่างเมือง | G37: =+F37 -> ห้างหุ้นส่วนจำกัด เพชรสว่างเมือง | H37: - คุณสมบัติครบถ้วน | I37: สัญญาจ้าง เลขที่ CNTR-00161/69
B38: คลองแกลบ หมู่ที่ 2 ตำบลฉลอง | F38: 348000 | G38: =+F38 -> 348000 | H38: - เสนอราคาไม่เกินวงเงิน | I38: ลว. 11 ก.ย.69
H39: และงบประมาณ
A40: 12 | B40: ซื้อวัสดุสำนักงาน สำนักปลัด จำนวน 14 รายการ | C40: 19930 | D40: 19930 | E40: เฉพาะเจาะจง | F40: ร้านบูรพาเครื่องเขียน | G40: =+F40 -> ร้านบูรพาเครื่องเขียน | H40: - คุณสมบัติครบถ้วน | I40: ใบสั่งซื้อ ลขที่ CNTR-00162/69
F41: 19930 | G41: =+F41 -> 19930 | H41: - เสนอราคาไม่เกินวงเงิน | I41: ลว. 14 ก.ย.69
H42: และงบประมาณ
A43: 13 | B43: ซื้อวัสดุงานบ้านงานครัว สำนักปลัด จำนวน 8 รายการ | C43: 7785 | D43: 7785 | E43: เฉพาะเจาะจง | F43: ร้านบูรพาเครื่องเขียน | G43: =+F43 -> ร้านบูรพาเครื่องเขียน | H43: - คุณสมบัติครบถ้วน | I43: ใบสั่งซื้อ เลขที่ CNTR-00163/69
F44: 7785 | G44: =+F44 -> 7785 | H44: - เสนอราคาไม่เกินวงเงิน | I44: ลว. 14 ก.ย.69
H45: และงบประมาณ
A46: 14 | B46: ซื้อวัสดุสำนักงาน กองช่าง จำนวน 12 รายการ | C46: 9233 | D46: 9233 | E46: เฉพาะเจาะจง | F46: ร้านบูรพาเครื่องเขียน | G46: =+F46 -> ร้านบูรพาเครื่องเขียน | H46: - คุณสมบัติครบถ้วน | I46: ใบสั่งซื้อ เลขที่ CNTR-00164/69
F47: 9233 | G47: =+F47 -> 9233 | H47: - เสนอราคาไม่เกินวงเงิน | I47: ลว. 14 ก.ย.69
H48: และงบประมาณ
A49: 15 | B49: ซื้อวัสดุก่อสร้าง กองช่าง จำนวน 23 รายการ | C49: 42948 | D49: 42948 | E49: เฉพาะเจาะจง | F49: สิชลการไฟฟ้า | G49: =+F49 -> สิชลการไฟฟ้า | H49: - คุณสมบัติครบถ้วน | I49: ใบสั่งซื้อ เลขที่ CNTR-00165/69
F50: 42948 | G50: =+F50 -> 42948 | H50: - เสนอราคาไม่เกินวงเงิน | I50: ลว. 14 ก.ย.69
H51: และงบประมาณ
A52: 16 | B52: ซื้อวัสดุก่อสร้าง (สี) สำนักปลัด (ศพด.อบต.ฉลอง) จำนวน 5 รายการ | C52: 4937 | D52: 4937 | E52: เฉพาะเจาะจง | F52: ห้างหุ้นส่วนจำกัด ปิยะภัณฑ์ (ก้าว) | G52: =+F52 -> ห้างหุ้นส่วนจำกัด ปิยะภัณฑ์ (ก้าว) | H52: - คุณสมบัติครบถ้วน | I52: ใบสั่งซื้อ เลขที่ CNTR-00166/69
F53: 4937 | G53: =+F53 -> 4937 | H53: - เสนอราคาไม่เกินวงเงิน | I53: ลว. 15 ก.ย.69
H54: และงบประมาณ
A55: 17 | B55: จ้างรถโดยสารปรับอากาศไม่ประจำทาง จำนวน 1 คัน สำหรับโครง | C55: 30000 | D55: 30000 | E55: เฉพาะเจาะจง | F55: หน่องทัวร์ ตรัง โดย นายสุเมศ ยังอุ่น | G55: =+F55 -> หน่องทัวร์ ตรัง โดย นายสุเมศ ยังอุ่น | H55: - คุณสมบัติครบถ้วน | I55: ใบสั่งจ้าง เลขที่ CNTR-00167/69
B56: การเพิ่มประสิทธิภาพบุคลากรขององค์การบริหารส่วนตำบลฉลอง | F56: 30000 | G56: =+F56 -> 30000 | H56: - เสนอราคาไม่เกินวงเงิน | I56: ลว. 16 ก.ย.69
B57: ประจำปี พ.ศ. 2569 | H57: และงบประมาณ
A58: 18 | B58: ซื้อวัสดุไฟฟ่าพร้อมติดตั้ง ในพื้นที่ หมู่ที่ 2 หมู่ที่ 5 หมู่ที่ 10 และ | C58: 485000 | D58: 485000 | E58: เฉพาะเจาะจง | F58: บริษัท เอสทีจี กรุ๊ป 999 จำกัด | G58: =+F58 -> บริษัท เอสทีจี กรุ๊ป 999 จำกัด | H58: - คุณสมบัติครบถ้วน | I58: สัญญาซื้อ เลขที่ CNTR-00168/69
B59: หมู่ที่ 11 ตำบลฉลอง | F59: 484000 | G59: =+F59 -> 484000 | H59: - เสนอราคาไม่เกินวงเงิน | I59: ลว. 17 ก.ย.69
H60: และงบประมาณ
A61: 19 | B61: ซื้อวัสดุสำนักงานกองคลัง จำนวน 8 รายการ | C61: 12065 | D61: 12065 | E61: เฉพาะเจาะจง | F61: ร้านบูรพาเครื่องเขียน | G61: =+F61 -> ร้านบูรพาเครื่องเขียน | H61: - คุณสมบัติครบถ้วน | I61: ใบสั่งซื้อ เลขที่ CNTR-00169/69
F62: 12065 | G62: =+F62 -> 12065 | H62: - เสนอราคาไม่เกินวงเงิน | I62: ลว. 18 ก.ย.69
H63: และงบประมาณ
A64: 20 | B64: ซื้อชั้นวางของสำหรับใช้ในโครงการจัดตั้งศูนย์การเรียนรู้วัฒนธรรม | C64: 7950 | D64: 7950 | E64: เฉพาะเจาะจง | F64: ร้านบูรพาเครื่องเขียน | G64: =+F64 -> ร้านบูรพาเครื่องเขียน | H64: - คุณสมบัติครบถ้วน | I64: ใบสั่งซื้อ เลขที่ CNTR-00170/69
F65: 7950 | G65: =+F65 -> 7950 | H65: - เสนอราคาไม่เกินวงเงิน | I65: ลว. 18 ก.ย.69
H66: และงบประมาณ
A67: 21 | B67: จ้างจัดทำป้ายประชาสัมพันธ์สำหรับโครงการจัดตั้งศูนย์การเรียนรู้ | C67: 2500 | D67: 2500 | E67: เฉพาะเจาะจง | F67: สิชลโฆษณา | G67: =+F67 -> สิชลโฆษณา | H67: - คุณสมบัติครบถ้วน | I67: ใบสั่งจ้าง เลขที่ CNTR-00171/69
B68: วัฒนธรรม | F68: 2500 | G68: =+F68 -> 2500 | H68: - เสนอราคาไม่เกินวงเงิน | I68: ลว. 18 ก.ย.69
H69: และงบประมาณ
A70: 22 | B70: จ้างโครงการเสริมไหล่ทางกันน้ำเซาะคอนกรีต สายวัดเบิกและตลาด | C70: 83000 | D70: 83052.23 | E70: เฉพาะเจาะจง | F70: ห้างหุ้นส่วนจำกัด คงแก้ว ธุรกิจ | G70: =+F70 -> ห้างหุ้นส่วนจำกัด คงแก้ว ธุรกิจ | H70: - คุณสมบัติครบถ้วน | I70: สัญญาจ้าง เลขที่ CNTR-00172/69
B71: อังคาร - ตลาดอาทิตย์ หมู่ที่ 4 | F71: 83000 | G71: =+F71 -> 83000 | H71: - เสนอราคาไม่เกินวงเงิน | I71: ลว. 21 ก.ย.69
H72: และงบประมาณ
A73: 23 | B73: จ้างถ่ายเอกสาร,เย็บเล่มข้อบัญญัติงบประมาณรายจ่ายประจำปี | C73: 7935 | D73: 7935 | E73: เฉพาะเจาะจง | F73: สิชล ก๊อปปี้ | G73: =+F73 -> สิชล ก๊อปปี้ | H73: - คุณสมบัติครบถ้วน | I73: ใบสั่งจ้าง เลขที่ CNTR-00173/69
B74: งบประมาณ พ.ศ.๒๕๗๐ | F74: 7935 | G74: =+F74 -> 7935 | H74: - เสนอราคาไม่เกินวงเงิน | I74: ลว. 22 ก.ย.69
H75: และงบประมาณ
A76: 24 | B76: จ้างตรวจเช็คและซ่อมแซมเครื่องคอมพิวเตอร์ หมายเลขครุภัณฑ์ | C76: 7000 | D76: 7000 | E76: เฉพาะเจาะจง | F76: ซีคอมแอนด์เซอร์วิส | G76: =+F76 -> ซีคอมแอนด์เซอร์วิส | H76: - คุณสมบัติครบถ้วน | I76: ใบสั่งจ้าง เลขที่ CNTR-00174/69
B77: 416-61-0035 | F77: 7000 | G77: =+F77 -> 7000 | H77: - เสนอราคาไม่เกินวงเงิน | I77: ลว. 24 ก.ย.69
H78: และงบประมาณ
A79: 25 | B79: ซื้อวัสดุก่อสร้าง หินคลุก จำนวน 200 ลบ.ม. | C79: 100017.18 | D79: 100017.18 | E79: เฉพาะเจาะจง | F79: ห้างหุ้นส่วนจำกัด สุพัชร์ธิดาการโยธา | G79: =+F79 -> ห้างหุ้นส่วนจำกัด สุพัชร์ธิดาการโยธา | H79: - คุณสมบัติครบถ้วน | I79: ใบสั่งซื้อ เลขที่ CNTR-00175/69
F80: 100017.18 | G80: =+F80 -> 100017.18 | H80: - เสนอราคาไม่เกินวงเงิน | I80: ลว. 25 ก.ย.69
H81: และงบประมาณ
A82: 26 | B82: จ้างติดตั้งลูกระนาดชะลอความเร็วถนนสายวัดสระ - แยกสระเคียน | C82: 124000 | D82: 88331.26 | E82: เฉพาะเจาะจง | F82: บริษัท พีเอส 99 ดีเวลลอปเมนท์ จำกัด | G82: =+F82 -> บริษัท พีเอส 99 ดีเวลลอปเมนท์ จำกัด | H82: - คุณสมบัติครบถ้วน | I82: สัญญาจ้าง เลขที่ CNTR-00176/69
B83: (บริเวณหน้า รร.วัดสุธรรมาราม) หมู่ที่ 8 ตำบลฉลอง | F83: 88000 | G83: =+F83 -> 88000 | H83: - เสนอราคาไม่เกินวงเงิน | I83: ลว. 25 ก.ย.69
H84: และงบประมาณ

Sheet Sheet2
A1: งบหน้าสรุปผลการพิจารณาการจัดซื้อจัดจ้างขององค์การบริหารส่วนตำบลฉลอง
A2: ประจำเดือนกันยายน 2569
F4: รวมราคาที่พิจารณา | G4: วงเงินต่ำหรือสูง
A5: ลำดับที่ | B5: วิธีการจัดซื้อจัดจ้าง | C5: จำนวนโครงการ | D5: รวมวงเงินที่จัดซื้อจัดจ้าง | E5: รวมราคากลาง | F5: คัดเลือก | G5: กว่าราคากลาง | H5: หมายเหตุ
G6: (+ สูง) (-ต่ำกว่า)
A7: 1 | B7: จัดซื้อโดยวิธีประกาศเชิญชวนทั่วไป | C7: - | D7: - | E7: =+D7 -> - | F7: =+D7 -> - | G7: -
A8: 2 | B8: จัดจ้างโดยวิธีประกาศเชิญชวนทั่วไป | C8: - | D8: - | E8: =+D8 -> - | F8: =+D8 -> - | G8: -
A9: 3 | B9: จัดซื้อโดยวิธีการคัดเลือก | C9: - | D9: - | E9: - | F9: - | G9: -
A10: 4 | B10: จัดจ้างโดยวิธีการคัดเลือก | C10: - | D10: - | E10: - | F10: - | G10: -
A11: 5 | B11: จัดซื้อโดยวิธีเฉพาะเจาะจง | C11: 15 | D11: =+Sheet1!C7+Sheet1!C13+Sheet1!C19+Sheet1!C22+Sheet1!C31+Sheet1!C34+Sheet1!C40+Sheet1!C43+Sheet1!C46+Sheet1!C49+Sheet1!C52+Sheet1!C58+Sheet1!C61+Sheet1!C64+Sheet1!C79 -> 887309.18 | E11: =+Sheet1!D7+Sheet1!D13+Sheet1!D19+Sheet1!D22+Sheet1!D31+Sheet1!D34+Sheet1!D40+Sheet1!D43+Sheet1!D46+Sheet1!D49+Sheet1!D52+Sheet1!D58+Sheet1!D61+Sheet1!D64+Sheet1!D79 -> 887309.18 | F11: =+Sheet1!G8+Sheet1!G14+Sheet1!G20+Sheet1!G23+Sheet1!G32+Sheet1!G35+Sheet1!G41+Sheet1!G44+Sheet1!G47+Sheet1!G50+Sheet1!G53+Sheet1!G59+Sheet1!G62+Sheet1!G65+Sheet1!G80 -> 886309.18 | G11: -
A12: 6 | B12: จัดจ้างโดยวิธีเฉพาะเจาะจง | C12: 10 | D12: =+Sheet1!C10+Sheet1!C16+Sheet1!C25+Sheet1!C37+Sheet1!C55+Sheet1!C67+Sheet1!C70+Sheet1!C73+Sheet1!C76+Sheet1!C82 -> 1388462.4 | E12: =+Sheet1!D10+Sheet1!D16+Sheet1!D25+Sheet1!D37+Sheet1!D55+Sheet1!D67+Sheet1!D70+Sheet1!D73+Sheet1!D76+Sheet1!D82 -> 1386279.9 | F12: =+Sheet1!G11+Sheet1!G17+Sheet1!G26+Sheet1!G38+Sheet1!G56+Sheet1!G68+Sheet1!G71+Sheet1!G74+Sheet1!G77+Sheet1!G83 -> 1130532.4 | G12: =+D12-E12 -> 2182.53
A13: 7 | B13: จัดซื้อโดยวิธีตลาดอิเล็กทรอนิกส์ | C13: - | D13: - | E13: =+D13 -> - | F13: =+E13 -> - | G13: -
A14: 8 | B14: จัดจ้างโดยวิธีตลาดอิเล็กทรอนิกส์ | C14: - | D14: - | E14: =+D14 -> - | F14: =+E14 -> - | G14: -
A15: 9 | B15: จัดซื้อโดยวิธีประกวดราคาอิเล็กทรอนิกส์ | C15: 1 | D15: =+Sheet1!C28 -> 3200000 | E15: =+Sheet1!D28 -> 3000000 | F15: =+Sheet1!G29 -> 2984000 | G15: =+D15-E15 -> 200000
A16: 10 | B16: จัดจ้างโดยวิธีประกวดราคาอิเล็กทรอนิกส์ | C16: - | D16: - | E16: - | F16: - | G16: -
B17: ได้นำข้อมูลเกี่ยวกับการจัดซื้อจัดจ้างตามแบบ สขร.๑ ( ประจำเดือนกันยายน 2569)
B18: เผยแพร่ เมื่อวันที่ 2 ตุลาคม 2569 โดยวิธีปิดประกาศ และที่เว็บไซต์ www.chalong.go.th
B19: ไม่ได้นำข้อมูลเกี่ยวกับการจัดซื้อจัดจ้างตามแบบ สขร.๑ เผยแพร่ เหตุเพราะ ..........................................................................................
E21: (ลงชื่อ)..................................................ผู้รายงาน
E22: (นางสุมิตรา รักบำรุง)
E23: ปลัดองค์การบริหารส่วนตำบลฉลอง
